BEGIN:VCALENDAR
VERSION:2.0
PRODID:-//Norfolk Events - ECPv6.15.20//NONSGML v1.0//EN
CALSCALE:GREGORIAN
METHOD:PUBLISH
X-WR-CALNAME:Norfolk Events
X-ORIGINAL-URL:https://norfolkevents.uk
X-WR-CALDESC:Events for Norfolk Events
REFRESH-INTERVAL;VALUE=DURATION:PT1H
X-Robots-Tag:noindex
X-PUBLISHED-TTL:PT1H
BEGIN:VTIMEZONE
TZID:Europe/London
BEGIN:DAYLIGHT
TZOFFSETFROM:+0000
TZOFFSETTO:+0100
TZNAME:BST
DTSTART:20240331T010000
END:DAYLIGHT
BEGIN:STANDARD
TZOFFSETFROM:+0100
TZOFFSETTO:+0000
TZNAME:GMT
DTSTART:20241027T010000
END:STANDARD
BEGIN:DAYLIGHT
TZOFFSETFROM:+0000
TZOFFSETTO:+0100
TZNAME:BST
DTSTART:20250330T010000
END:DAYLIGHT
BEGIN:STANDARD
TZOFFSETFROM:+0100
TZOFFSETTO:+0000
TZNAME:GMT
DTSTART:20251026T010000
END:STANDARD
BEGIN:DAYLIGHT
TZOFFSETFROM:+0000
TZOFFSETTO:+0100
TZNAME:BST
DTSTART:20260329T010000
END:DAYLIGHT
BEGIN:STANDARD
TZOFFSETFROM:+0100
TZOFFSETTO:+0000
TZNAME:GMT
DTSTART:20261025T010000
END:STANDARD
END:VTIMEZONE
BEGIN:VEVENT
DTSTART;TZID=Europe/London:20251005T100000
DTEND;TZID=Europe/London:20251012T153000
DTSTAMP:20260419T215859
CREATED:20250918T183853Z
LAST-MODIFIED:20250918T183853Z
UID:10008972-1759658400-1760283000@norfolkevents.uk
SUMMARY:Rosie Haggas Autumn Studio Exhibition
DESCRIPTION:Rosie warmly invites you to her Autumn studio exhibition\, where she’ll be showcasing over 50 oil paintings. This is a wonderful opportunity to see her latest work in person and connect with the inspiration behind each piece.\nThe collection is deeply rooted in the beauty of the Norfolk coast\, alongside selected still life and plein air paintings from her travels throughout the year — all painted in her signature medium of oil.
URL:https://norfolkevents.uk/event/rosie-haggas-autumn-studio-exhibition/
LOCATION:Well Hall Studio\, Well Hall Studio\, Gayton\, Norfolk\, PE32 1QD\, United Kingdom
CATEGORIES:Art and exhibitions
ATTACH;FMTTYPE=image/png:https://norfolkevents.uk/wp-content/uploads/2025/09/IMG_9917-scaled.png
END:VEVENT
END:VCALENDAR