BEGIN:VCALENDAR
VERSION:2.0
PRODID:-//Norfolk Events - ECPv6.15.20//NONSGML v1.0//EN
CALSCALE:GREGORIAN
METHOD:PUBLISH
X-WR-CALNAME:Norfolk Events
X-ORIGINAL-URL:https://norfolkevents.uk
X-WR-CALDESC:Events for Norfolk Events
REFRESH-INTERVAL;VALUE=DURATION:PT1H
X-Robots-Tag:noindex
X-PUBLISHED-TTL:PT1H
BEGIN:VTIMEZONE
TZID:Europe/London
BEGIN:DAYLIGHT
TZOFFSETFROM:+0000
TZOFFSETTO:+0100
TZNAME:BST
DTSTART:20250330T010000
END:DAYLIGHT
BEGIN:STANDARD
TZOFFSETFROM:+0100
TZOFFSETTO:+0000
TZNAME:GMT
DTSTART:20251026T010000
END:STANDARD
BEGIN:DAYLIGHT
TZOFFSETFROM:+0000
TZOFFSETTO:+0100
TZNAME:BST
DTSTART:20260329T010000
END:DAYLIGHT
BEGIN:STANDARD
TZOFFSETFROM:+0100
TZOFFSETTO:+0000
TZNAME:GMT
DTSTART:20261025T010000
END:STANDARD
BEGIN:DAYLIGHT
TZOFFSETFROM:+0000
TZOFFSETTO:+0100
TZNAME:BST
DTSTART:20270328T010000
END:DAYLIGHT
BEGIN:STANDARD
TZOFFSETFROM:+0100
TZOFFSETTO:+0000
TZNAME:GMT
DTSTART:20271031T010000
END:STANDARD
END:VTIMEZONE
BEGIN:VEVENT
DTSTART;TZID=Europe/London:20260220T090000
DTEND;TZID=Europe/London:20260220T150000
DTSTAMP:20260421T132444
CREATED:20260107T205852Z
LAST-MODIFIED:20260215T214051Z
UID:10011312-1771578000-1771599600@norfolkevents.uk
SUMMARY:Norwich City Community Sports Foundation Soccer School
DESCRIPTION:School holiday football camps for 5 to 12-year-olds ⚽️\nOur Soccer Schools provide thousands of children with a fun-filled footballing experience in the school holidays every year. \nWe have Soccer Schools running at venues across Norfolk & Suffolk\, and whether participants are new to football\, or are already a budding Canary superstar\, our school holiday football camps have been put together to provide a fun\, holiday activity at an affordable price. \nOur Soccer Schools include:\nGames\, competitions and Norwich City-themed fun\nOutdoor & indoor spaces for all weather conditions\nCoaching from FA-qualified coaches\nOpportunities to be selected for Norwich City Community Sports Foundation football development programmes\nCourse certificates and the chance to meet Norwich City players (subject to training and fixture schedules) \nBringing a brother or sister along? Score 20% off one sibling’s booking fee at any of our Soccer Schools—because football’s even better when it runs in the family. Contact us on hello@norwichcitycsf.org.uk to receive your sibling discount code.
URL:https://norfolkevents.uk/event/norwich-city-community-sports-foundation-soccer-school/2026-02-20/
LOCATION:The Nest\, Holt Rd\, Horsford\, Norwich\, NR10 3AQ\, United Kingdom
CATEGORIES:Children,Community,Entertainment,Family,School Holidays,Sports,Wellbeing
ATTACH;FMTTYPE=image/jpeg:https://norfolkevents.uk/wp-content/uploads/2026/01/My-project-365x200-1.jpg
ORGANIZER;CN="Norwich City Community Sports Foundation":MAILTO:fundraising@norwichcitycsf.org.uk
END:VEVENT
BEGIN:VEVENT
DTSTART;TZID=Europe/London:20260219T090000
DTEND;TZID=Europe/London:20260219T150000
DTSTAMP:20260421T132444
CREATED:20260107T205852Z
LAST-MODIFIED:20260215T214051Z
UID:10011311-1771491600-1771513200@norfolkevents.uk
SUMMARY:Norwich City Community Sports Foundation Soccer School
DESCRIPTION:School holiday football camps for 5 to 12-year-olds ⚽️\nOur Soccer Schools provide thousands of children with a fun-filled footballing experience in the school holidays every year. \nWe have Soccer Schools running at venues across Norfolk & Suffolk\, and whether participants are new to football\, or are already a budding Canary superstar\, our school holiday football camps have been put together to provide a fun\, holiday activity at an affordable price. \nOur Soccer Schools include:\nGames\, competitions and Norwich City-themed fun\nOutdoor & indoor spaces for all weather conditions\nCoaching from FA-qualified coaches\nOpportunities to be selected for Norwich City Community Sports Foundation football development programmes\nCourse certificates and the chance to meet Norwich City players (subject to training and fixture schedules) \nBringing a brother or sister along? Score 20% off one sibling’s booking fee at any of our Soccer Schools—because football’s even better when it runs in the family. Contact us on hello@norwichcitycsf.org.uk to receive your sibling discount code.
URL:https://norfolkevents.uk/event/norwich-city-community-sports-foundation-soccer-school/2026-02-19/
LOCATION:The Nest\, Holt Rd\, Horsford\, Norwich\, NR10 3AQ\, United Kingdom
CATEGORIES:Children,Community,Entertainment,Family,School Holidays,Sports,Wellbeing
ATTACH;FMTTYPE=image/jpeg:https://norfolkevents.uk/wp-content/uploads/2026/01/My-project-365x200-1.jpg
ORGANIZER;CN="Norwich City Community Sports Foundation":MAILTO:fundraising@norwichcitycsf.org.uk
END:VEVENT
BEGIN:VEVENT
DTSTART;TZID=Europe/London:20260218T090000
DTEND;TZID=Europe/London:20260218T150000
DTSTAMP:20260421T132444
CREATED:20260107T205852Z
LAST-MODIFIED:20260215T214051Z
UID:10011310-1771405200-1771426800@norfolkevents.uk
SUMMARY:Norwich City Community Sports Foundation Soccer School
DESCRIPTION:School holiday football camps for 5 to 12-year-olds ⚽️\nOur Soccer Schools provide thousands of children with a fun-filled footballing experience in the school holidays every year. \nWe have Soccer Schools running at venues across Norfolk & Suffolk\, and whether participants are new to football\, or are already a budding Canary superstar\, our school holiday football camps have been put together to provide a fun\, holiday activity at an affordable price. \nOur Soccer Schools include:\nGames\, competitions and Norwich City-themed fun\nOutdoor & indoor spaces for all weather conditions\nCoaching from FA-qualified coaches\nOpportunities to be selected for Norwich City Community Sports Foundation football development programmes\nCourse certificates and the chance to meet Norwich City players (subject to training and fixture schedules) \nBringing a brother or sister along? Score 20% off one sibling’s booking fee at any of our Soccer Schools—because football’s even better when it runs in the family. Contact us on hello@norwichcitycsf.org.uk to receive your sibling discount code.
URL:https://norfolkevents.uk/event/norwich-city-community-sports-foundation-soccer-school/2026-02-18/
LOCATION:The Nest\, Holt Rd\, Horsford\, Norwich\, NR10 3AQ\, United Kingdom
CATEGORIES:Children,Community,Entertainment,Family,School Holidays,Sports,Wellbeing
ATTACH;FMTTYPE=image/jpeg:https://norfolkevents.uk/wp-content/uploads/2026/01/My-project-365x200-1.jpg
ORGANIZER;CN="Norwich City Community Sports Foundation":MAILTO:fundraising@norwichcitycsf.org.uk
END:VEVENT
BEGIN:VEVENT
DTSTART;TZID=Europe/London:20260217T090000
DTEND;TZID=Europe/London:20260217T150000
DTSTAMP:20260421T132444
CREATED:20260107T205852Z
LAST-MODIFIED:20260215T214051Z
UID:10011309-1771318800-1771340400@norfolkevents.uk
SUMMARY:Norwich City Community Sports Foundation Soccer School
DESCRIPTION:School holiday football camps for 5 to 12-year-olds ⚽️\nOur Soccer Schools provide thousands of children with a fun-filled footballing experience in the school holidays every year. \nWe have Soccer Schools running at venues across Norfolk & Suffolk\, and whether participants are new to football\, or are already a budding Canary superstar\, our school holiday football camps have been put together to provide a fun\, holiday activity at an affordable price. \nOur Soccer Schools include:\nGames\, competitions and Norwich City-themed fun\nOutdoor & indoor spaces for all weather conditions\nCoaching from FA-qualified coaches\nOpportunities to be selected for Norwich City Community Sports Foundation football development programmes\nCourse certificates and the chance to meet Norwich City players (subject to training and fixture schedules) \nBringing a brother or sister along? Score 20% off one sibling’s booking fee at any of our Soccer Schools—because football’s even better when it runs in the family. Contact us on hello@norwichcitycsf.org.uk to receive your sibling discount code.
URL:https://norfolkevents.uk/event/norwich-city-community-sports-foundation-soccer-school/2026-02-17/
LOCATION:The Nest\, Holt Rd\, Horsford\, Norwich\, NR10 3AQ\, United Kingdom
CATEGORIES:Children,Community,Entertainment,Family,School Holidays,Sports,Wellbeing
ATTACH;FMTTYPE=image/jpeg:https://norfolkevents.uk/wp-content/uploads/2026/01/My-project-365x200-1.jpg
ORGANIZER;CN="Norwich City Community Sports Foundation":MAILTO:fundraising@norwichcitycsf.org.uk
END:VEVENT
BEGIN:VEVENT
DTSTART;TZID=Europe/London:20260216T090000
DTEND;TZID=Europe/London:20260216T150000
DTSTAMP:20260421T132444
CREATED:20260107T205852Z
LAST-MODIFIED:20260215T214051Z
UID:10011308-1771232400-1771254000@norfolkevents.uk
SUMMARY:Norwich City Community Sports Foundation Soccer School
DESCRIPTION:School holiday football camps for 5 to 12-year-olds ⚽️\nOur Soccer Schools provide thousands of children with a fun-filled footballing experience in the school holidays every year. \nWe have Soccer Schools running at venues across Norfolk & Suffolk\, and whether participants are new to football\, or are already a budding Canary superstar\, our school holiday football camps have been put together to provide a fun\, holiday activity at an affordable price. \nOur Soccer Schools include:\nGames\, competitions and Norwich City-themed fun\nOutdoor & indoor spaces for all weather conditions\nCoaching from FA-qualified coaches\nOpportunities to be selected for Norwich City Community Sports Foundation football development programmes\nCourse certificates and the chance to meet Norwich City players (subject to training and fixture schedules) \nBringing a brother or sister along? Score 20% off one sibling’s booking fee at any of our Soccer Schools—because football’s even better when it runs in the family. Contact us on hello@norwichcitycsf.org.uk to receive your sibling discount code.
URL:https://norfolkevents.uk/event/norwich-city-community-sports-foundation-soccer-school/2026-02-16/
LOCATION:The Nest\, Holt Rd\, Horsford\, Norwich\, NR10 3AQ\, United Kingdom
CATEGORIES:Children,Community,Entertainment,Family,School Holidays,Sports,Wellbeing
ATTACH;FMTTYPE=image/jpeg:https://norfolkevents.uk/wp-content/uploads/2026/01/My-project-365x200-1.jpg
ORGANIZER;CN="Norwich City Community Sports Foundation":MAILTO:fundraising@norwichcitycsf.org.uk
END:VEVENT
END:VCALENDAR