BEGIN:VCALENDAR
VERSION:2.0
PRODID:-//Norfolk Events - ECPv6.15.20//NONSGML v1.0//EN
CALSCALE:GREGORIAN
METHOD:PUBLISH
X-ORIGINAL-URL:https://norfolkevents.uk
X-WR-CALDESC:Events for Norfolk Events
REFRESH-INTERVAL;VALUE=DURATION:PT1H
X-Robots-Tag:noindex
X-PUBLISHED-TTL:PT1H
BEGIN:VTIMEZONE
TZID:Europe/London
BEGIN:DAYLIGHT
TZOFFSETFROM:+0000
TZOFFSETTO:+0100
TZNAME:BST
DTSTART:20240331T010000
END:DAYLIGHT
BEGIN:STANDARD
TZOFFSETFROM:+0100
TZOFFSETTO:+0000
TZNAME:GMT
DTSTART:20241027T010000
END:STANDARD
BEGIN:DAYLIGHT
TZOFFSETFROM:+0000
TZOFFSETTO:+0100
TZNAME:BST
DTSTART:20250330T010000
END:DAYLIGHT
BEGIN:STANDARD
TZOFFSETFROM:+0100
TZOFFSETTO:+0000
TZNAME:GMT
DTSTART:20251026T010000
END:STANDARD
BEGIN:DAYLIGHT
TZOFFSETFROM:+0000
TZOFFSETTO:+0100
TZNAME:BST
DTSTART:20260329T010000
END:DAYLIGHT
BEGIN:STANDARD
TZOFFSETFROM:+0100
TZOFFSETTO:+0000
TZNAME:GMT
DTSTART:20261025T010000
END:STANDARD
END:VTIMEZONE
BEGIN:VEVENT
DTSTART;TZID=Europe/London:20250730T184000
DTEND;TZID=Europe/London:20250730T210000
DTSTAMP:20260424T203343
CREATED:20250426T204550Z
LAST-MODIFIED:20250426T204550Z
UID:10000299-1753900800-1753909200@norfolkevents.uk
SUMMARY:Run Snetterton 5k
DESCRIPTION:Good Running Events looks forward to welcoming runners of all abilities and ages to the iconic Norfolk Race Track\, to run a 10K or 5K around this fast\, flat tarmac course. \nTaking place on Wednesday 30th July 2025 and organised by Good Running Events\, Loop around the iconic Snetterton Race Track in this quick\, flat 5k & 10k. Perfect for runners of all stripes\, the course takes place on the tarmac roads of the race circuit and is ideal for a quick time. Come for a great atmosphere and this PB opportunity on a flat tarmac based course. \nDon’t miss it! Entries are now open!
URL:https://norfolkevents.uk/event/run-snetterton-5k/
LOCATION:Snetterton Circuit\, Snetterton Circuit\,\, Norwich\, Norfolk\,\, NR16 2JU
CATEGORIES:Sports
ATTACH;FMTTYPE=image/jpeg:https://norfolkevents.uk/wp-content/uploads/2025/03/run-snetterton-2023-427400.jpg
ORGANIZER;CN="Good Running Events":MAILTO:info@goodrunningevents.co.uk
END:VEVENT
BEGIN:VEVENT
DTSTART;TZID=Europe/London:20250730T183000
DTEND;TZID=Europe/London:20250730T210000
DTSTAMP:20260424T203343
CREATED:20250426T204550Z
LAST-MODIFIED:20250426T205946Z
UID:10000298-1753900200-1753909200@norfolkevents.uk
SUMMARY:Run Snetterton 10k
DESCRIPTION:Good Running Events looks forward to welcoming runners of all abilities and ages to the iconic Norfolk Race Track\, to run a 10K or 5K around this fast\, flat tarmac course. \nTaking place on Wednesday 30th July 2025 and organised by Good Running Events\, Loop around the iconic Snetterton Race Track in this quick\, flat 5k & 10k. Perfect for runners of all stripes\, the course takes place on the tarmac roads of the race circuit and is ideal for a quick time. Come for a great atmosphere and this PB opportunity on a flat tarmac based course.
URL:https://norfolkevents.uk/event/run-snetterton-10k/
LOCATION:Snetterton Circuit\, Snetterton Circuit\,\, Norwich\, Norfolk\,\, NR16 2JU
CATEGORIES:Sports
ATTACH;FMTTYPE=image/jpeg:https://norfolkevents.uk/wp-content/uploads/2025/04/run-snetterton-10k-5k.jpg
ORGANIZER;CN="Good Running Events":MAILTO:info@goodrunningevents.co.uk
END:VEVENT
END:VCALENDAR