BEGIN:VCALENDAR
VERSION:2.0
PRODID:-//Norfolk Events - ECPv6.15.20//NONSGML v1.0//EN
CALSCALE:GREGORIAN
METHOD:PUBLISH
X-ORIGINAL-URL:https://norfolkevents.uk
X-WR-CALDESC:Events for Norfolk Events
REFRESH-INTERVAL;VALUE=DURATION:PT1H
X-Robots-Tag:noindex
X-PUBLISHED-TTL:PT1H
BEGIN:VTIMEZONE
TZID:Europe/London
BEGIN:DAYLIGHT
TZOFFSETFROM:+0000
TZOFFSETTO:+0100
TZNAME:BST
DTSTART:20250330T010000
END:DAYLIGHT
BEGIN:STANDARD
TZOFFSETFROM:+0100
TZOFFSETTO:+0000
TZNAME:GMT
DTSTART:20251026T010000
END:STANDARD
BEGIN:DAYLIGHT
TZOFFSETFROM:+0000
TZOFFSETTO:+0100
TZNAME:BST
DTSTART:20260329T010000
END:DAYLIGHT
BEGIN:STANDARD
TZOFFSETFROM:+0100
TZOFFSETTO:+0000
TZNAME:GMT
DTSTART:20261025T010000
END:STANDARD
BEGIN:DAYLIGHT
TZOFFSETFROM:+0000
TZOFFSETTO:+0100
TZNAME:BST
DTSTART:20270328T010000
END:DAYLIGHT
BEGIN:STANDARD
TZOFFSETFROM:+0100
TZOFFSETTO:+0000
TZNAME:GMT
DTSTART:20271031T010000
END:STANDARD
END:VTIMEZONE
BEGIN:VEVENT
DTSTART;TZID=Europe/London:20260115T190000
DTEND;TZID=Europe/London:20260115T230000
DTSTAMP:20260419T214022
CREATED:20251230T211744Z
LAST-MODIFIED:20251230T211744Z
UID:10011303-1768503600-1768518000@norfolkevents.uk
SUMMARY:Musical Keys presents: MK Ensemble + Robyn Rocket + LEDLEY
DESCRIPTION:Join Norwich-based charity Musical Keys for an evening of boundary-breaking\, community-powered experimental music. \nMK Ensemble For the first time ever\, the MK Ensemble step on stage! Come and experience an evolving collective of artists exploring electroacoustic improvisation together. Fresh from recording for the Sainsbury Centre and London Fashion Week. \nRobyn Rocket Space trumpet hero = trumpet + pedals + pure imagination. Robyn’s improvisation is radical honesty in sound\, shaped by disability-led creativity and a mission to make music spaces truly welcoming for all. \nLEDLEY Sax & trombone duo Chris Williams & Raph Clarkson celebrate their debut album – a jazz suite woven from friendship\, football\, roots\, and the emotional landscape of North London. Think street-level jazz poetry\, match-day nostalgia\, and bold sonic storytelling.\nCome for the experimental energy\, stay for the community.  Improvisation\, inclusion\, and music made in the moment.
URL:https://norfolkevents.uk/event/musical-keys-presents-mk-ensemble-robyn-rocket-ledley/
LOCATION:Norwich Arts Centre\, 51 St Benedicts Street\, Norwich\, NR2 4PG
CATEGORIES:Music
ATTACH;FMTTYPE=image/png:https://norfolkevents.uk/wp-content/uploads/2025/12/Screen-Shot-2025-12-08-at-18.40.39.png
ORGANIZER;CN="Norwich Arts Centre":MAILTO:boxoffice@norwichartscentre.co.uk
END:VEVENT
END:VCALENDAR