BEGIN:VCALENDAR
VERSION:2.0
PRODID:-//Norfolk Events - ECPv6.15.20//NONSGML v1.0//EN
CALSCALE:GREGORIAN
METHOD:PUBLISH
X-WR-CALNAME:Norfolk Events
X-ORIGINAL-URL:https://norfolkevents.uk
X-WR-CALDESC:Events for Norfolk Events
REFRESH-INTERVAL;VALUE=DURATION:PT1H
X-Robots-Tag:noindex
X-PUBLISHED-TTL:PT1H
BEGIN:VTIMEZONE
TZID:Europe/London
BEGIN:DAYLIGHT
TZOFFSETFROM:+0000
TZOFFSETTO:+0100
TZNAME:BST
DTSTART:20240331T010000
END:DAYLIGHT
BEGIN:STANDARD
TZOFFSETFROM:+0100
TZOFFSETTO:+0000
TZNAME:GMT
DTSTART:20241027T010000
END:STANDARD
BEGIN:DAYLIGHT
TZOFFSETFROM:+0000
TZOFFSETTO:+0100
TZNAME:BST
DTSTART:20250330T010000
END:DAYLIGHT
BEGIN:STANDARD
TZOFFSETFROM:+0100
TZOFFSETTO:+0000
TZNAME:GMT
DTSTART:20251026T010000
END:STANDARD
BEGIN:DAYLIGHT
TZOFFSETFROM:+0000
TZOFFSETTO:+0100
TZNAME:BST
DTSTART:20260329T010000
END:DAYLIGHT
BEGIN:STANDARD
TZOFFSETFROM:+0100
TZOFFSETTO:+0000
TZNAME:GMT
DTSTART:20261025T010000
END:STANDARD
BEGIN:DAYLIGHT
TZOFFSETFROM:+0000
TZOFFSETTO:+0100
TZNAME:BST
DTSTART:20270328T010000
END:DAYLIGHT
BEGIN:STANDARD
TZOFFSETFROM:+0100
TZOFFSETTO:+0000
TZNAME:GMT
DTSTART:20271031T010000
END:STANDARD
END:VTIMEZONE
BEGIN:VEVENT
DTSTART;TZID=Europe/London:20251231T190000
DTEND;TZID=Europe/London:20260101T010000
DTSTAMP:20260422T105021
CREATED:20251218T152030Z
LAST-MODIFIED:20251220T215946Z
UID:10011299-1767207600-1767229200@norfolkevents.uk
SUMMARY:New Year's Eve
DESCRIPTION:Celebrate New Year’s Eve in style and join us for our Gala Ball. \nNEW YEAR’S EVE GALA BALL\n5 course tasting menu served in our Minstrel Suite followed by Band. 19:00 until 01:00.\n£150 per person. \nGALA BALL & ACCOMMODATION\n5 course tasting menu served in our Minstrel Suite followed by Band with overnight stay\nand extended breakfast on New Year’s Day.\nFrom £240 per person. \nGALA BALL & TWO NIGHTS ACCOMMODATION\n5 course tasting menu served in our Minstrel Suite followed by Band with two nights bed & breakfast\,\nNew Year’s Day walking tour and four course tasting menu.\nFrom £420 per person (both celebrations will also have access to our Casino room).\nSingle supplements apply to all New Year’s Eve stays. \nTo book please call us on 01603 272008 or email events@maidsheadhotel.co.uk \nFollow us on socials to keep up-to-date with all our events and stories.
URL:https://norfolkevents.uk/event/new-years-eve/
LOCATION:Maids Head Hotel\, Maids Head Hotel\, Norwich\, NR3 1LB\, United Kingdom
CATEGORIES:Christmas,New Year's Eve
ATTACH;FMTTYPE=image/jpeg:https://norfolkevents.uk/wp-content/uploads/2025/12/Maids-Head-Bentley-at-front-of-Hotel-at-Christmas-scaled.jpg
ORGANIZER;CN="Maids Head Hotel":MAILTO:events@maidsheadhotel.co.uk
END:VEVENT
BEGIN:VEVENT
DTSTART;TZID=Europe/London:20251222T140000
DTEND;TZID=Europe/London:20251222T160000
DTSTAMP:20260422T105021
CREATED:20250605T185809Z
LAST-MODIFIED:20251204T203055Z
UID:10002912-1766412000-1766419200@norfolkevents.uk
SUMMARY:Santa's Tea Party
DESCRIPTION:A festive treat for the whole family! Santa’s Tea Party includes children’s tea party with cake decorating and\nentertainment\, and gift from Santa. Tea or coffee for adults. \nJust £20 per child. One complimentary adult per child.\nAdditional adults £5 per person. \nTo book please call us on 01603 272008 or email events@maidsheadhotel.co.uk
URL:https://norfolkevents.uk/event/santas-tea-party/
LOCATION:Maids Head Hotel\, Maids Head Hotel\, Norwich\, NR3 1LB\, United Kingdom
CATEGORIES:Children,Christmas,Family
ATTACH;FMTTYPE=image/jpeg:https://norfolkevents.uk/wp-content/uploads/2025/06/Maids-Head-Hotel-072.jpg
ORGANIZER;CN="Maids Head Hotel":MAILTO:events@maidsheadhotel.co.uk
END:VEVENT
BEGIN:VEVENT
DTSTART;TZID=Europe/London:20251221T123000
DTEND;TZID=Europe/London:20251221T153000
DTSTAMP:20260422T105021
CREATED:20250605T185927Z
LAST-MODIFIED:20251204T164859Z
UID:10002916-1766320200-1766331000@norfolkevents.uk
SUMMARY:Traditional Choir Sunday Lunch
DESCRIPTION:Join us for a traditional choir Sunday lunch with the amazing Invidia Voices. The choir will welcome your arrival with singing carols before you sit down for a 3-course traditional Sunday lunch. During coffee the choir will return to sing more carols. \nJust £50 per person. \nTo book please call us on 01603 272008 or email events@maidsheadhotel.co.uk
URL:https://norfolkevents.uk/event/traditional-choir-sunday-lunch/2025-12-21/
LOCATION:Maids Head Hotel\, Maids Head Hotel\, Norwich\, NR3 1LB\, United Kingdom
CATEGORIES:Christmas
ATTACH;FMTTYPE=image/jpeg:https://norfolkevents.uk/wp-content/uploads/2025/06/2019-Candle.jpg
END:VEVENT
BEGIN:VEVENT
DTSTART;TZID=Europe/London:20251214T190000
DTEND;TZID=Europe/London:20251214T223000
DTSTAMP:20260422T105021
CREATED:20250605T185846Z
LAST-MODIFIED:20251204T161930Z
UID:10002914-1765738800-1765751400@norfolkevents.uk
SUMMARY:Special Festive Murder Mystery
DESCRIPTION:Join us for this special festive Murder Mystery Death on the Cards. Entertainment accompanied by a festive 3-course dinner. \nJust £55 per person. \nWhy not extend the evening and treat yourselves to an overnight stay! contact our reservation team to book your discounted room. \nSundays 7th and 14th December.
URL:https://norfolkevents.uk/event/special-festive-murder-mystery/2025-12-14/
LOCATION:Maids Head Hotel\, Maids Head Hotel\, Norwich\, NR3 1LB\, United Kingdom
CATEGORIES:Christmas
ATTACH;FMTTYPE=image/jpeg:https://norfolkevents.uk/wp-content/uploads/2025/06/VisitNorwich-at-front-of-hotel.jpg
END:VEVENT
BEGIN:VEVENT
DTSTART;TZID=Europe/London:20251214T123000
DTEND;TZID=Europe/London:20251214T153000
DTSTAMP:20260422T105021
CREATED:20250605T185927Z
LAST-MODIFIED:20251204T164859Z
UID:10002915-1765715400-1765726200@norfolkevents.uk
SUMMARY:Traditional Choir Sunday Lunch
DESCRIPTION:Join us for a traditional choir Sunday lunch with the amazing Invidia Voices. The choir will welcome your arrival with singing carols before you sit down for a 3-course traditional Sunday lunch. During coffee the choir will return to sing more carols. \nJust £50 per person. \nTo book please call us on 01603 272008 or email events@maidsheadhotel.co.uk
URL:https://norfolkevents.uk/event/traditional-choir-sunday-lunch/2025-12-14/
LOCATION:Maids Head Hotel\, Maids Head Hotel\, Norwich\, NR3 1LB\, United Kingdom
CATEGORIES:Christmas
ATTACH;FMTTYPE=image/jpeg:https://norfolkevents.uk/wp-content/uploads/2025/06/2019-Candle.jpg
END:VEVENT
BEGIN:VEVENT
DTSTART;TZID=Europe/London:20251214T080000
DTEND;TZID=Europe/London:20251214T170000
DTSTAMP:20260422T105021
CREATED:20250605T185457Z
LAST-MODIFIED:20251204T164141Z
UID:10002902-1765699200-1765731600@norfolkevents.uk
SUMMARY:Wreath Making
DESCRIPTION:Wreath Making with Hannah from Fern Flowers. Following a demonstration by experienced florist Hannah\, create your own unique wreath. \nSunday 7th December. Wreath Making event followed by 2 course Sunday Lunch.\n£85 per person.\nSunday 14th December. Wreath Making event with Prosecco and mince pies on arrival.\n£55 per person. \nTo book please call us on 01603 272008 or email events@maidsheadhotel.co.uk
URL:https://norfolkevents.uk/event/wreath-making-2/
LOCATION:Maids Head Hotel\, Maids Head Hotel\, Norwich\, NR3 1LB\, United Kingdom
CATEGORIES:Christmas
ATTACH;FMTTYPE=image/jpeg:https://norfolkevents.uk/wp-content/uploads/2025/06/Page-5-1-rotated.jpg
ORGANIZER;CN="Maids Head Hotel":MAILTO:events@maidsheadhotel.co.uk
END:VEVENT
BEGIN:VEVENT
DTSTART;TZID=Europe/London:20251207T190000
DTEND;TZID=Europe/London:20251207T223000
DTSTAMP:20260422T105021
CREATED:20250605T185846Z
LAST-MODIFIED:20251204T161930Z
UID:10002913-1765134000-1765146600@norfolkevents.uk
SUMMARY:Special Festive Murder Mystery
DESCRIPTION:Join us for this special festive Murder Mystery Death on the Cards. Entertainment accompanied by a festive 3-course dinner. \nJust £55 per person. \nWhy not extend the evening and treat yourselves to an overnight stay! contact our reservation team to book your discounted room. \nSundays 7th and 14th December.
URL:https://norfolkevents.uk/event/special-festive-murder-mystery/2025-12-07/
LOCATION:Maids Head Hotel\, Maids Head Hotel\, Norwich\, NR3 1LB\, United Kingdom
CATEGORIES:Christmas
ATTACH;FMTTYPE=image/jpeg:https://norfolkevents.uk/wp-content/uploads/2025/06/VisitNorwich-at-front-of-hotel.jpg
END:VEVENT
BEGIN:VEVENT
DTSTART;TZID=Europe/London:20251207T120000
DTEND;TZID=Europe/London:20251207T140000
DTSTAMP:20260422T105021
CREATED:20250605T185430Z
LAST-MODIFIED:20251204T161610Z
UID:10002901-1765108800-1765116000@norfolkevents.uk
SUMMARY:Wreath Making
DESCRIPTION:Wreath Making with Hannah from Fern Flowers. Following a demonstration by experienced florist Hannah\, create your own unique wreath. \nSunday 7th December. Wreath Making event followed by 2 course Sunday Lunch.\n£85 per person.\nSunday 14th December. Wreath Making event with Prosecco and mince pies on arrival.\n£55 per person. \nTo book please call us on 01603 272008 or email events@maidsheadhotel.co.uk
URL:https://norfolkevents.uk/event/wreath-making/
LOCATION:Maids Head Hotel\, Maids Head Hotel\, Norwich\, NR3 1LB\, United Kingdom
CATEGORIES:Christmas
ATTACH;FMTTYPE=image/jpeg:https://norfolkevents.uk/wp-content/uploads/2025/06/Page-5-rotated.jpg
ORGANIZER;CN="Maids Head Hotel":MAILTO:events@maidsheadhotel.co.uk
END:VEVENT
BEGIN:VEVENT
DTSTART;TZID=Europe/London:20251031T190000
DTEND;TZID=Europe/London:20251101T000000
DTSTAMP:20260422T105021
CREATED:20251014T195736Z
LAST-MODIFIED:20251014T195736Z
UID:10009833-1761937200-1761955200@norfolkevents.uk
SUMMARY:Halloween Party
DESCRIPTION:Fully embrace Halloween and party in the oldest hotel in the UK. Gather your friends and family\, dress up\, dance and dine with us. \nThe spooky party includes a buffet and dancing till midnight with our resident DJ. \nJust £45.00 per person \nTo book our Halloween Party please call 01603 272008 or email us events@maidsheadhotel.co.uk \nEnquire about extending your evening by booking an overnight stay\, special rates apply. \nTo keep up to date with our news and events follow us on our socials or sign up to our monthly newsletter.
URL:https://norfolkevents.uk/event/halloween-party/
LOCATION:Maids Head Hotel\, Maids Head Hotel\, Norwich\, NR3 1LB\, United Kingdom
CATEGORIES:Halloween
ATTACH;FMTTYPE=image/jpeg:https://norfolkevents.uk/wp-content/uploads/2025/10/Susans-picture-of-Hotel-in-BW-resized-e1756291776188.jpg
ORGANIZER;CN="Maids Head Hotel":MAILTO:events@maidsheadhotel.co.uk
END:VEVENT
BEGIN:VEVENT
DTSTART;TZID=Europe/London:20251024T190000
DTEND;TZID=Europe/London:20251024T223000
DTSTAMP:20260422T105021
CREATED:20250605T184303Z
LAST-MODIFIED:20250605T184303Z
UID:10002881-1761332400-1761345000@norfolkevents.uk
SUMMARY:Murder Mystery Dinner Halloween Special
DESCRIPTION:Join us for this highly popular Halloween Murder Mystery special. There will be entertainment from the Foul Players and a 3-course dinner. \nThe Ministry of Magic has a new Minister\, but he is unfortunately even more incompetent and corrupt than his predecessor and has employed ‘The Poisoner Of Azerbaijan’ to assist with the removal of his adversaries\, but who is the ‘Poisoner’ and who is  on the death list? \nJust £55.00 per person. \nTo book please call us on 01603 272008 or email us events@maidsheadhotel.co.uk
URL:https://norfolkevents.uk/event/murder-mystery-dinner-halloween-special/
LOCATION:Maids Head Hotel\, Maids Head Hotel\, Norwich\, NR3 1LB\, United Kingdom
CATEGORIES:Entertainment
ATTACH;FMTTYPE=image/jpeg:https://norfolkevents.uk/wp-content/uploads/2025/06/Maids-Head-with-blue-Bentley-credit-ETT-Photography-1.jpg
ORGANIZER;CN="Maids Head Hotel":MAILTO:events@maidsheadhotel.co.uk
END:VEVENT
BEGIN:VEVENT
DTSTART;TZID=Europe/London:20251003T190000
DTEND;TZID=Europe/London:20251003T210000
DTSTAMP:20260422T105021
CREATED:20250605T184245Z
LAST-MODIFIED:20250605T184245Z
UID:10002880-1759518000-1759525200@norfolkevents.uk
SUMMARY:Scotch and Graze with MacInnes Whisky
DESCRIPTION:Join the MacInnes team for this unique evening. Learn about single-malt Scotch and enjoy a few drams of their finest Whiskies\, accompanied by hearty sharing platters. \nJust £35.00 per person.
URL:https://norfolkevents.uk/event/scotch-and-graze-with-macinnes-whisky/
LOCATION:Maids Head Hotel\, Maids Head Hotel\, Norwich\, NR3 1LB\, United Kingdom
CATEGORIES:Food
ATTACH;FMTTYPE=image/jpeg:https://norfolkevents.uk/wp-content/uploads/2025/06/Maids-Head-with-blue-Bentley-credit-ETT-Photography.jpg
ORGANIZER;CN="Maids Head Hotel":MAILTO:events@maidsheadhotel.co.uk
END:VEVENT
BEGIN:VEVENT
DTSTART;TZID=Europe/London:20250905T190000
DTEND;TZID=Europe/London:20250905T223000
DTSTAMP:20260422T105021
CREATED:20250605T184227Z
LAST-MODIFIED:20250605T184227Z
UID:10002879-1757098800-1757111400@norfolkevents.uk
SUMMARY:Autumn Wine Tasting
DESCRIPTION:Join us for our Autumnal wine tasting evening. Each of our seasonal dishes will be expertly paired with wines presented by Halgartens. Gather your friends and family and enjoy a cosy Autumnal evening of great food and wine. \nJust £55 per person.
URL:https://norfolkevents.uk/event/autumn-wine-tasting/
LOCATION:Maids Head Hotel\, Maids Head Hotel\, Norwich\, NR3 1LB\, United Kingdom
CATEGORIES:Food
ATTACH;FMTTYPE=image/jpeg:https://norfolkevents.uk/wp-content/uploads/2025/06/Maids-Head-19-April-2023-017-scaled.jpg
ORGANIZER;CN="Maids Head Hotel":MAILTO:events@maidsheadhotel.co.uk
END:VEVENT
BEGIN:VEVENT
DTSTART;TZID=Europe/London:20250808T183000
DTEND;TZID=Europe/London:20250808T203000
DTSTAMP:20260422T105021
CREATED:20250605T184207Z
LAST-MODIFIED:20250605T184207Z
UID:10002878-1754677800-1754685000@norfolkevents.uk
SUMMARY:Black Tie Piano and Vocal Duo
DESCRIPTION:Join us for an evening of jazz\, swing\, pop\, show tunes and easy listening favourites with Black Tie Piano and Vocal Duo Gary & Kelly. \nJust £12 per person with the option of adding on a sharing platter for £12 per person. \nTo book call us on 01603 272008 or email events@maidsheadhotel.co.uk
URL:https://norfolkevents.uk/event/black-tie-piano-and-vocal-duo-2/
LOCATION:Maids Head Hotel\, Maids Head Hotel\, Norwich\, NR3 1LB\, United Kingdom
CATEGORIES:Entertainment
ATTACH;FMTTYPE=image/jpeg:https://norfolkevents.uk/wp-content/uploads/2025/06/Open-day-black-tie-scaled.jpg
ORGANIZER;CN="Maids Head Hotel":MAILTO:events@maidsheadhotel.co.uk
END:VEVENT
BEGIN:VEVENT
DTSTART;TZID=Europe/London:20250808T183000
DTEND;TZID=Europe/London:20250808T203000
DTSTAMP:20260422T105021
CREATED:20250523T104620Z
LAST-MODIFIED:20250523T104620Z
UID:10000710-1754677800-1754685000@norfolkevents.uk
SUMMARY:Black Tie Piano and Vocal Duo
DESCRIPTION:Join us for an evening of jazz\, swing\, pop\, show tunes and easy listening favourites with Black Tie Piano and Vocal Duo Gary & Kelly. \nJust £12 per person with the option of adding on a sharing platter for £12 per person. \nTo book call us on 01603 272008 or email events@maidsheadhotel.co.uk
URL:https://norfolkevents.uk/event/black-tie-piano-and-vocal-duo/
LOCATION:Maids Head Hotel\, Maids Head Hotel\, Norwich\, NR3 1LB\, United Kingdom
CATEGORIES:Food
ATTACH;FMTTYPE=image/jpeg:https://norfolkevents.uk/wp-content/uploads/2025/05/Courtyard-at-the-Maids-Head-Hotel-1-2-scaled.jpg
END:VEVENT
BEGIN:VEVENT
DTSTART;TZID=Europe/London:20250801T183000
DTEND;TZID=Europe/London:20250801T203000
DTSTAMP:20260422T105021
CREATED:20250605T184006Z
LAST-MODIFIED:20250605T184006Z
UID:10002875-1754073000-1754080200@norfolkevents.uk
SUMMARY:Toby Beers Craft Beer & Miniature Pies
DESCRIPTION:Toby’s Beers from the fabulous Norwich Market will be hosting a craft beer tasting event in our pretty courtyard. Grab your friends and enjoy a craft beer flight and miniature pies from our Chef to compliment the flavours. \nJust £25 per person. \nTo book call us on 01603 272008 or email events@maidsheadhotel.co.uk
URL:https://norfolkevents.uk/event/toby-beers-craft-beer-miniature-pies/
LOCATION:Maids Head Hotel\, Maids Head Hotel\, Norwich\, NR3 1LB\, United Kingdom
CATEGORIES:Food
ATTACH;FMTTYPE=image/jpeg:https://norfolkevents.uk/wp-content/uploads/2025/06/Maids-Head-Spring-Courtyard-1-1-scaled.jpg
END:VEVENT
BEGIN:VEVENT
DTSTART;TZID=Europe/London:20250801T183000
DTEND;TZID=Europe/London:20250801T203000
DTSTAMP:20260422T105021
CREATED:20250523T104602Z
LAST-MODIFIED:20250523T104602Z
UID:10000709-1754073000-1754080200@norfolkevents.uk
SUMMARY:Toby Beers
DESCRIPTION:Sir Toby’s Beers from the fabulous Norwich Market will be hosting a craft beer tasting event in our pretty courtyard. Grab your friends and enjoy a craft beer flight and miniature pies from our Chef to compliment the flavours. \nJust £25 per person. \nTo book call us on 01603 272008 or email events@maidsheadhotel.co.uk
URL:https://norfolkevents.uk/event/toby-beers/
LOCATION:Maids Head Hotel\, Maids Head Hotel\, Norwich\, NR3 1LB\, United Kingdom
CATEGORIES:Food
ATTACH;FMTTYPE=image/jpeg:https://norfolkevents.uk/wp-content/uploads/2025/05/Courtyard-at-the-Maids-Head-Hotel-1-1-scaled.jpg
END:VEVENT
BEGIN:VEVENT
DTSTART;TZID=Europe/London:20250731T183000
DTEND;TZID=Europe/London:20250731T203000
DTSTAMP:20260422T105021
CREATED:20250605T183944Z
LAST-MODIFIED:20250626T202853Z
UID:10002874-1753986600-1753993800@norfolkevents.uk
SUMMARY:Jazz in July
DESCRIPTION:Join us for an evening of Jazz with the talented Clifford & Francesca in our pretty Summer courtyard. \nTickets £12 per person with the option of adding on a sharing platter for £12 per person. \nTo book call us on 01603 272008 or email events@maidsheadhotel.co.uk \nFollow us on our socials to keep up to date with events and news.
URL:https://norfolkevents.uk/event/jazz-in-july-2/
LOCATION:Maids Head Hotel\, Maids Head Hotel\, Norwich\, NR3 1LB\, United Kingdom
CATEGORIES:Entertainment
ATTACH;FMTTYPE=image/jpeg:https://norfolkevents.uk/wp-content/uploads/2025/06/Jazz-in-June.jpg-Cropped.jpg
ORGANIZER;CN="Maids Head Hotel":MAILTO:events@maidsheadhotel.co.uk
END:VEVENT
BEGIN:VEVENT
DTSTART;TZID=Europe/London:20250731T183000
DTEND;TZID=Europe/London:20250731T203000
DTSTAMP:20260422T105021
CREATED:20250523T085745Z
LAST-MODIFIED:20250626T202950Z
UID:10000704-1753986600-1753993800@norfolkevents.uk
SUMMARY:Jazz in July
DESCRIPTION:The lovely Clifford & Francesca are back for another evening of Jazz this June. Enjoy a relaxed evening with friends listening to Jazz in our pretty courtyard. \nJazz in June – Ticket only £12 per person with the added option of a sharing platter for an additional £12 per person. \nTo book please call us on 01603 272008 or email events@maidsheadhotel.co.uk \nFor more information on our Courtyard events please follow us on our socials.
URL:https://norfolkevents.uk/event/jazz-in-july/
LOCATION:Maids Head Hotel\, Maids Head Hotel\, Norwich\, NR3 1LB\, United Kingdom
CATEGORIES:Music
ATTACH;FMTTYPE=image/jpeg:https://norfolkevents.uk/wp-content/uploads/2025/05/Jazz-in-June-scaled.jpg
ORGANIZER;CN="Maids Head Hotel":MAILTO:events@maidsheadhotel.co.uk
END:VEVENT
BEGIN:VEVENT
DTSTART;TZID=Europe/London:20250710T170000
DTEND;TZID=Europe/London:20250710T190000
DTSTAMP:20260422T105021
CREATED:20250527T162528Z
LAST-MODIFIED:20250527T162528Z
UID:10001537-1752166800-1752174000@norfolkevents.uk
SUMMARY:Networking and Drinks at The Maids Head Hotel in Norwich
DESCRIPTION:Join us this summer in the courtyard at The Maids Head Hotel in Norwich\, for casual drinks and networking.
URL:https://norfolkevents.uk/event/networking-and-drinks-at-the-maids-head-hotel-in-norwich/
LOCATION:Maids Head Hotel\, Maids Head Hotel\, Norwich\, NR3 1LB\, United Kingdom
CATEGORIES:Business,Charity/Fundraising
ATTACH;FMTTYPE=image/jpeg:https://norfolkevents.uk/wp-content/uploads/2025/05/Each-Business-Event.jpg
END:VEVENT
BEGIN:VEVENT
DTSTART;VALUE=DATE:20250630
DTEND;VALUE=DATE:20250702
DTSTAMP:20260422T105021
CREATED:20250605T183925Z
LAST-MODIFIED:20250605T183925Z
UID:10002873-1751256000-1751342399@norfolkevents.uk
SUMMARY:Wimbledon Fortnight & UEFA Women's Euro
DESCRIPTION:From Monday 30th June – Wimbledon Fortnight \nCome and watch in our courtyard where you can relax and enjoy a glass or jug of Pimm’s with strawberries & cream. Other food and drink will also be available to order. \nFrom Wednesday 2nd July will be showing the UEFA Women’s Euro \nCome and support the lionesses and watch England matches in our Courtyard. Food and drink will be available to order.
URL:https://norfolkevents.uk/event/wimbledon-fortnight-uefa-womens-euro/
LOCATION:Maids Head Hotel\, Maids Head Hotel\, Norwich\, NR3 1LB\, United Kingdom
CATEGORIES:Sports
ATTACH;FMTTYPE=image/jpeg:https://norfolkevents.uk/wp-content/uploads/2025/06/Maids-Head-Spring-Courtyard--scaled.jpg
END:VEVENT
BEGIN:VEVENT
DTSTART;TZID=Europe/London:20250621T120000
DTEND;TZID=Europe/London:20250621T160000
DTSTAMP:20260422T105022
CREATED:20250523T104540Z
LAST-MODIFIED:20250523T104540Z
UID:10000708-1750507200-1750521600@norfolkevents.uk
SUMMARY:Norwich Wine Week Bottomless Brunch
DESCRIPTION:Join us for this special event to celebrate Norwich Wine Week. Enjoy 1.5hrs of unlimited wine with a choice of a main from our Brunch menu in our pretty courtyard. \nJust £35 per person. \nTo book please call us on 01603 272008 or email events@maidsheadhotel.co.uk \nKeep up to date with all our events and follow us on Instagram and Facebook
URL:https://norfolkevents.uk/event/norwich-wine-week-bottomless-brunch/
LOCATION:Maids Head Hotel\, Maids Head Hotel\, Norwich\, NR3 1LB\, United Kingdom
CATEGORIES:Food
ATTACH;FMTTYPE=image/jpeg:https://norfolkevents.uk/wp-content/uploads/2025/05/Courtyard-at-the-Maids-Head-Hotel-1-scaled.jpg
END:VEVENT
BEGIN:VEVENT
DTSTART;TZID=Europe/London:20250620T190000
DTEND;TZID=Europe/London:20250620T220000
DTSTAMP:20260422T105022
CREATED:20250523T104520Z
LAST-MODIFIED:20250523T104520Z
UID:10000707-1750446000-1750456800@norfolkevents.uk
SUMMARY:Chet Valley Norwich Wine Week Tasting Event
DESCRIPTION:Celebrate Norwich Wine Week and join us for an evening of Wine Tasting Wine with Chet Valley Vineyard. Wines will be expertly paired with our Chefs butcher boards to accompany wines. \nThere will also be a quiz at the end of the evening! £35 per person. \nTo keep up to date with our events and news follow us on our socials.
URL:https://norfolkevents.uk/event/chet-valley-norwich-wine-week-tasting-event/
LOCATION:Maids Head Hotel\, Maids Head Hotel\, Norwich\, NR3 1LB\, United Kingdom
CATEGORIES:Food
ATTACH;FMTTYPE=image/jpeg:https://norfolkevents.uk/wp-content/uploads/2025/05/Chet-John-Hemment.jpg
ORGANIZER;CN="Maids Head Hotel":MAILTO:events@maidsheadhotel.co.uk
END:VEVENT
BEGIN:VEVENT
DTSTART;TZID=Europe/London:20250615T120000
DTEND;TZID=Europe/London:20250615T180000
DTSTAMP:20260422T105022
CREATED:20250523T104456Z
LAST-MODIFIED:20250523T104456Z
UID:10000706-1749988800-1750010400@norfolkevents.uk
SUMMARY:Father’s Day
DESCRIPTION:Come and enjoy our Street Food Sundays! We will be launching this exciting new menu on Sunday 15th June for Father’s Day. \nTo celebrate Father’s Day we will be offering Street Food and an Ale Flight (which includes 3 of our favourite ales from the Maids Head Bar). To make Dads day extra special book a complimentary spin in one of our Vintage Bentleys! \nJust £20 per person. \nTo book call us on 01603 272008 or email events@maidsheadhotel.co.uk
URL:https://norfolkevents.uk/event/fathers-day/
LOCATION:Maids Head Hotel\, Maids Head Hotel\, Norwich\, NR3 1LB\, United Kingdom
CATEGORIES:Food
ATTACH;FMTTYPE=image/jpeg:https://norfolkevents.uk/wp-content/uploads/2025/05/Ale-Flight-scaled.jpg
ORGANIZER;CN="Maids Head Hotel":MAILTO:events@maidsheadhotel.co.uk
END:VEVENT
BEGIN:VEVENT
DTSTART;TZID=Europe/London:20250603T070000
DTEND;TZID=Europe/London:20250603T093000
DTSTAMP:20260422T105022
CREATED:20250519T202343Z
LAST-MODIFIED:20250519T202343Z
UID:10000692-1748934000-1748943000@norfolkevents.uk
SUMMARY:NR Connected Networking Breakfast 3rd June 2025 at Maids Head Hotel
DESCRIPTION:Welcome to the NR Connected Business Breakfast Networking Event happening on Tuesday 3rd June 2025 at The Maids Head Hotel . Start your day with a delicious breakfast while making valuable connections with fellow business professionals. This in-person event is a great opportunity to expand your network and grow your business. Don’t miss out on this chance to kickstart your day with meaningful conversations and collaborations. See you there!\nSpeaker: Nick Vince – Unity SEO\nSecond Speaker: Colin Lang MBE – Thrive Autism
URL:https://norfolkevents.uk/event/nr-connected-networking-breakfast-3rd-june-2025-at-maids-head-hotel/
LOCATION:Maids Head Hotel\, Maids Head Hotel\, Norwich\, NR3 1LB\, United Kingdom
CATEGORIES:Business
ATTACH;FMTTYPE=image/jpeg:https://norfolkevents.uk/wp-content/uploads/2025/05/Maids-Head-NR-Connected-.jpg
ORGANIZER;CN="Tracey Watt":MAILTO:tracey@outofofficeevents.co.uk
END:VEVENT
BEGIN:VEVENT
DTSTART;TZID=Europe/London:20250523T114432
DTEND;TZID=Europe/London:20250523T114432
DTSTAMP:20260422T105022
CREATED:20250523T104432Z
LAST-MODIFIED:20250523T104432Z
UID:10000705-1748000672-1748000672@norfolkevents.uk
SUMMARY:Summer Wine Tasting Dinner
DESCRIPTION:Our Summer Wine Tasting Dinner is a chance for you to gather your friends and enjoy some delicious summer wines selected by our Wine Merchant Hallgartens. This event also includes a four course seasonal dinner paired with wines to complement. \nJust £55 per person. \nTo book please call us on 01603 272008 or email events@maidsheadhotel.co.uk
URL:https://norfolkevents.uk/event/summer-wine-tasting-dinner/
LOCATION:Maids Head Hotel\, Maids Head Hotel\, Norwich\, NR3 1LB\, United Kingdom
CATEGORIES:Food
ATTACH;FMTTYPE=image/jpeg:https://norfolkevents.uk/wp-content/uploads/2025/05/Maids-Head-19-April-2023-017-scaled.jpg
ORGANIZER;CN="Maids Head Hotel":MAILTO:events@maidsheadhotel.co.uk
END:VEVENT
END:VCALENDAR