BEGIN:VCALENDAR
VERSION:2.0
PRODID:-//Norfolk Events - ECPv6.15.20//NONSGML v1.0//EN
CALSCALE:GREGORIAN
METHOD:PUBLISH
X-WR-CALNAME:Norfolk Events
X-ORIGINAL-URL:https://norfolkevents.uk
X-WR-CALDESC:Events for Norfolk Events
REFRESH-INTERVAL;VALUE=DURATION:PT1H
X-Robots-Tag:noindex
X-PUBLISHED-TTL:PT1H
BEGIN:VTIMEZONE
TZID:Europe/London
BEGIN:DAYLIGHT
TZOFFSETFROM:+0000
TZOFFSETTO:+0100
TZNAME:BST
DTSTART:20240331T010000
END:DAYLIGHT
BEGIN:STANDARD
TZOFFSETFROM:+0100
TZOFFSETTO:+0000
TZNAME:GMT
DTSTART:20241027T010000
END:STANDARD
BEGIN:DAYLIGHT
TZOFFSETFROM:+0000
TZOFFSETTO:+0100
TZNAME:BST
DTSTART:20250330T010000
END:DAYLIGHT
BEGIN:STANDARD
TZOFFSETFROM:+0100
TZOFFSETTO:+0000
TZNAME:GMT
DTSTART:20251026T010000
END:STANDARD
BEGIN:DAYLIGHT
TZOFFSETFROM:+0000
TZOFFSETTO:+0100
TZNAME:BST
DTSTART:20260329T010000
END:DAYLIGHT
BEGIN:STANDARD
TZOFFSETFROM:+0100
TZOFFSETTO:+0000
TZNAME:GMT
DTSTART:20261025T010000
END:STANDARD
END:VTIMEZONE
BEGIN:VEVENT
DTSTART;TZID=Europe/London:20251030T100000
DTEND;TZID=Europe/London:20251030T160000
DTSTAMP:20260424T112436
CREATED:20250909T204120Z
LAST-MODIFIED:20250909T204120Z
UID:10008814-1761818400-1761840000@norfolkevents.uk
SUMMARY:Dinosaurs & Fossils Family Event
DESCRIPTION:Delve into the world of palaeontology as you discover how ancient fossils were made\, make fun dinosaur crafts to take home\, and explore the museum with a fun prehistoric trail. \nActivities run from 10am-12.30pm & 1.30-4pm. \nAdmission is free\, but booking is recommended.
URL:https://norfolkevents.uk/event/dinosaurs-fossils-family-event/
LOCATION:Lynn Museum\, Market Street\, King's Lynn\, PE30 1NL
CATEGORIES:Budget friendly,Children,Family,Heritage,School Holidays
ATTACH;FMTTYPE=image/jpeg:https://norfolkevents.uk/wp-content/uploads/2025/09/Dinosaurs-Fossils-Image.jpg
ORGANIZER;CN="Lynn Museum":MAILTO:lynn.museum@norfolk.gov.uk
END:VEVENT
BEGIN:VEVENT
DTSTART;TZID=Europe/London:20251016T103000
DTEND;TZID=Europe/London:20251016T113000
DTSTAMP:20260424T112436
CREATED:20250629T195404Z
LAST-MODIFIED:20250703T205207Z
UID:10004266-1760610600-1760614200@norfolkevents.uk
SUMMARY:Mini Museum Club – Space
DESCRIPTION:Once a month\, under 5s and their families are invited to explore Lynn Museum with a variety of activities\, trails\, songs\, games and stories. These sessions have a different theme each month\, and are specially designed for early years learning\, allowing young children the chance to explore the museum in their own way. In October explore the wonders of Space.\n50p per child\, accompanying adults free.\nBooking is recommended.
URL:https://norfolkevents.uk/event/mini-museum-club-space/
LOCATION:Lynn Museum\, Market Street\, King's Lynn\, PE30 1NL
CATEGORIES:Budget friendly,Children,Family,Heritage
ATTACH;FMTTYPE=image/jpeg:https://norfolkevents.uk/wp-content/uploads/2025/06/AutumnWinter-Promo-Small-2.jpg
ORGANIZER;CN="Lynn Museum":MAILTO:lynn.museum@norfolk.gov.uk
END:VEVENT
BEGIN:VEVENT
DTSTART;TZID=Europe/London:20251004T110000
DTEND;TZID=Europe/London:20251004T160000
DTSTAMP:20260424T112436
CREATED:20250724T195719Z
LAST-MODIFIED:20250724T195719Z
UID:10005320-1759575600-1759593600@norfolkevents.uk
SUMMARY:Finds Day at Lynn Museum
DESCRIPTION:Have you found something interesting like a metal object\, coin\, piece of pottery or flint? Bring it along to show us! The Finds Identification and Recording Service from Norfolk County Council will be at the Museum to take a look at your material and talk to you about recording. \nAdmission is free\, but booking is recommended. \nYour chosen booking slot lasts for 2 hours (11am-1pm or 2pm-4pm) and you are welcome to arrive at any time during the 2 hour period. Please note that the beginning of the time slots tend to busier.
URL:https://norfolkevents.uk/event/finds-day-at-lynn-museum/
LOCATION:Lynn Museum\, Market Street\, King's Lynn\, PE30 1NL
CATEGORIES:Budget friendly,Heritage
ATTACH;FMTTYPE=image/jpeg:https://norfolkevents.uk/wp-content/uploads/2025/07/Finds-Day-Image.jpg
ORGANIZER;CN="Lynn Museum":MAILTO:lynn.museum@norfolk.gov.uk
END:VEVENT
BEGIN:VEVENT
DTSTART;TZID=Europe/London:20251003T150000
DTEND;TZID=Europe/London:20251003T160000
DTSTAMP:20260424T112436
CREATED:20250909T204105Z
LAST-MODIFIED:20250909T204105Z
UID:10008813-1759503600-1759507200@norfolkevents.uk
SUMMARY:Talk & Book Signing - Hoards: Archaeological Treasures from West Norfolk
DESCRIPTION:Adrian Marsden is the Numismatist for Norfolk’s Historic Environment Service. This book is a summary of the Hoards: Archaeological Treasures from West Norfolk exhibition held at Lynn Museum in King’s Lynn from October 2022 to November 2023. It looks at each hoard in turn and discusses the reasons why a hoard might go into the ground in the first place\, and what they can tell us about the times in which they were buried. \n£2 per person\, free for Norfolk Museums Passholders. Booking is recommended as seating is limited. \nThis talk will include a book signing\, with copies of the book available to purchase on the day.
URL:https://norfolkevents.uk/event/talk-book-signing-hoards-archaeological-treasures-from-west-norfolk/
LOCATION:Lynn Museum\, Market Street\, King's Lynn\, PE30 1NL
CATEGORIES:Heritage,Talks
ATTACH;FMTTYPE=image/jpeg:https://norfolkevents.uk/wp-content/uploads/2025/09/Sedgeford-Hoard.jpg
ORGANIZER;CN="Lynn Museum":MAILTO:lynn.museum@norfolk.gov.uk
END:VEVENT
BEGIN:VEVENT
DTSTART;TZID=Europe/London:20250926T140000
DTEND;TZID=Europe/London:20250926T150000
DTSTAMP:20260424T112436
CREATED:20250629T195339Z
LAST-MODIFIED:20250703T204955Z
UID:10004265-1758895200-1758898800@norfolkevents.uk
SUMMARY:Afternoon Talk - Norwich Castle: Royal Palace Reborn – A Story 900 Years in the Making
DESCRIPTION:The transformation of Norwich Castle’s iconic Norman Keep is one of the largest UK heritage projects of recent years\, generously supported by the National Lottery Heritage Fund. It has enabled the rebuilding of the medieval floors and rooms so that visitors will be able to experience a Norman royal palace and its stories. The British Museum’s first medieval gallery outside of London brings treasures of international importance to Norwich and for the first time everyone will be able to explore all 5 levels of the Keep – from basement to battlements. Join Project Manager\, Hannah Jackson\, to explore the fascinating history of Norwich Castle and to find out more about how the team approached this complex redevelopment in a building that has been permanently occupied for over 900 years.\n£2 per person\, free for Norfolk Museums Passholders.\nBooking is recommended as seating is limited.
URL:https://norfolkevents.uk/event/afternoon-talk-norwich-castle-royal-palace-reborn-a-story-900-years-in-the-making/
LOCATION:Lynn Museum\, Market Street\, King's Lynn\, PE30 1NL
CATEGORIES:Heritage,Talks
ATTACH;FMTTYPE=image/jpeg:https://norfolkevents.uk/wp-content/uploads/2025/06/Great-Hall-recreated-space-vision-image-credit-Haley-Sharpe-Design-scaled.jpg
ORGANIZER;CN="Lynn Museum":MAILTO:lynn.museum@norfolk.gov.uk
END:VEVENT
BEGIN:VEVENT
DTSTART;TZID=Europe/London:20250926T103000
DTEND;TZID=Europe/London:20250926T113000
DTSTAMP:20260424T112436
CREATED:20250910T190112Z
LAST-MODIFIED:20250910T190112Z
UID:10008820-1758882600-1758886200@norfolkevents.uk
SUMMARY:Coffee Morning: Peg Dolls
DESCRIPTION:Join us for a relaxing hot drink\, cake and activity\, ranging from crafts to handling artefacts. Each monthly session will have a different activity. In September\, get involved with making traditional craft dolls using pegs and different fabrics.\nFree to attend. Booking is recommended as seating is limited.
URL:https://norfolkevents.uk/event/coffee-morning-peg-dolls/
LOCATION:Lynn Museum\, Market Street\, King's Lynn\, PE30 1NL
CATEGORIES:Budget friendly,Community,Food,Heritage,Wellbeing
ATTACH;FMTTYPE=image/jpeg:https://norfolkevents.uk/wp-content/uploads/2025/09/Coffee-Morning-2025-Image.jpeg
ORGANIZER;CN="Lynn Museum":MAILTO:lynn.museum@norfolk.gov.uk
END:VEVENT
BEGIN:VEVENT
DTSTART;TZID=Europe/London:20250918T103000
DTEND;TZID=Europe/London:20250918T113000
DTSTAMP:20260424T112436
CREATED:20250629T195242Z
LAST-MODIFIED:20250703T204919Z
UID:10004264-1758191400-1758195000@norfolkevents.uk
SUMMARY:Mini Museum Club – Dinosaurs
DESCRIPTION:Once a month\, under 5s and their families are invited to explore Lynn Museum with a variety of activities\, trails\, songs\, games and stories. These sessions have a different theme each month\, and are specially designed for early years learning\, allowing young children the chance to explore the museum in their own way. In September we will be revisiting everyone’s favourite prehistoric creatures – dinosaurs!\n50p per child\, accompanying adults free. Booking is recommended.
URL:https://norfolkevents.uk/event/mini-museum-club-dinosaurs/
LOCATION:Lynn Museum\, Market Street\, King's Lynn\, PE30 1NL
CATEGORIES:Budget friendly,Children,Family,Heritage
ATTACH;FMTTYPE=image/jpeg:https://norfolkevents.uk/wp-content/uploads/2025/06/AutumnWinter-Promo-Small-1.jpg
ORGANIZER;CN="Lynn Museum":MAILTO:lynn.museum@norfolk.gov.uk
END:VEVENT
BEGIN:VEVENT
DTSTART;TZID=Europe/London:20250914T100000
DTEND;TZID=Europe/London:20250914T160000
DTSTAMP:20260424T112436
CREATED:20250629T195154Z
LAST-MODIFIED:20250703T204847Z
UID:10004263-1757844000-1757865600@norfolkevents.uk
SUMMARY:Heritage Open Day at Lynn Museum
DESCRIPTION:Lynn Museum will be offering free admission for all visitors to celebrate Heritage Open Day on Sunday 14th September.\nA free trail will also be available to collect from reception\, allowing families to explore the museum with a fun challenge and a small prize for all children.
URL:https://norfolkevents.uk/event/heritage-open-day-at-lynn-museum/
LOCATION:Lynn Museum\, Market Street\, King's Lynn\, PE30 1NL
CATEGORIES:Budget friendly,Family,Festivals,Heritage
ATTACH;FMTTYPE=image/jpeg:https://norfolkevents.uk/wp-content/uploads/2025/06/Fairground-Display-Norfolk-Museums-Service-Lynn-Museum.jpg
ORGANIZER;CN="Lynn Museum":MAILTO:lynn.museum@norfolk.gov.uk
END:VEVENT
BEGIN:VEVENT
DTSTART;TZID=Europe/London:20250829T020000
DTEND;TZID=Europe/London:20250829T150000
DTSTAMP:20260424T112436
CREATED:20250629T195122Z
LAST-MODIFIED:20250703T204803Z
UID:10004262-1756432800-1756479600@norfolkevents.uk
SUMMARY:Afternoon Talk - A Walk in the Park
DESCRIPTION:King’s Lynn has a set of parks in its town centre generally described as The Walks\, a grade II listed park covering 17 hectares. However\, that description only refers to a section of what is collectively one of the largest town centre parks in the country. Hear more about how the parks came into being and the hidden secrets that lie within with Town Guide Gary Walker.\n£2 per person\, free for Norfolk Museums Passholders.\nBooking is recommended as seating is limited.
URL:https://norfolkevents.uk/event/afternoon-talk-a-walk-in-the-park/
LOCATION:Lynn Museum\, Market Street\, King's Lynn\, PE30 1NL
CATEGORIES:Heritage,Parks & Gardens,Talks
ATTACH;FMTTYPE=image/jpeg:https://norfolkevents.uk/wp-content/uploads/2025/06/The-Walks-Talk-Promo-Image.jpg
ORGANIZER;CN="Lynn Museum":MAILTO:lynn.museum@norfolk.gov.uk
END:VEVENT
BEGIN:VEVENT
DTSTART;TZID=Europe/London:20250828T100000
DTEND;TZID=Europe/London:20250828T160000
DTSTAMP:20260424T112436
CREATED:20250629T195049Z
LAST-MODIFIED:20250703T204721Z
UID:10004261-1756375200-1756396800@norfolkevents.uk
SUMMARY:Bronze Age Family Event
DESCRIPTION:Discover the secrets of Seahenge\, the Bronze Age timber circle from Holme beach. Learn about how people lived in the Bronze Age\, the tools they used\, and how the mysterious circle came to be.\nActivities run between 10am-12.30pm and 1.30-4pm\, with a break for lunch.\nBooking is recommended. Adults £3\, Children (4-18) £2\, Under 4s 50p.
URL:https://norfolkevents.uk/event/bronze-age-family-event/
LOCATION:Lynn Museum\, Market Street\, King's Lynn\, PE30 1NL
CATEGORIES:Children,Family,Heritage,School Holidays
ATTACH;FMTTYPE=image/jpeg:https://norfolkevents.uk/wp-content/uploads/2025/06/Bronze-Age-Event-28.08.25-scaled.jpg
ORGANIZER;CN="Lynn Museum":MAILTO:lynn.museum@norfolk.gov.uk
END:VEVENT
BEGIN:VEVENT
DTSTART;TZID=Europe/London:20250821T100000
DTEND;TZID=Europe/London:20250821T160000
DTSTAMP:20260424T112436
CREATED:20250629T195014Z
LAST-MODIFIED:20250703T204653Z
UID:10004260-1755770400-1755792000@norfolkevents.uk
SUMMARY:Medieval Lynn Family Event
DESCRIPTION:Travel back in time to the wealthy port town of Medieval Lynn as you meet costumed characters\, handle real artefacts\, and find out about the journeys people made.\nActivities run between 10am-12.30pm and 1.30-4pm\, with a break for lunch.\nBooking is recommended. Adults £3\, Children (4-18) £2\, Under 4s 50p.
URL:https://norfolkevents.uk/event/medieval-lynn-family-event/
LOCATION:Lynn Museum\, Market Street\, King's Lynn\, PE30 1NL
CATEGORIES:Children,Family,Heritage,School Holidays
ATTACH;FMTTYPE=image/jpeg:https://norfolkevents.uk/wp-content/uploads/2025/06/Medieval-Lynn-Event-21.08.25-scaled.jpg
ORGANIZER;CN="Lynn Museum":MAILTO:lynn.museum@norfolk.gov.uk
END:VEVENT
BEGIN:VEVENT
DTSTART;TZID=Europe/London:20250816T100000
DTEND;TZID=Europe/London:20250816T160000
DTSTAMP:20260424T112436
CREATED:20250629T194914Z
LAST-MODIFIED:20250703T204619Z
UID:10004259-1755338400-1755360000@norfolkevents.uk
SUMMARY:Star Wars Peg Doll Workshops
DESCRIPTION:Learn how to make your own Star Wars-themed peg doll in a 1-hour workshop and take home your creation! Workshops are designed for children aged 8 and over.\nPart of the ‘May The Toys Be With You’ exhibition programme. \nAvailable workshop slots:\n• 10-11am\n• 11.30am-12.30pm\n• 1-2pm\n• 3-4pm \n£5 per child\, accompanying adults free.\nAll children must be accompanied by a responsible adult. Younger siblings are welcome to attend but cannot participate in the workshop.
URL:https://norfolkevents.uk/event/star-wars-peg-doll-workshops/
LOCATION:Lynn Museum\, Market Street\, King's Lynn\, PE30 1NL
CATEGORIES:Children,Heritage
ATTACH;FMTTYPE=image/jpeg:https://norfolkevents.uk/wp-content/uploads/2025/06/Peg-Dolls-Image.jpg
ORGANIZER;CN="Lynn Museum":MAILTO:lynn.museum@norfolk.gov.uk
END:VEVENT
BEGIN:VEVENT
DTSTART;TZID=Europe/London:20250814T100000
DTEND;TZID=Europe/London:20250814T160000
DTSTAMP:20260424T112436
CREATED:20250629T194841Z
LAST-MODIFIED:20250703T204534Z
UID:10004258-1755165600-1755187200@norfolkevents.uk
SUMMARY:Victorians Family Event
DESCRIPTION:Find out about Victorian Norfolk as you handle real objects from the period and discover how Victorian people spent their time.\nActivities run between 10am-12.30pm and 1.30-4pm\, with a break for lunch.\nBooking is recommended. Adults £3\, Children (4-18) £2\, Under 4s 50p.
URL:https://norfolkevents.uk/event/victorians-family-event/
LOCATION:Lynn Museum\, Market Street\, King's Lynn\, PE30 1NL
CATEGORIES:Children,Family,Heritage,School Holidays
ATTACH;FMTTYPE=image/jpeg:https://norfolkevents.uk/wp-content/uploads/2025/06/Victorians-Event-14.08.25-scaled.jpg
ORGANIZER;CN="Lynn Museum":MAILTO:lynn.museum@norfolk.gov.uk
END:VEVENT
BEGIN:VEVENT
DTSTART;TZID=Europe/London:20250807T100000
DTEND;TZID=Europe/London:20250807T160000
DTSTAMP:20260424T112436
CREATED:20250629T194757Z
LAST-MODIFIED:20250703T204458Z
UID:10004257-1754560800-1754582400@norfolkevents.uk
SUMMARY:World War 2 Family Event
DESCRIPTION:Meet costumed characters\, try your hand at vintage crafts\, and discover what life was like for the residents of King’s Lynn as war comes to the Home Front.\nActivities run between 10am-12.30pm and 1.30-4pm\, with a break for lunch.\nBooking is recommended. Adults £3\, Children (4-18) £2\, Under 4s 50p.
URL:https://norfolkevents.uk/event/world-war-2-family-event/
LOCATION:Lynn Museum\, Market Street\, King's Lynn\, PE30 1NL
CATEGORIES:Children,Family,Heritage,School Holidays
ATTACH;FMTTYPE=image/jpeg:https://norfolkevents.uk/wp-content/uploads/2025/06/WW2-Event-07.08.25-scaled.jpg
ORGANIZER;CN="Lynn Museum":MAILTO:lynn.museum@norfolk.gov.uk
END:VEVENT
BEGIN:VEVENT
DTSTART;TZID=Europe/London:20250731T100000
DTEND;TZID=Europe/London:20250731T160000
DTSTAMP:20260424T112436
CREATED:20250629T194707Z
LAST-MODIFIED:20250703T204422Z
UID:10004256-1753956000-1753977600@norfolkevents.uk
SUMMARY:Star Wars Family Event
DESCRIPTION:To celebrate the arrival of May The Toys Be With You\, our new exhibition packed full of Star Wars memorabilia\, visitors are invited to our brand-new family event. Explore the displays and enjoy Star Wars-themed crafts\, plus take part in a fun family trail.\nActivities run between 10am-12.30pm and 1.30-4pm\, with a break for lunch.\nBooking is recommended. Adults £3\, Children (4-18) £2\, Participating under 4s 50p.
URL:https://norfolkevents.uk/event/star-wars-family-event/
LOCATION:Lynn Museum\, Market Street\, King's Lynn\, PE30 1NL
CATEGORIES:Children,Exhibitions,Family,Heritage,School Holidays
ATTACH;FMTTYPE=image/jpeg:https://norfolkevents.uk/wp-content/uploads/2025/06/Star-Wars-Event-31.07.25.jpg
ORGANIZER;CN="Lynn Museum":MAILTO:lynn.museum@norfolk.gov.uk
END:VEVENT
BEGIN:VEVENT
DTSTART;TZID=Europe/London:20250726T140000
DTEND;TZID=Europe/London:20250726T160000
DTSTAMP:20260424T112436
CREATED:20250629T194639Z
LAST-MODIFIED:20250703T204311Z
UID:10004255-1753538400-1753545600@norfolkevents.uk
SUMMARY:Ancient Egyptian Mummification Workshop (Adults)
DESCRIPTION:Join us for a workshop on the Ancient Egyptian art of mummification. Find out why mummification was done\, discover the ins and outs of the process\, and learn what we have discovered by studying mummies.\n£10 per person. Booking is required as seating is limited.
URL:https://norfolkevents.uk/event/ancient-egyptian-mummification-workshop-adults/
LOCATION:Lynn Museum\, Market Street\, King's Lynn\, PE30 1NL
CATEGORIES:Heritage
ATTACH;FMTTYPE=image/jpeg:https://norfolkevents.uk/wp-content/uploads/2025/06/Mummification-Workshop-Image-Adults-Only.jpeg.jpg
ORGANIZER;CN="Lynn Museum":MAILTO:lynn.museum@norfolk.gov.uk
END:VEVENT
BEGIN:VEVENT
DTSTART;TZID=Europe/London:20250726T100000
DTEND;TZID=Europe/London:20250726T113000
DTSTAMP:20260424T112436
CREATED:20250629T194610Z
LAST-MODIFIED:20250703T204218Z
UID:10004254-1753524000-1753529400@norfolkevents.uk
SUMMARY:Ancient Egyptian Mummification Workshop (Children Aged 6-12)
DESCRIPTION:Join us for a workshop on the Ancient Egyptian art of mummification. Find out why mummification was done\, discover the ins and outs of the process\, and try your hand at mini mummification.\n£5 per child\, accompanying adults free.\nBooking is required as seating is limited. All children must be accompanied by a responsible adult.
URL:https://norfolkevents.uk/event/ancient-egyptian-mummification-workshop-children-aged-6-12-2/
LOCATION:Lynn Museum\, Market Street\, King's Lynn\, PE30 1NL
CATEGORIES:Children,Heritage
ATTACH;FMTTYPE=image/jpeg:https://norfolkevents.uk/wp-content/uploads/2025/06/Mummification-Workshop-Image-Childrens-Only.jpeg-1.jpg
ORGANIZER;CN="Lynn Museum":MAILTO:lynn.museum@norfolk.gov.uk
END:VEVENT
BEGIN:VEVENT
DTSTART;TZID=Europe/London:20250725T140000
DTEND;TZID=Europe/London:20250725T150000
DTSTAMP:20260424T112436
CREATED:20250704T202812Z
LAST-MODIFIED:20250704T202812Z
UID:10004325-1753452000-1753455600@norfolkevents.uk
SUMMARY:Afternoon Talk - Building Droids and Props from the Star Wars Universe
DESCRIPTION:Guest Speaker Tom Powell of Norwich Droids will be discussing his experiences with 3D printing and assembling replica Star Wars droids and props. \nPart of the ‘May the Toys Be With You’ exhibition programme. Not affiliated with Disney/Star Wars/Lucas Films.
URL:https://norfolkevents.uk/event/afternoon-talk-building-droids-and-props-from-the-star-wars-universe/
LOCATION:Lynn Museum\, Market Street\, King's Lynn\, PE30 1NL
CATEGORIES:Heritage,Talks
ATTACH;FMTTYPE=image/jpeg:https://norfolkevents.uk/wp-content/uploads/2025/07/Making-Droids-Promo-Image.jpg
ORGANIZER;CN="Lynn Museum":MAILTO:lynn.museum@norfolk.gov.uk
END:VEVENT
BEGIN:VEVENT
DTSTART;TZID=Europe/London:20250725T100000
DTEND;TZID=Europe/London:20250725T120000
DTSTAMP:20260424T112436
CREATED:20250629T194536Z
LAST-MODIFIED:20250629T194536Z
UID:10004253-1753437600-1753444800@norfolkevents.uk
SUMMARY:Coffee Morning - Tin Can Droids
DESCRIPTION:Join us for a relaxing hot drink\, cake and activity\, ranging from crafts to handling artefacts. Each monthly session will have a different activity. In July\, we will be celebrating the launch of our new Star Wars-themed exhibition May The Toys Be With You and hosting a make-your-own droid craft session.\nCoffee Mornings are open to all and free to attend; includes museum admission. Booking is recommended as seating is limited.
URL:https://norfolkevents.uk/event/coffee-morning-tin-can-droids/
LOCATION:Lynn Museum\, Market Street\, King's Lynn\, PE30 1NL
CATEGORIES:Budget friendly,Community,Food,Heritage
ATTACH;FMTTYPE=image/jpeg:https://norfolkevents.uk/wp-content/uploads/2025/06/Coffee-Morning-2025-Image.jpeg
END:VEVENT
BEGIN:VEVENT
DTSTART;TZID=Europe/London:20250719T140000
DTEND;TZID=Europe/London:20250719T160000
DTSTAMP:20260424T112436
CREATED:20250629T194506Z
LAST-MODIFIED:20250703T204124Z
UID:10004252-1752933600-1752940800@norfolkevents.uk
SUMMARY:Ancient Egyptian Mummification Workshop (Young People Aged 13-17)
DESCRIPTION:Join us for a workshop on the Ancient Egyptian art of mummification. Find out why mummification was done\, discover the ins and outs of the process\, and try your hand at mini mummification.\n£10 per child\, accompanying adults free.\nBooking is required as seating is limited. All under 18s must be accompanied by a responsible adult.
URL:https://norfolkevents.uk/event/ancient-egyptian-mummification-workshop-young-people-aged-13-17/
LOCATION:Lynn Museum\, Market Street\, King's Lynn\, PE30 1NL
CATEGORIES:Children,Heritage
ATTACH;FMTTYPE=image/jpeg:https://norfolkevents.uk/wp-content/uploads/2025/06/Mummification-Workshop-Image-Teens-Only.jpg
ORGANIZER;CN="Lynn Museum":MAILTO:lynn.museum@norfolk.gov.uk
END:VEVENT
BEGIN:VEVENT
DTSTART;TZID=Europe/London:20250719T100000
DTEND;TZID=Europe/London:20250719T233000
DTSTAMP:20260424T112436
CREATED:20250629T194434Z
LAST-MODIFIED:20250703T204044Z
UID:10004251-1752919200-1752967800@norfolkevents.uk
SUMMARY:Ancient Egyptian Mummification Workshop (Children Aged 6-12)
DESCRIPTION:Join us for a workshop on the Ancient Egyptian art of mummification. Find out why mummification was done\, discover the ins and outs of the process\, and try your hand at mini mummification.\n£5 per child\, accompanying adults free.\nBooking is required as seating is limited. All children must be accompanied by a responsible adult.
URL:https://norfolkevents.uk/event/ancient-egyptian-mummification-workshop-children-aged-6-12/
LOCATION:Lynn Museum\, Market Street\, King's Lynn\, PE30 1NL
CATEGORIES:Children,Heritage
ATTACH;FMTTYPE=image/jpeg:https://norfolkevents.uk/wp-content/uploads/2025/06/Mummification-Workshop-Image-Childrens-Only.jpeg.jpg
ORGANIZER;CN="Lynn Museum":MAILTO:lynn.museum@norfolk.gov.uk
END:VEVENT
BEGIN:VEVENT
DTSTART;TZID=Europe/London:20250717T103000
DTEND;TZID=Europe/London:20250717T113000
DTSTAMP:20260424T112436
CREATED:20250629T194401Z
LAST-MODIFIED:20250703T204001Z
UID:10004250-1752748200-1752751800@norfolkevents.uk
SUMMARY:Mini Museum Club – Star Wars
DESCRIPTION:Once a month\, under 5s and their families are invited to explore Lynn Museum with a variety of activities\, trails\, songs\, games and stories. These sessions have a different theme each month\, and are specially designed for early years learning\, allowing young children the chance to explore the museum in their own way. In July\, join us for all things Star Wars\, as we celebrate the opening of our new exhibition\, May The Toys Be With You.\n50p per child\, accompanying adults free. Booking is recommended.
URL:https://norfolkevents.uk/event/mini-museum-club-star-wars/
LOCATION:Lynn Museum\, Market Street\, King's Lynn\, PE30 1NL
CATEGORIES:Budget friendly,Children,Family,Heritage
ATTACH;FMTTYPE=image/jpeg:https://norfolkevents.uk/wp-content/uploads/2025/06/AutumnWinter-Promo-Small.jpg
ORGANIZER;CN="Lynn Museum":MAILTO:lynn.museum@norfolk.gov.uk
END:VEVENT
END:VCALENDAR