BEGIN:VCALENDAR
VERSION:2.0
PRODID:-//Norfolk Events - ECPv6.15.20//NONSGML v1.0//EN
CALSCALE:GREGORIAN
METHOD:PUBLISH
X-ORIGINAL-URL:https://norfolkevents.uk
X-WR-CALDESC:Events for Norfolk Events
REFRESH-INTERVAL;VALUE=DURATION:PT1H
X-Robots-Tag:noindex
X-PUBLISHED-TTL:PT1H
BEGIN:VTIMEZONE
TZID:Europe/London
BEGIN:DAYLIGHT
TZOFFSETFROM:+0000
TZOFFSETTO:+0100
TZNAME:BST
DTSTART:20250330T010000
END:DAYLIGHT
BEGIN:STANDARD
TZOFFSETFROM:+0100
TZOFFSETTO:+0000
TZNAME:GMT
DTSTART:20251026T010000
END:STANDARD
BEGIN:DAYLIGHT
TZOFFSETFROM:+0000
TZOFFSETTO:+0100
TZNAME:BST
DTSTART:20260329T010000
END:DAYLIGHT
BEGIN:STANDARD
TZOFFSETFROM:+0100
TZOFFSETTO:+0000
TZNAME:GMT
DTSTART:20261025T010000
END:STANDARD
BEGIN:DAYLIGHT
TZOFFSETFROM:+0000
TZOFFSETTO:+0100
TZNAME:BST
DTSTART:20270328T010000
END:DAYLIGHT
BEGIN:STANDARD
TZOFFSETFROM:+0100
TZOFFSETTO:+0000
TZNAME:GMT
DTSTART:20271031T010000
END:STANDARD
END:VTIMEZONE
BEGIN:VEVENT
DTSTART;TZID=Europe/London:20260424T103000
DTEND;TZID=Europe/London:20260424T233000
DTSTAMP:20260420T105606
CREATED:20260320T232457Z
LAST-MODIFIED:20260320T232457Z
UID:10016400-1777026600-1777073400@norfolkevents.uk
SUMMARY:Coffee Morning: Tissue Paper Flowers
DESCRIPTION:Join us for a relaxing hot drink\, cake and activity\, ranging from crafts to handling artefacts. Each monthly session will have a different activity. In April\, create your own colourful floral creations for spring.\nCoffee Mornings are open to all and free to attend; includes museum admission. Booking is recommended as seating is limited.
URL:https://norfolkevents.uk/event/coffee-morning-tissue-paper-flowers/
LOCATION:Lynn Museum\, Market Street\, King's Lynn\, PE30 1NL
CATEGORIES:Budget friendly,Community,Food,Heritage
ATTACH;FMTTYPE=image/jpeg:https://norfolkevents.uk/wp-content/uploads/2026/03/Coffee-Morning-Image.jpeg
ORGANIZER;CN="Lynn Museum":MAILTO:lynn.museum@norfolk.gov.uk
END:VEVENT
BEGIN:VEVENT
DTSTART;TZID=Europe/London:20260424T140000
DTEND;TZID=Europe/London:20260424T150000
DTSTAMP:20260420T105606
CREATED:20260317T211427Z
LAST-MODIFIED:20260317T211427Z
UID:10016394-1777039200-1777042800@norfolkevents.uk
SUMMARY:Afternoon Talk - Mourning Manners
DESCRIPTION:Whether you were attending a happy or sad occasion\, Queen Victoria not only trail blazed the ways of weddings but also of funerals. Join Rebecca Smith (Great Yarmouth Museums) to delve into funeral etiquette including appropriate clothing\, how long to officially be in mourning and customs and traditions. Plus hear about funeral photography and what the symbols mean that can be found within memorials. \nAdults £2\, Norfolk Museums Passholders Free. Booking is required as seating is limited.
URL:https://norfolkevents.uk/event/afternoon-talk-mourning-manners/
LOCATION:Lynn Museum\, Market Street\, King's Lynn\, PE30 1NL
CATEGORIES:Heritage,Talks
ATTACH;FMTTYPE=image/jpeg:https://norfolkevents.uk/wp-content/uploads/2026/03/Mourning-Manners-Image.jpg
ORGANIZER;CN="Lynn Museum":MAILTO:lynn.museum@norfolk.gov.uk
END:VEVENT
BEGIN:VEVENT
DTSTART;TZID=Europe/London:20260429T100000
DTEND;TZID=Europe/London:20260429T143000
DTSTAMP:20260420T105606
CREATED:20260317T211658Z
LAST-MODIFIED:20260317T211658Z
UID:10016395-1777456800-1777473000@norfolkevents.uk
SUMMARY:Rampage through the Iron Age Home Education Workshop - FREE!
DESCRIPTION:An Iceni adventure through time\, with live theatre performance and hands-on history workshops. Spinning Wheel Theatre are offering this performance\, accompanied by hands-on activities delivered by Lynn Museum\, allowing children to explore areas of Iron Age life in a fun and practical way – and maybe even pick up an ancient hobby or two! \nThanks to support from the Heritage Lottery Fund we’re able to offer this opportunity to home-school networks completely FREE!\nThis workshop is aimed at 7 to 9 year olds but older children are welcome too. \nEach ticket admits one child and one accompanying adult.\nIf you would like to bring more than one accompanying adult please email lynn.museum@norfolk.gov.uk
URL:https://norfolkevents.uk/event/rampage-through-the-iron-age-home-education-workshop-free/
LOCATION:Lynn Museum\, Market Street\, King's Lynn\, PE30 1NL
CATEGORIES:Budget friendly,Children,Drama,Family,Heritage,School Holidays,Theatre,Workshops
ATTACH;FMTTYPE=image/jpeg:https://norfolkevents.uk/wp-content/uploads/2026/03/Spinning-Wheel-Image.jpg
ORGANIZER;CN="Lynn Museum":MAILTO:lynn.museum@norfolk.gov.uk
END:VEVENT
BEGIN:VEVENT
DTSTART;TZID=Europe/London:20260509T103000
DTEND;TZID=Europe/London:20260509T123000
DTSTAMP:20260420T105606
CREATED:20260227T192528Z
LAST-MODIFIED:20260227T192528Z
UID:10016287-1778322600-1778329800@norfolkevents.uk
SUMMARY:Pewter Pilgrims Workshop For Adults
DESCRIPTION:Join Lynn Museum’s Pewter Pilgrims workshop for adults! Spend the morning learning about the many pilgrimage souvenirs dropped into the River Great Ouse during the Medieval period and have a go at creating and casting your own pewter souvenirs. Then in the afternoon\, go on a Pilgrimage Walking Tour around King’s Lynn with a Town Guide.\n£10 per person\, booking is required as spaces are limited. Workshop includes museum admission.
URL:https://norfolkevents.uk/event/pewter-pilgrims-workshop-for-adults/
LOCATION:Lynn Museum\, Market Street\, King's Lynn\, PE30 1NL
CATEGORIES:Heritage,Tours,Workshops
ATTACH;FMTTYPE=image/jpeg:https://norfolkevents.uk/wp-content/uploads/2026/02/Pewter-Pilgrims-Image.jpeg
ORGANIZER;CN="Lynn Museum":MAILTO:lynn.museum@norfolk.gov.uk
END:VEVENT
BEGIN:VEVENT
DTSTART;TZID=Europe/London:20260521T103000
DTEND;TZID=Europe/London:20260521T113000
DTSTAMP:20260420T105606
CREATED:20260402T195318Z
LAST-MODIFIED:20260402T195318Z
UID:10016909-1779359400-1779363000@norfolkevents.uk
SUMMARY:Mini Museum Club: Travel
DESCRIPTION:Once a month\, under 5s and their families are invited to explore Lynn Museum with a variety of activities\, trails\, songs\, games and stories. \nThese sessions have a different theme each month\, and are specially designed for early years learning\, allowing young children the chance to explore the museum in their own way. \nIn May\, explore all the different ways you can travel\, from cars and trains to boats and planes. \n50p per child\, accompanying adults free. Booking is required.
URL:https://norfolkevents.uk/event/mini-museum-club-travel/
LOCATION:Lynn Museum\, Market Street\, King's Lynn\, PE30 1NL
CATEGORIES:Budget friendly,Children,Family,Heritage
ATTACH;FMTTYPE=image/jpeg:https://norfolkevents.uk/wp-content/uploads/2026/04/MM-Promo-Image-2.jpeg.jpg
ORGANIZER;CN="Lynn Museum":MAILTO:lynn.museum@norfolk.gov.uk
END:VEVENT
BEGIN:VEVENT
DTSTART;TZID=Europe/London:20260528T100000
DTEND;TZID=Europe/London:20260528T160000
DTSTAMP:20260420T105606
CREATED:20260407T201450Z
LAST-MODIFIED:20260407T201450Z
UID:10016915-1779962400-1779984000@norfolkevents.uk
SUMMARY:Games Through the Ages Family Event
DESCRIPTION:Can you master ancient knucklebones\, play Tudor skittles\, tackle Nine Men’s Morris\, and explore retro toys? Find out in Lynn Museum’s Games Through the Ages family event for all ages! \nBooking is recommended.
URL:https://norfolkevents.uk/event/games-through-the-ages-family-event/
LOCATION:Lynn Museum\, Market Street\, King's Lynn\, PE30 1NL
CATEGORIES:Children,Family,Heritage,School Holidays
ATTACH;FMTTYPE=image/jpeg:https://norfolkevents.uk/wp-content/uploads/2026/04/Games-Promo-Image.jpg
ORGANIZER;CN="Lynn Museum":MAILTO:lynn.museum@norfolk.gov.uk
END:VEVENT
BEGIN:VEVENT
DTSTART;TZID=Europe/London:20260529T103000
DTEND;TZID=Europe/London:20260529T113000
DTSTAMP:20260420T105606
CREATED:20260320T232620Z
LAST-MODIFIED:20260320T232620Z
UID:10016401-1780050600-1780054200@norfolkevents.uk
SUMMARY:Coffee Morning: Roman Mosaics
DESCRIPTION:Join us for a relaxing hot drink\, cake and activity\, ranging from crafts to handling artefacts. Each monthly session will have a different activity. Be inspired by the Roman mosaics in the Lynn Museum collection and create your own mini tile.\nCoffee Mornings are open to all and free to attend; includes museum admission. Booking is recommended as seating is limited.
URL:https://norfolkevents.uk/event/coffee-morning-roman-mosaics/
LOCATION:Lynn Museum\, Market Street\, King's Lynn\, PE30 1NL
CATEGORIES:Budget friendly,Community,Food,Heritage
ATTACH;FMTTYPE=image/jpeg:https://norfolkevents.uk/wp-content/uploads/2026/03/Coffee-Morning-Image-1.jpeg
ORGANIZER;CN="Lynn Museum":MAILTO:lynn.museum@norfolk.gov.uk
END:VEVENT
BEGIN:VEVENT
DTSTART;TZID=Europe/London:20260529T140000
DTEND;TZID=Europe/London:20260529T150000
DTSTAMP:20260420T105606
CREATED:20260320T232858Z
LAST-MODIFIED:20260320T232858Z
UID:10016403-1780063200-1780066800@norfolkevents.uk
SUMMARY:Afternoon Talk - Recent Roman Finds in Norfolk
DESCRIPTION:Alice Lyons will review what we know of Roman Norfolk and what recent discoveries have added to our understanding of the life on the edges of the Roman Empire.\n£2 per person\, free for Norfolk Museums Passholders.\nBooking is required as seating is limited.
URL:https://norfolkevents.uk/event/afternoon-talk-recent-roman-finds-in-norfolk/
LOCATION:Lynn Museum\, Market Street\, King's Lynn\, PE30 1NL
CATEGORIES:Heritage,Talks
ATTACH;FMTTYPE=image/jpeg:https://norfolkevents.uk/wp-content/uploads/2026/03/Roman-Finds-Talk-Image.jpg
ORGANIZER;CN="Lynn Museum":MAILTO:lynn.museum@norfolk.gov.uk
END:VEVENT
BEGIN:VEVENT
DTSTART;TZID=Europe/London:20260618T103000
DTEND;TZID=Europe/London:20260618T113000
DTSTAMP:20260420T105606
CREATED:20260402T195612Z
LAST-MODIFIED:20260402T195612Z
UID:10016910-1781778600-1781782200@norfolkevents.uk
SUMMARY:Mini Museum Club: Museum Makers
DESCRIPTION:Once a month\, under 5s and their families are invited to explore Lynn Museum with a variety of activities\, trails\, songs\, games and stories. \nThese sessions have a different theme each month\, and are specially designed for early years learning\, allowing young children the chance to explore the museum in their own way. \nBecome a Museum Maker\, and learn about all the different exciting jobs that happen in museums like ours. \n50p per child\, accompanying adults free. Booking is required.
URL:https://norfolkevents.uk/event/mini-museum-club-museum-makers/
LOCATION:Lynn Museum\, Market Street\, King's Lynn\, PE30 1NL
CATEGORIES:Budget friendly,Children,Family,Heritage
ATTACH;FMTTYPE=image/jpeg:https://norfolkevents.uk/wp-content/uploads/2026/04/MM-Promo-Image-2.jpeg-1.jpg
ORGANIZER;CN="Lynn Museum":MAILTO:lynn.museum@norfolk.gov.uk
END:VEVENT
BEGIN:VEVENT
DTSTART;TZID=Europe/London:20260626T103000
DTEND;TZID=Europe/London:20260626T113000
DTSTAMP:20260420T105606
CREATED:20260320T232730Z
LAST-MODIFIED:20260320T232730Z
UID:10016402-1782469800-1782473400@norfolkevents.uk
SUMMARY:Coffee Morning: Potato Stamping Craft
DESCRIPTION:Join us for a relaxing hot drink\, cake and activity\, ranging from crafts to handling artefacts. Each monthly session will have a different activity. Get creative with potato stamping\, inspired by traditional wallpaper designs.\nCoffee Mornings are open to all and free to attend; includes museum admission. Booking is recommended as seating is limited.
URL:https://norfolkevents.uk/event/coffee-morning-potato-stamping-craft/
LOCATION:Lynn Museum\, Market Street\, King's Lynn\, PE30 1NL
CATEGORIES:Budget friendly,Community,Family,Heritage
ATTACH;FMTTYPE=image/jpeg:https://norfolkevents.uk/wp-content/uploads/2026/03/Coffee-Morning-Image-2.jpeg
ORGANIZER;CN="Lynn Museum":MAILTO:lynn.museum@norfolk.gov.uk
END:VEVENT
BEGIN:VEVENT
DTSTART;TZID=Europe/London:20260626T140000
DTEND;TZID=Europe/London:20260626T150000
DTSTAMP:20260420T105606
CREATED:20260410T182921Z
LAST-MODIFIED:20260410T182921Z
UID:10016927-1782482400-1782486000@norfolkevents.uk
SUMMARY:Afternoon Talk - A Brief History of Dolls
DESCRIPTION:Dolls expert Olivia Bristol will be discussing the development of traditional dolls and toys from the 18th century to the modern day and reviewing what variations in design can tell us about the time in which they were made. \nBooking is recommended as seating is limited.
URL:https://norfolkevents.uk/event/afternoon-talk-a-brief-history-of-dolls/
LOCATION:Lynn Museum\, Market Street\, King's Lynn\, PE30 1NL
CATEGORIES:Heritage,Talks
ATTACH;FMTTYPE=image/jpeg:https://norfolkevents.uk/wp-content/uploads/2026/04/Pedlar-Doll.jpg
ORGANIZER;CN="Lynn Museum":MAILTO:lynn.museum@norfolk.gov.uk
END:VEVENT
BEGIN:VEVENT
DTSTART;TZID=Europe/London:20260716T103000
DTEND;TZID=Europe/London:20260716T113000
DTSTAMP:20260420T105606
CREATED:20260402T195659Z
LAST-MODIFIED:20260402T195659Z
UID:10016911-1784197800-1784201400@norfolkevents.uk
SUMMARY:Mini Museum Club: Summer at the Seaside
DESCRIPTION:Once a month\, under 5s and their families are invited to explore Lynn Museum with a variety of activities\, trails\, songs\, games and stories. \nThese sessions have a different theme each month\, and are specially designed for early years learning\, allowing young children the chance to explore the museum in their own way. \nIn July\, celebrate summer and discover all the excitement of the seaside. \n50p per child\, accompanying adults free. Booking is required.
URL:https://norfolkevents.uk/event/mini-museum-club-summer-at-the-seaside/
LOCATION:Lynn Museum\, Market Street\, King's Lynn\, PE30 1NL
CATEGORIES:Budget friendly,Children,Family,Heritage
ATTACH;FMTTYPE=image/jpeg:https://norfolkevents.uk/wp-content/uploads/2026/04/MM-Promo-Image-2.jpeg-2.jpg
ORGANIZER;CN="Lynn Museum":MAILTO:lynn.museum@norfolk.gov.uk
END:VEVENT
BEGIN:VEVENT
DTSTART;TZID=Europe/London:20260731T140000
DTEND;TZID=Europe/London:20260731T150000
DTSTAMP:20260420T105606
CREATED:20260410T183153Z
LAST-MODIFIED:20260410T183153Z
UID:10016928-1785506400-1785510000@norfolkevents.uk
SUMMARY:Afternoon Talk - The Town Walls and King's Lynn's Part in the English Civil War
DESCRIPTION:In the 17th century King’s Lynn was the most fortified town in the East. Its ramparts\, gates and earthworks stood against armies and time itself. Follow the line of the old defences and uncover the story of the 1643 siege — when King’s Lynn’s loyalty was tested\, its walls bombarded\, and its people caught between Crown and Parliament. Hear of how the geography of the town has changed\, hiding much of the original fortifications but also about where the surviving sections can still be seen. \nBooking is recommended as seating is limited.
URL:https://norfolkevents.uk/event/afternoon-talk-the-town-walls-and-kings-lynns-part-in-the-english-civil-war/
LOCATION:Lynn Museum\, Market Street\, King's Lynn\, PE30 1NL
CATEGORIES:Heritage,Talks
ATTACH;FMTTYPE=image/jpeg:https://norfolkevents.uk/wp-content/uploads/2026/04/Civil-War-Talk-Image_Small.jpg
ORGANIZER;CN="Lynn Museum":MAILTO:lynn.museum@norfolk.gov.uk
END:VEVENT
END:VCALENDAR