BEGIN:VCALENDAR
VERSION:2.0
PRODID:-//Norfolk Events - ECPv6.15.20//NONSGML v1.0//EN
CALSCALE:GREGORIAN
METHOD:PUBLISH
X-WR-CALNAME:Norfolk Events
X-ORIGINAL-URL:https://norfolkevents.uk
X-WR-CALDESC:Events for Norfolk Events
REFRESH-INTERVAL;VALUE=DURATION:PT1H
X-Robots-Tag:noindex
X-PUBLISHED-TTL:PT1H
BEGIN:VTIMEZONE
TZID:Europe/London
BEGIN:DAYLIGHT
TZOFFSETFROM:+0000
TZOFFSETTO:+0100
TZNAME:BST
DTSTART:20250330T010000
END:DAYLIGHT
BEGIN:STANDARD
TZOFFSETFROM:+0100
TZOFFSETTO:+0000
TZNAME:GMT
DTSTART:20251026T010000
END:STANDARD
BEGIN:DAYLIGHT
TZOFFSETFROM:+0000
TZOFFSETTO:+0100
TZNAME:BST
DTSTART:20260329T010000
END:DAYLIGHT
BEGIN:STANDARD
TZOFFSETFROM:+0100
TZOFFSETTO:+0000
TZNAME:GMT
DTSTART:20261025T010000
END:STANDARD
BEGIN:DAYLIGHT
TZOFFSETFROM:+0000
TZOFFSETTO:+0100
TZNAME:BST
DTSTART:20270328T010000
END:DAYLIGHT
BEGIN:STANDARD
TZOFFSETFROM:+0100
TZOFFSETTO:+0000
TZNAME:GMT
DTSTART:20271031T010000
END:STANDARD
END:VTIMEZONE
BEGIN:VEVENT
DTSTART;TZID=Europe/London:20260607T100000
DTEND;TZID=Europe/London:20260607T123000
DTSTAMP:20260420T021646
CREATED:20260407T201630Z
LAST-MODIFIED:20260407T201630Z
UID:10016916-1780826400-1780835400@norfolkevents.uk
SUMMARY:Norfolk and Waveney Mind Colour Run
DESCRIPTION:Join us for a family-friendly fun run with a difference. Walk\, jog\, or run through the stunning coastal landscape and rolling parkland of Holkham Estate getting covered in bright powdered paint! This event is suitable for people aged 6+ and for all abilities\, promising to be a highlight of the summer! \nBy joining us and raising funds\, you’re supporting vital mental health services in Norfolk and Waveney. Whether you take part in memory of a loved one\, supporting a cause close to your heart\, or just for fun\, your fundraising makes all the difference. \nEvent information\nDate: 7 June\nSign in: 10am – 10.45am\nStart time: 11am \nIndividual adult (17+) ticket: £20\nIndividual child (6 – 16) ticket: £10\nGroup ticket (5 adults): £90\nFamily ticket (2 adults and 2 children): £54 \nSuggested fundraising target: £50 per participant \nMoney raised from ticket sales helps us to put on these events\, but your incredible fundraising helps us have an even bigger impact for the people who need us most.
URL:https://norfolkevents.uk/event/norfolk-and-waveney-mind-colour-run/
LOCATION:Holkham Hall\, Holkham Hall\, Wells-next-the-Sea\, NR23 1AB
CATEGORIES:Charity/Fundraising,Children,Family,Wellbeing
ATTACH;FMTTYPE=image/png:https://norfolkevents.uk/wp-content/uploads/2026/04/Holkham-Web-Image-scaled.png
ORGANIZER;CN="Norfolk and Waveney Mind":MAILTO:events@norfolkandwaveneymind.org.uk
END:VEVENT
END:VCALENDAR