BEGIN:VCALENDAR
VERSION:2.0
PRODID:-//Norfolk Events - ECPv6.15.20//NONSGML v1.0//EN
CALSCALE:GREGORIAN
METHOD:PUBLISH
X-WR-CALNAME:Norfolk Events
X-ORIGINAL-URL:https://norfolkevents.uk
X-WR-CALDESC:Events for Norfolk Events
REFRESH-INTERVAL;VALUE=DURATION:PT1H
X-Robots-Tag:noindex
X-PUBLISHED-TTL:PT1H
BEGIN:VTIMEZONE
TZID:Europe/London
BEGIN:DAYLIGHT
TZOFFSETFROM:+0000
TZOFFSETTO:+0100
TZNAME:BST
DTSTART:20240331T010000
END:DAYLIGHT
BEGIN:STANDARD
TZOFFSETFROM:+0100
TZOFFSETTO:+0000
TZNAME:GMT
DTSTART:20241027T010000
END:STANDARD
BEGIN:DAYLIGHT
TZOFFSETFROM:+0000
TZOFFSETTO:+0100
TZNAME:BST
DTSTART:20250330T010000
END:DAYLIGHT
BEGIN:STANDARD
TZOFFSETFROM:+0100
TZOFFSETTO:+0000
TZNAME:GMT
DTSTART:20251026T010000
END:STANDARD
BEGIN:DAYLIGHT
TZOFFSETFROM:+0000
TZOFFSETTO:+0100
TZNAME:BST
DTSTART:20260329T010000
END:DAYLIGHT
BEGIN:STANDARD
TZOFFSETFROM:+0100
TZOFFSETTO:+0000
TZNAME:GMT
DTSTART:20261025T010000
END:STANDARD
END:VTIMEZONE
BEGIN:VEVENT
DTSTART;TZID=Europe/London:20251024T183000
DTEND;TZID=Europe/London:20251024T203000
DTSTAMP:20260420T105553
CREATED:20251014T193845Z
LAST-MODIFIED:20251014T193845Z
UID:10009830-1761330600-1761337800@norfolkevents.uk
SUMMARY:Halloween Monster Bash
DESCRIPTION:🎃 Halloween Monster Bash at High Altitude! 👻\nGet ready for a frightfully fun night at our Halloween Monster Bash! Join us on Friday 24th October from 6:30–8:30pm for a 2-hour spooktacular disco packed with eerie tunes\, spooky games\, and ghoulish surprises around every corner. \nThe park will be fully themed and decorated for the occasion — think lights\, and Halloween magic everywhere! 🕸️✨ \nYour ticket even includes a hot dog to keep your energy up for all that jumping\, dancing\, and monster mayhem! 🌭🧛‍♀️ \nCostumes are encouraged — the creepier\, the better!
URL:https://norfolkevents.uk/event/halloween-monster-bash/
LOCATION:High Altitude Trampoline Park\, 91 Whiffler Road\, Norwich\, NR3 2AW
CATEGORIES:Halloween
ATTACH;FMTTYPE=image/png:https://norfolkevents.uk/wp-content/uploads/2025/10/PNG_02_Social_Norwich.png
ORGANIZER;CN="High Altitude Trampoline Park":MAILTO:info@highaltitudepk.co.uk
END:VEVENT
END:VCALENDAR