BEGIN:VCALENDAR
VERSION:2.0
PRODID:-//Norfolk Events - ECPv6.15.20//NONSGML v1.0//EN
CALSCALE:GREGORIAN
METHOD:PUBLISH
X-WR-CALNAME:Norfolk Events
X-ORIGINAL-URL:https://norfolkevents.uk
X-WR-CALDESC:Events for Norfolk Events
REFRESH-INTERVAL;VALUE=DURATION:PT1H
X-Robots-Tag:noindex
X-PUBLISHED-TTL:PT1H
BEGIN:VTIMEZONE
TZID:Europe/London
BEGIN:DAYLIGHT
TZOFFSETFROM:+0000
TZOFFSETTO:+0100
TZNAME:BST
DTSTART:20250330T010000
END:DAYLIGHT
BEGIN:STANDARD
TZOFFSETFROM:+0100
TZOFFSETTO:+0000
TZNAME:GMT
DTSTART:20251026T010000
END:STANDARD
BEGIN:DAYLIGHT
TZOFFSETFROM:+0000
TZOFFSETTO:+0100
TZNAME:BST
DTSTART:20260329T010000
END:DAYLIGHT
BEGIN:STANDARD
TZOFFSETFROM:+0100
TZOFFSETTO:+0000
TZNAME:GMT
DTSTART:20261025T010000
END:STANDARD
BEGIN:DAYLIGHT
TZOFFSETFROM:+0000
TZOFFSETTO:+0100
TZNAME:BST
DTSTART:20270328T010000
END:DAYLIGHT
BEGIN:STANDARD
TZOFFSETFROM:+0100
TZOFFSETTO:+0000
TZNAME:GMT
DTSTART:20271031T010000
END:STANDARD
END:VTIMEZONE
BEGIN:VEVENT
DTSTART;TZID=Europe/London:20260201T100000
DTEND;TZID=Europe/London:20260201T160000
DTSTAMP:20260424T090051
CREATED:20260112T221520Z
LAST-MODIFIED:20260118T154650Z
UID:10012968-1769940000-1769961600@norfolkevents.uk
SUMMARY:The Space Between
DESCRIPTION:Art Exhibition\, ‘The Space Between’\, St Margaret’s Gallery\, St Benedict’s Street\, Norwich\, NR2 4TU\, showcases the work of four Norfolk based artists – Jo Bellamy\, Carl Durban\, Caroline Mayers and Elizabeth Maw. \nExhibition runs from 27 Jan to 1 Feb (10am-4pm) with an opening celebration on 27 Jan 6.30pm-8.30pm.
URL:https://norfolkevents.uk/event/the-space-between/2026-02-01/
LOCATION:St Margaret’s Gallery\, 2 St Margarets St\,\, Norwich\, NR2 4TU\, United Kingdom
CATEGORIES:Art and exhibitions
ATTACH;FMTTYPE=image/jpeg:https://norfolkevents.uk/wp-content/uploads/2026/01/The-Space-Between.jpg
END:VEVENT
BEGIN:VEVENT
DTSTART;TZID=Europe/London:20260131T080000
DTEND;TZID=Europe/London:20260131T160000
DTSTAMP:20260424T090051
CREATED:20260112T221520Z
LAST-MODIFIED:20260118T154650Z
UID:10012967-1769846400-1769875200@norfolkevents.uk
SUMMARY:The Space Between
DESCRIPTION:Art Exhibition\, ‘The Space Between’\, St Margaret’s Gallery\, St Benedict’s Street\, Norwich\, NR2 4TU\, showcases the work of four Norfolk based artists – Jo Bellamy\, Carl Durban\, Caroline Mayers and Elizabeth Maw. \nExhibition runs from 27 Jan to 1 Feb (10am-4pm) with an opening celebration on 27 Jan 6.30pm-8.30pm.
URL:https://norfolkevents.uk/event/the-space-between/2026-01-31/
LOCATION:St Margaret’s Gallery\, 2 St Margarets St\,\, Norwich\, NR2 4TU\, United Kingdom
CATEGORIES:Art and exhibitions
ATTACH;FMTTYPE=image/jpeg:https://norfolkevents.uk/wp-content/uploads/2026/01/The-Space-Between.jpg
END:VEVENT
BEGIN:VEVENT
DTSTART;TZID=Europe/London:20260130T100000
DTEND;TZID=Europe/London:20260130T160000
DTSTAMP:20260424T090051
CREATED:20260112T221520Z
LAST-MODIFIED:20260118T154650Z
UID:10012966-1769767200-1769788800@norfolkevents.uk
SUMMARY:The Space Between
DESCRIPTION:Art Exhibition\, ‘The Space Between’\, St Margaret’s Gallery\, St Benedict’s Street\, Norwich\, NR2 4TU\, showcases the work of four Norfolk based artists – Jo Bellamy\, Carl Durban\, Caroline Mayers and Elizabeth Maw. \nExhibition runs from 27 Jan to 1 Feb (10am-4pm) with an opening celebration on 27 Jan 6.30pm-8.30pm.
URL:https://norfolkevents.uk/event/the-space-between/2026-01-30/
LOCATION:St Margaret’s Gallery\, 2 St Margarets St\,\, Norwich\, NR2 4TU\, United Kingdom
CATEGORIES:Art and exhibitions
ATTACH;FMTTYPE=image/jpeg:https://norfolkevents.uk/wp-content/uploads/2026/01/The-Space-Between.jpg
END:VEVENT
BEGIN:VEVENT
DTSTART;TZID=Europe/London:20260129T100000
DTEND;TZID=Europe/London:20260129T160000
DTSTAMP:20260424T090051
CREATED:20260112T221520Z
LAST-MODIFIED:20260118T154650Z
UID:10012965-1769680800-1769702400@norfolkevents.uk
SUMMARY:The Space Between
DESCRIPTION:Art Exhibition\, ‘The Space Between’\, St Margaret’s Gallery\, St Benedict’s Street\, Norwich\, NR2 4TU\, showcases the work of four Norfolk based artists – Jo Bellamy\, Carl Durban\, Caroline Mayers and Elizabeth Maw. \nExhibition runs from 27 Jan to 1 Feb (10am-4pm) with an opening celebration on 27 Jan 6.30pm-8.30pm.
URL:https://norfolkevents.uk/event/the-space-between/2026-01-29/
LOCATION:St Margaret’s Gallery\, 2 St Margarets St\,\, Norwich\, NR2 4TU\, United Kingdom
CATEGORIES:Art and exhibitions
ATTACH;FMTTYPE=image/jpeg:https://norfolkevents.uk/wp-content/uploads/2026/01/The-Space-Between.jpg
END:VEVENT
BEGIN:VEVENT
DTSTART;TZID=Europe/London:20260128T100000
DTEND;TZID=Europe/London:20260128T160000
DTSTAMP:20260424T090051
CREATED:20260112T221520Z
LAST-MODIFIED:20260118T154650Z
UID:10012964-1769594400-1769616000@norfolkevents.uk
SUMMARY:The Space Between
DESCRIPTION:Art Exhibition\, ‘The Space Between’\, St Margaret’s Gallery\, St Benedict’s Street\, Norwich\, NR2 4TU\, showcases the work of four Norfolk based artists – Jo Bellamy\, Carl Durban\, Caroline Mayers and Elizabeth Maw. \nExhibition runs from 27 Jan to 1 Feb (10am-4pm) with an opening celebration on 27 Jan 6.30pm-8.30pm.
URL:https://norfolkevents.uk/event/the-space-between/2026-01-28/
LOCATION:St Margaret’s Gallery\, 2 St Margarets St\,\, Norwich\, NR2 4TU\, United Kingdom
CATEGORIES:Art and exhibitions
ATTACH;FMTTYPE=image/jpeg:https://norfolkevents.uk/wp-content/uploads/2026/01/The-Space-Between.jpg
END:VEVENT
BEGIN:VEVENT
DTSTART;TZID=Europe/London:20260127T100000
DTEND;TZID=Europe/London:20260127T160000
DTSTAMP:20260424T090051
CREATED:20260112T221520Z
LAST-MODIFIED:20260118T154650Z
UID:10012963-1769508000-1769529600@norfolkevents.uk
SUMMARY:The Space Between
DESCRIPTION:Art Exhibition\, ‘The Space Between’\, St Margaret’s Gallery\, St Benedict’s Street\, Norwich\, NR2 4TU\, showcases the work of four Norfolk based artists – Jo Bellamy\, Carl Durban\, Caroline Mayers and Elizabeth Maw. \nExhibition runs from 27 Jan to 1 Feb (10am-4pm) with an opening celebration on 27 Jan 6.30pm-8.30pm.
URL:https://norfolkevents.uk/event/the-space-between/2026-01-27/
LOCATION:St Margaret’s Gallery\, 2 St Margarets St\,\, Norwich\, NR2 4TU\, United Kingdom
CATEGORIES:Art and exhibitions
ATTACH;FMTTYPE=image/jpeg:https://norfolkevents.uk/wp-content/uploads/2026/01/The-Space-Between.jpg
END:VEVENT
END:VCALENDAR