BEGIN:VCALENDAR
VERSION:2.0
PRODID:-//Norfolk Events - ECPv6.15.20//NONSGML v1.0//EN
CALSCALE:GREGORIAN
METHOD:PUBLISH
X-ORIGINAL-URL:https://norfolkevents.uk
X-WR-CALDESC:Events for Norfolk Events
REFRESH-INTERVAL;VALUE=DURATION:PT1H
X-Robots-Tag:noindex
X-PUBLISHED-TTL:PT1H
BEGIN:VTIMEZONE
TZID:Europe/London
BEGIN:DAYLIGHT
TZOFFSETFROM:+0000
TZOFFSETTO:+0100
TZNAME:BST
DTSTART:20280326T010000
END:DAYLIGHT
BEGIN:STANDARD
TZOFFSETFROM:+0100
TZOFFSETTO:+0000
TZNAME:GMT
DTSTART:20281029T010000
END:STANDARD
BEGIN:DAYLIGHT
TZOFFSETFROM:+0000
TZOFFSETTO:+0100
TZNAME:BST
DTSTART:20290325T010000
END:DAYLIGHT
BEGIN:STANDARD
TZOFFSETFROM:+0100
TZOFFSETTO:+0000
TZNAME:GMT
DTSTART:20291028T010000
END:STANDARD
BEGIN:DAYLIGHT
TZOFFSETFROM:+0000
TZOFFSETTO:+0100
TZNAME:BST
DTSTART:20300331T010000
END:DAYLIGHT
BEGIN:STANDARD
TZOFFSETFROM:+0100
TZOFFSETTO:+0000
TZNAME:GMT
DTSTART:20301027T010000
END:STANDARD
BEGIN:DAYLIGHT
TZOFFSETFROM:+0000
TZOFFSETTO:+0100
TZNAME:BST
DTSTART:20310330T010000
END:DAYLIGHT
BEGIN:STANDARD
TZOFFSETFROM:+0100
TZOFFSETTO:+0000
TZNAME:GMT
DTSTART:20311026T010000
END:STANDARD
END:VTIMEZONE
BEGIN:VEVENT
DTSTART;TZID=Europe/London:20290511T090000
DTEND;TZID=Europe/London:20290511T130000
DTSTAMP:20260419T141544
CREATED:20250827T212704Z
LAST-MODIFIED:20250827T212704Z
UID:10008624-1873184400-1873198800@norfolkevents.uk
SUMMARY:Snettisham Farmer's Market
DESCRIPTION:Snettisham Farmer’s Market is organised by the Parish Council and takes place on the Market Place in Snettisham every 2nd Friday of the month. \nBuses are every 15 minutes through the village\, so catch either the 34 or 35 and hop on and off to visit the Farmer’s Market. More information on the buses can be found here https://www.lynxbus.co.uk/services/LYNX/34
URL:https://norfolkevents.uk/event/snettisham-farmers-market/2029-05-11/
LOCATION:The Market Place\, Lynn Road\, Snettisham\, King's Lynn\, PE31 7LP
ATTACH;FMTTYPE=image/jpeg:https://norfolkevents.uk/wp-content/uploads/2025/08/cdbd7f02-a3ef-4fc3-a34d-829331eb5c32.jpg
END:VEVENT
BEGIN:VEVENT
DTSTART;TZID=Europe/London:20290608T090000
DTEND;TZID=Europe/London:20290608T130000
DTSTAMP:20260419T141544
CREATED:20250827T212704Z
LAST-MODIFIED:20250827T212704Z
UID:10008625-1875603600-1875618000@norfolkevents.uk
SUMMARY:Snettisham Farmer's Market
DESCRIPTION:Snettisham Farmer’s Market is organised by the Parish Council and takes place on the Market Place in Snettisham every 2nd Friday of the month. \nBuses are every 15 minutes through the village\, so catch either the 34 or 35 and hop on and off to visit the Farmer’s Market. More information on the buses can be found here https://www.lynxbus.co.uk/services/LYNX/34
URL:https://norfolkevents.uk/event/snettisham-farmers-market/2029-06-08/
LOCATION:The Market Place\, Lynn Road\, Snettisham\, King's Lynn\, PE31 7LP
ATTACH;FMTTYPE=image/jpeg:https://norfolkevents.uk/wp-content/uploads/2025/08/cdbd7f02-a3ef-4fc3-a34d-829331eb5c32.jpg
END:VEVENT
BEGIN:VEVENT
DTSTART;TZID=Europe/London:20290713T090000
DTEND;TZID=Europe/London:20290713T130000
DTSTAMP:20260419T141544
CREATED:20250827T212704Z
LAST-MODIFIED:20250827T212704Z
UID:10008626-1878627600-1878642000@norfolkevents.uk
SUMMARY:Snettisham Farmer's Market
DESCRIPTION:Snettisham Farmer’s Market is organised by the Parish Council and takes place on the Market Place in Snettisham every 2nd Friday of the month. \nBuses are every 15 minutes through the village\, so catch either the 34 or 35 and hop on and off to visit the Farmer’s Market. More information on the buses can be found here https://www.lynxbus.co.uk/services/LYNX/34
URL:https://norfolkevents.uk/event/snettisham-farmers-market/2029-07-13/
LOCATION:The Market Place\, Lynn Road\, Snettisham\, King's Lynn\, PE31 7LP
ATTACH;FMTTYPE=image/jpeg:https://norfolkevents.uk/wp-content/uploads/2025/08/cdbd7f02-a3ef-4fc3-a34d-829331eb5c32.jpg
END:VEVENT
BEGIN:VEVENT
DTSTART;TZID=Europe/London:20290810T090000
DTEND;TZID=Europe/London:20290810T130000
DTSTAMP:20260419T141544
CREATED:20250827T212704Z
LAST-MODIFIED:20250827T212704Z
UID:10008627-1881046800-1881061200@norfolkevents.uk
SUMMARY:Snettisham Farmer's Market
DESCRIPTION:Snettisham Farmer’s Market is organised by the Parish Council and takes place on the Market Place in Snettisham every 2nd Friday of the month. \nBuses are every 15 minutes through the village\, so catch either the 34 or 35 and hop on and off to visit the Farmer’s Market. More information on the buses can be found here https://www.lynxbus.co.uk/services/LYNX/34
URL:https://norfolkevents.uk/event/snettisham-farmers-market/2029-08-10/
LOCATION:The Market Place\, Lynn Road\, Snettisham\, King's Lynn\, PE31 7LP
ATTACH;FMTTYPE=image/jpeg:https://norfolkevents.uk/wp-content/uploads/2025/08/cdbd7f02-a3ef-4fc3-a34d-829331eb5c32.jpg
END:VEVENT
BEGIN:VEVENT
DTSTART;TZID=Europe/London:20290914T090000
DTEND;TZID=Europe/London:20290914T130000
DTSTAMP:20260419T141544
CREATED:20250827T212704Z
LAST-MODIFIED:20250827T212704Z
UID:10008628-1884070800-1884085200@norfolkevents.uk
SUMMARY:Snettisham Farmer's Market
DESCRIPTION:Snettisham Farmer’s Market is organised by the Parish Council and takes place on the Market Place in Snettisham every 2nd Friday of the month. \nBuses are every 15 minutes through the village\, so catch either the 34 or 35 and hop on and off to visit the Farmer’s Market. More information on the buses can be found here https://www.lynxbus.co.uk/services/LYNX/34
URL:https://norfolkevents.uk/event/snettisham-farmers-market/2029-09-14/
LOCATION:The Market Place\, Lynn Road\, Snettisham\, King's Lynn\, PE31 7LP
ATTACH;FMTTYPE=image/jpeg:https://norfolkevents.uk/wp-content/uploads/2025/08/cdbd7f02-a3ef-4fc3-a34d-829331eb5c32.jpg
END:VEVENT
BEGIN:VEVENT
DTSTART;TZID=Europe/London:20291012T090000
DTEND;TZID=Europe/London:20291012T130000
DTSTAMP:20260419T141544
CREATED:20250827T212704Z
LAST-MODIFIED:20250827T212704Z
UID:10008629-1886490000-1886504400@norfolkevents.uk
SUMMARY:Snettisham Farmer's Market
DESCRIPTION:Snettisham Farmer’s Market is organised by the Parish Council and takes place on the Market Place in Snettisham every 2nd Friday of the month. \nBuses are every 15 minutes through the village\, so catch either the 34 or 35 and hop on and off to visit the Farmer’s Market. More information on the buses can be found here https://www.lynxbus.co.uk/services/LYNX/34
URL:https://norfolkevents.uk/event/snettisham-farmers-market/2029-10-12/
LOCATION:The Market Place\, Lynn Road\, Snettisham\, King's Lynn\, PE31 7LP
ATTACH;FMTTYPE=image/jpeg:https://norfolkevents.uk/wp-content/uploads/2025/08/cdbd7f02-a3ef-4fc3-a34d-829331eb5c32.jpg
END:VEVENT
BEGIN:VEVENT
DTSTART;TZID=Europe/London:20291109T090000
DTEND;TZID=Europe/London:20291109T130000
DTSTAMP:20260419T141544
CREATED:20250827T212704Z
LAST-MODIFIED:20250827T212704Z
UID:10008630-1888909200-1888923600@norfolkevents.uk
SUMMARY:Snettisham Farmer's Market
DESCRIPTION:Snettisham Farmer’s Market is organised by the Parish Council and takes place on the Market Place in Snettisham every 2nd Friday of the month. \nBuses are every 15 minutes through the village\, so catch either the 34 or 35 and hop on and off to visit the Farmer’s Market. More information on the buses can be found here https://www.lynxbus.co.uk/services/LYNX/34
URL:https://norfolkevents.uk/event/snettisham-farmers-market/2029-11-09/
LOCATION:The Market Place\, Lynn Road\, Snettisham\, King's Lynn\, PE31 7LP
ATTACH;FMTTYPE=image/jpeg:https://norfolkevents.uk/wp-content/uploads/2025/08/cdbd7f02-a3ef-4fc3-a34d-829331eb5c32.jpg
END:VEVENT
BEGIN:VEVENT
DTSTART;TZID=Europe/London:20291214T090000
DTEND;TZID=Europe/London:20291214T130000
DTSTAMP:20260419T141544
CREATED:20250827T212704Z
LAST-MODIFIED:20250827T212704Z
UID:10008631-1891933200-1891947600@norfolkevents.uk
SUMMARY:Snettisham Farmer's Market
DESCRIPTION:Snettisham Farmer’s Market is organised by the Parish Council and takes place on the Market Place in Snettisham every 2nd Friday of the month. \nBuses are every 15 minutes through the village\, so catch either the 34 or 35 and hop on and off to visit the Farmer’s Market. More information on the buses can be found here https://www.lynxbus.co.uk/services/LYNX/34
URL:https://norfolkevents.uk/event/snettisham-farmers-market/2029-12-14/
LOCATION:The Market Place\, Lynn Road\, Snettisham\, King's Lynn\, PE31 7LP
ATTACH;FMTTYPE=image/jpeg:https://norfolkevents.uk/wp-content/uploads/2025/08/cdbd7f02-a3ef-4fc3-a34d-829331eb5c32.jpg
END:VEVENT
BEGIN:VEVENT
DTSTART;TZID=Europe/London:20300111T090000
DTEND;TZID=Europe/London:20300111T130000
DTSTAMP:20260419T141544
CREATED:20250827T212704Z
LAST-MODIFIED:20250827T212704Z
UID:10008632-1894352400-1894366800@norfolkevents.uk
SUMMARY:Snettisham Farmer's Market
DESCRIPTION:Snettisham Farmer’s Market is organised by the Parish Council and takes place on the Market Place in Snettisham every 2nd Friday of the month. \nBuses are every 15 minutes through the village\, so catch either the 34 or 35 and hop on and off to visit the Farmer’s Market. More information on the buses can be found here https://www.lynxbus.co.uk/services/LYNX/34
URL:https://norfolkevents.uk/event/snettisham-farmers-market/2030-01-11/
LOCATION:The Market Place\, Lynn Road\, Snettisham\, King's Lynn\, PE31 7LP
ATTACH;FMTTYPE=image/jpeg:https://norfolkevents.uk/wp-content/uploads/2025/08/cdbd7f02-a3ef-4fc3-a34d-829331eb5c32.jpg
END:VEVENT
BEGIN:VEVENT
DTSTART;TZID=Europe/London:20300208T090000
DTEND;TZID=Europe/London:20300208T130000
DTSTAMP:20260419T141544
CREATED:20250827T212704Z
LAST-MODIFIED:20250827T212704Z
UID:10008633-1896771600-1896786000@norfolkevents.uk
SUMMARY:Snettisham Farmer's Market
DESCRIPTION:Snettisham Farmer’s Market is organised by the Parish Council and takes place on the Market Place in Snettisham every 2nd Friday of the month. \nBuses are every 15 minutes through the village\, so catch either the 34 or 35 and hop on and off to visit the Farmer’s Market. More information on the buses can be found here https://www.lynxbus.co.uk/services/LYNX/34
URL:https://norfolkevents.uk/event/snettisham-farmers-market/2030-02-08/
LOCATION:The Market Place\, Lynn Road\, Snettisham\, King's Lynn\, PE31 7LP
ATTACH;FMTTYPE=image/jpeg:https://norfolkevents.uk/wp-content/uploads/2025/08/cdbd7f02-a3ef-4fc3-a34d-829331eb5c32.jpg
END:VEVENT
BEGIN:VEVENT
DTSTART;TZID=Europe/London:20300308T090000
DTEND;TZID=Europe/London:20300308T130000
DTSTAMP:20260419T141544
CREATED:20250827T212704Z
LAST-MODIFIED:20250827T212704Z
UID:10008634-1899190800-1899205200@norfolkevents.uk
SUMMARY:Snettisham Farmer's Market
DESCRIPTION:Snettisham Farmer’s Market is organised by the Parish Council and takes place on the Market Place in Snettisham every 2nd Friday of the month. \nBuses are every 15 minutes through the village\, so catch either the 34 or 35 and hop on and off to visit the Farmer’s Market. More information on the buses can be found here https://www.lynxbus.co.uk/services/LYNX/34
URL:https://norfolkevents.uk/event/snettisham-farmers-market/2030-03-08/
LOCATION:The Market Place\, Lynn Road\, Snettisham\, King's Lynn\, PE31 7LP
ATTACH;FMTTYPE=image/jpeg:https://norfolkevents.uk/wp-content/uploads/2025/08/cdbd7f02-a3ef-4fc3-a34d-829331eb5c32.jpg
END:VEVENT
BEGIN:VEVENT
DTSTART;TZID=Europe/London:20300412T090000
DTEND;TZID=Europe/London:20300412T130000
DTSTAMP:20260419T141544
CREATED:20250827T212704Z
LAST-MODIFIED:20250827T212704Z
UID:10008635-1902214800-1902229200@norfolkevents.uk
SUMMARY:Snettisham Farmer's Market
DESCRIPTION:Snettisham Farmer’s Market is organised by the Parish Council and takes place on the Market Place in Snettisham every 2nd Friday of the month. \nBuses are every 15 minutes through the village\, so catch either the 34 or 35 and hop on and off to visit the Farmer’s Market. More information on the buses can be found here https://www.lynxbus.co.uk/services/LYNX/34
URL:https://norfolkevents.uk/event/snettisham-farmers-market/2030-04-12/
LOCATION:The Market Place\, Lynn Road\, Snettisham\, King's Lynn\, PE31 7LP
ATTACH;FMTTYPE=image/jpeg:https://norfolkevents.uk/wp-content/uploads/2025/08/cdbd7f02-a3ef-4fc3-a34d-829331eb5c32.jpg
END:VEVENT
BEGIN:VEVENT
DTSTART;TZID=Europe/London:20300510T090000
DTEND;TZID=Europe/London:20300510T130000
DTSTAMP:20260419T141544
CREATED:20250827T212704Z
LAST-MODIFIED:20250827T212704Z
UID:10008636-1904634000-1904648400@norfolkevents.uk
SUMMARY:Snettisham Farmer's Market
DESCRIPTION:Snettisham Farmer’s Market is organised by the Parish Council and takes place on the Market Place in Snettisham every 2nd Friday of the month. \nBuses are every 15 minutes through the village\, so catch either the 34 or 35 and hop on and off to visit the Farmer’s Market. More information on the buses can be found here https://www.lynxbus.co.uk/services/LYNX/34
URL:https://norfolkevents.uk/event/snettisham-farmers-market/2030-05-10/
LOCATION:The Market Place\, Lynn Road\, Snettisham\, King's Lynn\, PE31 7LP
ATTACH;FMTTYPE=image/jpeg:https://norfolkevents.uk/wp-content/uploads/2025/08/cdbd7f02-a3ef-4fc3-a34d-829331eb5c32.jpg
END:VEVENT
BEGIN:VEVENT
DTSTART;TZID=Europe/London:20300614T090000
DTEND;TZID=Europe/London:20300614T130000
DTSTAMP:20260419T141544
CREATED:20250827T212704Z
LAST-MODIFIED:20250827T212704Z
UID:10008637-1907658000-1907672400@norfolkevents.uk
SUMMARY:Snettisham Farmer's Market
DESCRIPTION:Snettisham Farmer’s Market is organised by the Parish Council and takes place on the Market Place in Snettisham every 2nd Friday of the month. \nBuses are every 15 minutes through the village\, so catch either the 34 or 35 and hop on and off to visit the Farmer’s Market. More information on the buses can be found here https://www.lynxbus.co.uk/services/LYNX/34
URL:https://norfolkevents.uk/event/snettisham-farmers-market/2030-06-14/
LOCATION:The Market Place\, Lynn Road\, Snettisham\, King's Lynn\, PE31 7LP
ATTACH;FMTTYPE=image/jpeg:https://norfolkevents.uk/wp-content/uploads/2025/08/cdbd7f02-a3ef-4fc3-a34d-829331eb5c32.jpg
END:VEVENT
BEGIN:VEVENT
DTSTART;TZID=Europe/London:20300712T090000
DTEND;TZID=Europe/London:20300712T130000
DTSTAMP:20260419T141544
CREATED:20250827T212704Z
LAST-MODIFIED:20250827T212704Z
UID:10008638-1910077200-1910091600@norfolkevents.uk
SUMMARY:Snettisham Farmer's Market
DESCRIPTION:Snettisham Farmer’s Market is organised by the Parish Council and takes place on the Market Place in Snettisham every 2nd Friday of the month. \nBuses are every 15 minutes through the village\, so catch either the 34 or 35 and hop on and off to visit the Farmer’s Market. More information on the buses can be found here https://www.lynxbus.co.uk/services/LYNX/34
URL:https://norfolkevents.uk/event/snettisham-farmers-market/2030-07-12/
LOCATION:The Market Place\, Lynn Road\, Snettisham\, King's Lynn\, PE31 7LP
ATTACH;FMTTYPE=image/jpeg:https://norfolkevents.uk/wp-content/uploads/2025/08/cdbd7f02-a3ef-4fc3-a34d-829331eb5c32.jpg
END:VEVENT
BEGIN:VEVENT
DTSTART;TZID=Europe/London:20300809T090000
DTEND;TZID=Europe/London:20300809T130000
DTSTAMP:20260419T141544
CREATED:20250827T212704Z
LAST-MODIFIED:20250827T212704Z
UID:10008639-1912496400-1912510800@norfolkevents.uk
SUMMARY:Snettisham Farmer's Market
DESCRIPTION:Snettisham Farmer’s Market is organised by the Parish Council and takes place on the Market Place in Snettisham every 2nd Friday of the month. \nBuses are every 15 minutes through the village\, so catch either the 34 or 35 and hop on and off to visit the Farmer’s Market. More information on the buses can be found here https://www.lynxbus.co.uk/services/LYNX/34
URL:https://norfolkevents.uk/event/snettisham-farmers-market/2030-08-09/
LOCATION:The Market Place\, Lynn Road\, Snettisham\, King's Lynn\, PE31 7LP
ATTACH;FMTTYPE=image/jpeg:https://norfolkevents.uk/wp-content/uploads/2025/08/cdbd7f02-a3ef-4fc3-a34d-829331eb5c32.jpg
END:VEVENT
END:VCALENDAR