BEGIN:VCALENDAR
VERSION:2.0
PRODID:-//Norfolk Events - ECPv6.15.20//NONSGML v1.0//EN
CALSCALE:GREGORIAN
METHOD:PUBLISH
X-ORIGINAL-URL:https://norfolkevents.uk
X-WR-CALDESC:Events for Norfolk Events
REFRESH-INTERVAL;VALUE=DURATION:PT1H
X-Robots-Tag:noindex
X-PUBLISHED-TTL:PT1H
BEGIN:VTIMEZONE
TZID:Europe/London
BEGIN:DAYLIGHT
TZOFFSETFROM:+0000
TZOFFSETTO:+0100
TZNAME:BST
DTSTART:20250330T010000
END:DAYLIGHT
BEGIN:STANDARD
TZOFFSETFROM:+0100
TZOFFSETTO:+0000
TZNAME:GMT
DTSTART:20251026T010000
END:STANDARD
BEGIN:DAYLIGHT
TZOFFSETFROM:+0000
TZOFFSETTO:+0100
TZNAME:BST
DTSTART:20260329T010000
END:DAYLIGHT
BEGIN:STANDARD
TZOFFSETFROM:+0100
TZOFFSETTO:+0000
TZNAME:GMT
DTSTART:20261025T010000
END:STANDARD
BEGIN:DAYLIGHT
TZOFFSETFROM:+0000
TZOFFSETTO:+0100
TZNAME:BST
DTSTART:20270328T010000
END:DAYLIGHT
BEGIN:STANDARD
TZOFFSETFROM:+0100
TZOFFSETTO:+0000
TZNAME:GMT
DTSTART:20271031T010000
END:STANDARD
END:VTIMEZONE
BEGIN:VEVENT
DTSTART;TZID=Europe/London:20260627T180000
DTEND;TZID=Europe/London:20260627T220000
DTSTAMP:20260420T133622
CREATED:20260410T182806Z
LAST-MODIFIED:20260410T182806Z
UID:10016926-1782583200-1782597600@norfolkevents.uk
SUMMARY:Dinos At Night ROARR! – Kids Go FREE
DESCRIPTION:Experience ROARR! like never before this summer\, with a special after-hours event that brings the park to life after dark. As the sun sets and the daytime crowds head home\, the park transforms into an exclusive twilight adventure filled with glowing dinosaurs\, thrilling attractions\, and unforgettable family moments. \nChildren go free\, with tickets priced at £12 per adult\, including entry for up to two children per paying adult. Please note that this event is not included with annual passes. \nAs part of Dinos At Night\, visitors can explore the Valley of the Dinosaurs under spectacular lighting\, where prehistoric giants take on a whole new presence after dark. Dippy’s Land and Discovery Land also offer a completely different experience in the evening atmosphere. \nAttractions remain open throughout the event\, giving families the chance to enjoy favourites such as Predator High Ropes at twilight\, Dippy’s Splash Zone\, Dinomite Indoor Play\, Swing-O-Saurus and more\, all in a unique nighttime setting. \nThe evening also features live entertainment and character appearances. Meet the Dino Hunter\, spend time with Dippy and friends\, and enjoy interactive shows\, meet-and-greets\, and plenty of opportunities for memorable family photos. \nThis is a limited-capacity event and is expected to sell out. Early booking is strongly recommended to avoid disappointment.
URL:https://norfolkevents.uk/event/dinos-at-night-roarr-kids-go-free/
LOCATION:ROARR!\, Lenwade\, Norwich\, NR9 5JE
CATEGORIES:Family
ATTACH;FMTTYPE=image/png:https://norfolkevents.uk/wp-content/uploads/2026/04/Untitled-design-27.png
ORGANIZER;CN="ROARR!":MAILTO:marketing@roarr.co.uk
END:VEVENT
END:VCALENDAR