BEGIN:VCALENDAR
VERSION:2.0
PRODID:-//Norfolk Events - ECPv6.15.20//NONSGML v1.0//EN
CALSCALE:GREGORIAN
METHOD:PUBLISH
X-ORIGINAL-URL:https://norfolkevents.uk
X-WR-CALDESC:Events for Norfolk Events
REFRESH-INTERVAL;VALUE=DURATION:PT1H
X-Robots-Tag:noindex
X-PUBLISHED-TTL:PT1H
BEGIN:VTIMEZONE
TZID:Europe/London
BEGIN:DAYLIGHT
TZOFFSETFROM:+0000
TZOFFSETTO:+0100
TZNAME:BST
DTSTART:20240331T010000
END:DAYLIGHT
BEGIN:STANDARD
TZOFFSETFROM:+0100
TZOFFSETTO:+0000
TZNAME:GMT
DTSTART:20241027T010000
END:STANDARD
BEGIN:DAYLIGHT
TZOFFSETFROM:+0000
TZOFFSETTO:+0100
TZNAME:BST
DTSTART:20250330T010000
END:DAYLIGHT
BEGIN:STANDARD
TZOFFSETFROM:+0100
TZOFFSETTO:+0000
TZNAME:GMT
DTSTART:20251026T010000
END:STANDARD
BEGIN:DAYLIGHT
TZOFFSETFROM:+0000
TZOFFSETTO:+0100
TZNAME:BST
DTSTART:20260329T010000
END:DAYLIGHT
BEGIN:STANDARD
TZOFFSETFROM:+0100
TZOFFSETTO:+0000
TZNAME:GMT
DTSTART:20261025T010000
END:STANDARD
BEGIN:DAYLIGHT
TZOFFSETFROM:+0000
TZOFFSETTO:+0100
TZNAME:BST
DTSTART:20270328T010000
END:DAYLIGHT
BEGIN:STANDARD
TZOFFSETFROM:+0100
TZOFFSETTO:+0000
TZNAME:GMT
DTSTART:20271031T010000
END:STANDARD
END:VTIMEZONE
BEGIN:VEVENT
DTSTART;VALUE=DATE:20260227
DTEND;VALUE=DATE:20260309
DTSTAMP:20260424T101245
CREATED:20260108T214214Z
LAST-MODIFIED:20260108T214214Z
UID:10011679-1772164800-1772942399@norfolkevents.uk
SUMMARY:Norwich Food Week 2026
DESCRIPTION:Norwich Food Week from 27 February – 8 March 2026. Norwich Food Week will be a feast for all the family\, showcasing the people\, places\, and plates that make food culture here so special. From bustling market stalls to high-end dining\, neighbourhood cafés to family-run favourites\, this promises to be Norwich at its scrumptious best.
URL:https://norfolkevents.uk/event/norwich-food-week-2026/
CATEGORIES:Festivals,Food
ATTACH;FMTTYPE=image/png:https://norfolkevents.uk/wp-content/uploads/2026/01/FB-EVENT-Header.png
END:VEVENT
BEGIN:VEVENT
DTSTART;TZID=Europe/London:20250926T123000
DTEND;TZID=Europe/London:20251005T180000
DTSTAMP:20260424T101245
CREATED:20250910T185952Z
LAST-MODIFIED:20250910T185952Z
UID:10008818-1758889800-1759687200@norfolkevents.uk
SUMMARY:Norwich Cocktail Week
DESCRIPTION:Norwich Cocktail Week \nRunning from 26 September – 5 October\, Norwich Cocktail Week is a celebration of Norwich’s vibrant cocktail culture\, with independent bars and stylish restaurants serving up discounted signature cocktails\, mocktails\, and memorable experiences. There will be a brand-new way to explore the city’s cocktail scene thanks to the free-to-download Norwich Cocktail Week app that puts the best cocktails\, venues\, and trails right in your pocket. \nHow It Works\n1. Download the Norwich Cocktail Week App: Start by downloading the app from the Google Play or the Apple Store.\n2. Scan to Unlock Offers: At each participating venue\, use the app to check-in when purchasing any cocktail on the menu\, and to unlock access to a Signature Cocktail (priced at £7.50) and Mocktail (priced at £6.00).\n3. Complete a Trail\, earn a T-Shirt: As you visit venues along a trail route\, you can collect digital stamps. Complete a trail to get a Norwich Cocktail Week T-shirt (subject to availability). \nShake\, Sip\, Savour!
URL:https://norfolkevents.uk/event/norwich-cocktail-week/
CATEGORIES:Festivals
ATTACH;FMTTYPE=image/png:https://norfolkevents.uk/wp-content/uploads/2025/09/NCW-27.08.25-114-crop.png
END:VEVENT
BEGIN:VEVENT
DTSTART;TZID=Europe/London:20250831T123000
DTEND;TZID=Europe/London:20250831T163000
DTSTAMP:20260424T101245
CREATED:20250729T170601Z
LAST-MODIFIED:20250729T170601Z
UID:10006816-1756643400-1756657800@norfolkevents.uk
SUMMARY:Norwich Summer Sessions
DESCRIPTION:Visitor or local\, if you’ve been to Norwich in the summer in previous years\, you may have spotted some spectacular performances on the stages of Norwich Summer Sessions brought to you by Norwich Business Improvement District in partnership with NORCA. Now\, this annual FREE programme of street entertainment is back for its twelfth-year with yet another exciting and varied programme that you’re sure to love. And this year\, you can find these performances dazzling crowds across Thursday evenings in July and Sunday afternoons in August. \nNorwich Summer Sessions will take place on Thursday evenings on 17th\, 24th and 31st July from 4 – 8pm\, before moving onto Sunday afternoons on 10th\, 17th\, 24th and 31st August from 12:30pm – 4:30pm. \nHay Hill / Brigg Street (Sponsored by Kuoni Travel)\nSt Gregory’s Green (Sponsored by Grosvenor F’sh Shop)\nGentleman’s Walk (Sponsored by YALM)\nWestlegate (Sponsored by Kuoni Travel) (Sunday afternoons only)\nAnd on Thursday evenings\, there’s FREE PARKING at John Lewis from 5 – 8.30pm. John Lewis are also offering a 20% Off Drinks at Benugo Cafe – Expires: 31.08.25. \nNorwich Summer Sessions is a truly an exciting time to get out and about in the City of Stories. Enjoy the sun\, visit your favourite restaurant or café\, and relax while enjoying some incredible performances in these picturesque settings across the city!
URL:https://norfolkevents.uk/event/norwich-summer-sessions/2025-08-31/
LOCATION:Norwich City Centre\, Multiple locations\, Norwich
CATEGORIES:Children,Community,Entertainment,Family,Music
ATTACH;FMTTYPE=image/jpeg:https://norfolkevents.uk/wp-content/uploads/2025/07/Norwich-Summer-Sessions-event.jpg
END:VEVENT
BEGIN:VEVENT
DTSTART;TZID=Europe/London:20250824T123000
DTEND;TZID=Europe/London:20250824T163000
DTSTAMP:20260424T101245
CREATED:20250729T170601Z
LAST-MODIFIED:20250729T170601Z
UID:10006815-1756038600-1756053000@norfolkevents.uk
SUMMARY:Norwich Summer Sessions
DESCRIPTION:Visitor or local\, if you’ve been to Norwich in the summer in previous years\, you may have spotted some spectacular performances on the stages of Norwich Summer Sessions brought to you by Norwich Business Improvement District in partnership with NORCA. Now\, this annual FREE programme of street entertainment is back for its twelfth-year with yet another exciting and varied programme that you’re sure to love. And this year\, you can find these performances dazzling crowds across Thursday evenings in July and Sunday afternoons in August. \nNorwich Summer Sessions will take place on Thursday evenings on 17th\, 24th and 31st July from 4 – 8pm\, before moving onto Sunday afternoons on 10th\, 17th\, 24th and 31st August from 12:30pm – 4:30pm. \nHay Hill / Brigg Street (Sponsored by Kuoni Travel)\nSt Gregory’s Green (Sponsored by Grosvenor F’sh Shop)\nGentleman’s Walk (Sponsored by YALM)\nWestlegate (Sponsored by Kuoni Travel) (Sunday afternoons only)\nAnd on Thursday evenings\, there’s FREE PARKING at John Lewis from 5 – 8.30pm. John Lewis are also offering a 20% Off Drinks at Benugo Cafe – Expires: 31.08.25. \nNorwich Summer Sessions is a truly an exciting time to get out and about in the City of Stories. Enjoy the sun\, visit your favourite restaurant or café\, and relax while enjoying some incredible performances in these picturesque settings across the city!
URL:https://norfolkevents.uk/event/norwich-summer-sessions/2025-08-24/
LOCATION:Norwich City Centre\, Multiple locations\, Norwich
CATEGORIES:Children,Community,Entertainment,Family,Music
ATTACH;FMTTYPE=image/jpeg:https://norfolkevents.uk/wp-content/uploads/2025/07/Norwich-Summer-Sessions-event.jpg
END:VEVENT
BEGIN:VEVENT
DTSTART;TZID=Europe/London:20250817T123000
DTEND;TZID=Europe/London:20250817T163000
DTSTAMP:20260424T101245
CREATED:20250729T170601Z
LAST-MODIFIED:20250729T170601Z
UID:10006814-1755433800-1755448200@norfolkevents.uk
SUMMARY:Norwich Summer Sessions
DESCRIPTION:Visitor or local\, if you’ve been to Norwich in the summer in previous years\, you may have spotted some spectacular performances on the stages of Norwich Summer Sessions brought to you by Norwich Business Improvement District in partnership with NORCA. Now\, this annual FREE programme of street entertainment is back for its twelfth-year with yet another exciting and varied programme that you’re sure to love. And this year\, you can find these performances dazzling crowds across Thursday evenings in July and Sunday afternoons in August. \nNorwich Summer Sessions will take place on Thursday evenings on 17th\, 24th and 31st July from 4 – 8pm\, before moving onto Sunday afternoons on 10th\, 17th\, 24th and 31st August from 12:30pm – 4:30pm. \nHay Hill / Brigg Street (Sponsored by Kuoni Travel)\nSt Gregory’s Green (Sponsored by Grosvenor F’sh Shop)\nGentleman’s Walk (Sponsored by YALM)\nWestlegate (Sponsored by Kuoni Travel) (Sunday afternoons only)\nAnd on Thursday evenings\, there’s FREE PARKING at John Lewis from 5 – 8.30pm. John Lewis are also offering a 20% Off Drinks at Benugo Cafe – Expires: 31.08.25. \nNorwich Summer Sessions is a truly an exciting time to get out and about in the City of Stories. Enjoy the sun\, visit your favourite restaurant or café\, and relax while enjoying some incredible performances in these picturesque settings across the city!
URL:https://norfolkevents.uk/event/norwich-summer-sessions/2025-08-17/
LOCATION:Norwich City Centre\, Multiple locations\, Norwich
CATEGORIES:Children,Community,Entertainment,Family,Music
ATTACH;FMTTYPE=image/jpeg:https://norfolkevents.uk/wp-content/uploads/2025/07/Norwich-Summer-Sessions-event.jpg
END:VEVENT
BEGIN:VEVENT
DTSTART;TZID=Europe/London:20250810T123000
DTEND;TZID=Europe/London:20250810T163000
DTSTAMP:20260424T101245
CREATED:20250729T170601Z
LAST-MODIFIED:20250729T170601Z
UID:10006813-1754829000-1754843400@norfolkevents.uk
SUMMARY:Norwich Summer Sessions
DESCRIPTION:Visitor or local\, if you’ve been to Norwich in the summer in previous years\, you may have spotted some spectacular performances on the stages of Norwich Summer Sessions brought to you by Norwich Business Improvement District in partnership with NORCA. Now\, this annual FREE programme of street entertainment is back for its twelfth-year with yet another exciting and varied programme that you’re sure to love. And this year\, you can find these performances dazzling crowds across Thursday evenings in July and Sunday afternoons in August. \nNorwich Summer Sessions will take place on Thursday evenings on 17th\, 24th and 31st July from 4 – 8pm\, before moving onto Sunday afternoons on 10th\, 17th\, 24th and 31st August from 12:30pm – 4:30pm. \nHay Hill / Brigg Street (Sponsored by Kuoni Travel)\nSt Gregory’s Green (Sponsored by Grosvenor F’sh Shop)\nGentleman’s Walk (Sponsored by YALM)\nWestlegate (Sponsored by Kuoni Travel) (Sunday afternoons only)\nAnd on Thursday evenings\, there’s FREE PARKING at John Lewis from 5 – 8.30pm. John Lewis are also offering a 20% Off Drinks at Benugo Cafe – Expires: 31.08.25. \nNorwich Summer Sessions is a truly an exciting time to get out and about in the City of Stories. Enjoy the sun\, visit your favourite restaurant or café\, and relax while enjoying some incredible performances in these picturesque settings across the city!
URL:https://norfolkevents.uk/event/norwich-summer-sessions/2025-08-10/
LOCATION:Norwich City Centre\, Multiple locations\, Norwich
CATEGORIES:Children,Community,Entertainment,Family,Music
ATTACH;FMTTYPE=image/jpeg:https://norfolkevents.uk/wp-content/uploads/2025/07/Norwich-Summer-Sessions-event.jpg
END:VEVENT
BEGIN:VEVENT
DTSTART;TZID=Europe/London:20250731T160000
DTEND;TZID=Europe/London:20250731T200000
DTSTAMP:20260424T101245
CREATED:20250729T170601Z
LAST-MODIFIED:20250729T170601Z
UID:10006812-1753977600-1753992000@norfolkevents.uk
SUMMARY:Norwich Summer Sessions
DESCRIPTION:Visitor or local\, if you’ve been to Norwich in the summer in previous years\, you may have spotted some spectacular performances on the stages of Norwich Summer Sessions brought to you by Norwich Business Improvement District in partnership with NORCA. Now\, this annual FREE programme of street entertainment is back for its twelfth-year with yet another exciting and varied programme that you’re sure to love. And this year\, you can find these performances dazzling crowds across Thursday evenings in July and Sunday afternoons in August. \nNorwich Summer Sessions will take place on Thursday evenings on 17th\, 24th and 31st July from 4 – 8pm\, before moving onto Sunday afternoons on 10th\, 17th\, 24th and 31st August from 12:30pm – 4:30pm. \nHay Hill / Brigg Street (Sponsored by Kuoni Travel)\nSt Gregory’s Green (Sponsored by Grosvenor F’sh Shop)\nGentleman’s Walk (Sponsored by YALM)\nWestlegate (Sponsored by Kuoni Travel) (Sunday afternoons only)\nAnd on Thursday evenings\, there’s FREE PARKING at John Lewis from 5 – 8.30pm. John Lewis are also offering a 20% Off Drinks at Benugo Cafe – Expires: 31.08.25. \nNorwich Summer Sessions is a truly an exciting time to get out and about in the City of Stories. Enjoy the sun\, visit your favourite restaurant or café\, and relax while enjoying some incredible performances in these picturesque settings across the city!
URL:https://norfolkevents.uk/event/norwich-summer-sessions/2025-07-31/
LOCATION:Norwich City Centre\, Multiple locations\, Norwich
CATEGORIES:Children,Community,Entertainment,Family,Music
ATTACH;FMTTYPE=image/jpeg:https://norfolkevents.uk/wp-content/uploads/2025/07/Norwich-Summer-Sessions-event.jpg
END:VEVENT
END:VCALENDAR