BEGIN:VCALENDAR
VERSION:2.0
PRODID:-//Norfolk Events - ECPv6.15.20//NONSGML v1.0//EN
CALSCALE:GREGORIAN
METHOD:PUBLISH
X-ORIGINAL-URL:https://norfolkevents.uk
X-WR-CALDESC:Events for Norfolk Events
REFRESH-INTERVAL;VALUE=DURATION:PT1H
X-Robots-Tag:noindex
X-PUBLISHED-TTL:PT1H
BEGIN:VTIMEZONE
TZID:Europe/London
BEGIN:DAYLIGHT
TZOFFSETFROM:+0000
TZOFFSETTO:+0100
TZNAME:BST
DTSTART:20250330T010000
END:DAYLIGHT
BEGIN:STANDARD
TZOFFSETFROM:+0100
TZOFFSETTO:+0000
TZNAME:GMT
DTSTART:20251026T010000
END:STANDARD
BEGIN:DAYLIGHT
TZOFFSETFROM:+0000
TZOFFSETTO:+0100
TZNAME:BST
DTSTART:20260329T010000
END:DAYLIGHT
BEGIN:STANDARD
TZOFFSETFROM:+0100
TZOFFSETTO:+0000
TZNAME:GMT
DTSTART:20261025T010000
END:STANDARD
BEGIN:DAYLIGHT
TZOFFSETFROM:+0000
TZOFFSETTO:+0100
TZNAME:BST
DTSTART:20270328T010000
END:DAYLIGHT
BEGIN:STANDARD
TZOFFSETFROM:+0100
TZOFFSETTO:+0000
TZNAME:GMT
DTSTART:20271031T010000
END:STANDARD
END:VTIMEZONE
BEGIN:VEVENT
DTSTART;TZID=Europe/London:20260123T193000
DTEND;TZID=Europe/London:20260123T223000
DTSTAMP:20260425T140703
CREATED:20260110T200554Z
LAST-MODIFIED:20260110T201557Z
UID:10012699-1769196600-1769207400@norfolkevents.uk
SUMMARY:Hooma Comedy Club - ANGELOS EPITHEMIOU HEADLINES AT THE BIRD IN HAND!
DESCRIPTION:Comedy Club Night at The Bird in Hand Pub! \nANGELOS (Shooting Stars) will be joined by COLIN MANFORD\, HAZEL DONOVAN and MARTIN WESTGATE\nWhere? The Bird In Hand\nWhen? Friday 23rd January Doors open 7.30pm for a 8pm (show start)\n🎟 https://www.hoomacomedy.com/wreningham
URL:https://norfolkevents.uk/event/hooma-comedy-club-angelos-epithemiou-headlines-at-the-bird-in-hand/
LOCATION:The Bird in Hand Pub\, church road\, wreningham\, nr161bj\, United Kingdom
CATEGORIES:Comedy,Comedy and entertainment
ATTACH;FMTTYPE=image/png:https://norfolkevents.uk/wp-content/uploads/2026/01/comedy.png
END:VEVENT
END:VCALENDAR