BEGIN:VCALENDAR
VERSION:2.0
PRODID:-//Norfolk Events - ECPv6.15.20//NONSGML v1.0//EN
CALSCALE:GREGORIAN
METHOD:PUBLISH
X-ORIGINAL-URL:https://norfolkevents.uk
X-WR-CALDESC:Events for Norfolk Events
REFRESH-INTERVAL;VALUE=DURATION:PT1H
X-Robots-Tag:noindex
X-PUBLISHED-TTL:PT1H
BEGIN:VTIMEZONE
TZID:Europe/London
BEGIN:DAYLIGHT
TZOFFSETFROM:+0000
TZOFFSETTO:+0100
TZNAME:BST
DTSTART:20250330T010000
END:DAYLIGHT
BEGIN:STANDARD
TZOFFSETFROM:+0100
TZOFFSETTO:+0000
TZNAME:GMT
DTSTART:20251026T010000
END:STANDARD
BEGIN:DAYLIGHT
TZOFFSETFROM:+0000
TZOFFSETTO:+0100
TZNAME:BST
DTSTART:20260329T010000
END:DAYLIGHT
BEGIN:STANDARD
TZOFFSETFROM:+0100
TZOFFSETTO:+0000
TZNAME:GMT
DTSTART:20261025T010000
END:STANDARD
BEGIN:DAYLIGHT
TZOFFSETFROM:+0000
TZOFFSETTO:+0100
TZNAME:BST
DTSTART:20270328T010000
END:DAYLIGHT
BEGIN:STANDARD
TZOFFSETFROM:+0100
TZOFFSETTO:+0000
TZNAME:GMT
DTSTART:20271031T010000
END:STANDARD
END:VTIMEZONE
BEGIN:VEVENT
DTSTART;TZID=Europe/London:20260426T110000
DTEND;TZID=Europe/London:20260426T150000
DTSTAMP:20260425T162937
CREATED:20260227T192052Z
LAST-MODIFIED:20260227T192052Z
UID:10016293-1777201200-1777215600@norfolkevents.uk
SUMMARY:Pre Loved Pop up Market at Happy Valley Norfolk
DESCRIPTION:FAST fashion is out. FOREVER pieces are in. ♻️✨\nThe Pre-Loved Pop Up at Happy Valley Norfolk is BACK — celebrating conscious shopping\, circular living and genuinely excellent pre-used finds.\nThis isn’t just fashion.\nExpect: \n\nPre-loved designer clothing\nVintage and slow fashion\nBrocante homeware\nFurniture & decorative pieces\nBeautiful jewellery\nArt & handcrafted items\nCollectables\, curiosities & one-off treasures\nQuality resale across all categories\n\nIf it’s beautifully made and deserves a second life — it belongs here.\nOn a working farm turned woodland venue in Norfolk\, sustainability isn’t a buzzword — it’s part of how we operate. Reuse. Rehome. Re-love. 🌿\n📅 Sunday 26th April\n⏰ 11am–3pm\n🎟 £2 entry (with £1 from every ticket donated to charity)\nBring your friends. Bring your tote bags.\nAnd bring cash — many of our traders are small local independents. 💛\nMake a proper day of it.\nHappy Valley\nWashpit Farm\, Massingham Road\, Grimston\, Kings Lynn\, Norfolk PE32 1DN – We’re in North West Norfolk\, just 15 minutes from King’s Lynn station\, close to Sandringham and the North Norfolk coast. Fresh air\, woodland setting\, slow Sunday energy.\nCome for the fashion.\nStay for the art.\nLeave with something excellent.\nIf you’ve got beautiful pre-used pieces ready for their next chapter — clothing\, art\, homeware\, brocante\, collectables — get in touch to apply for a stall.
URL:https://norfolkevents.uk/event/pre-loved-pop-up-market-at-happy-valley-norfolk/
LOCATION:Happy Valley Norfolk\, Happy Valley Norfolk\, Washpit Farm\, Massingham Road\, King’s Lynn\, PE32 1DN\, United Kingdom
CATEGORIES:Makers Markets,Shopping
ATTACH;FMTTYPE=image/jpeg:https://norfolkevents.uk/wp-content/uploads/2026/02/ac763261-a6a1-4d8d-903e-550cc89f6fb1.jpeg
END:VEVENT
BEGIN:VEVENT
DTSTART;TZID=Europe/London:20260426T110000
DTEND;TZID=Europe/London:20260426T150000
DTSTAMP:20260425T162938
CREATED:20260315T214012Z
LAST-MODIFIED:20260315T214012Z
UID:10016368-1777201200-1777215600@norfolkevents.uk
SUMMARY:The Pre Loved Pop Up Market
DESCRIPTION:Join us for a feel-good day of thrifting\, treasure-hunting and planet-friendly shopping at our popular Pre-Loved Pop-Up Market\, held under our eclectic community roof at Happy Valley Norfolk. \nOur Pre-Loved market brings together a wonderful mix of independent sellers offering quality pre-loved clothing\, accessories\, homeware and unique finds\, all carefully curated and ready for a new story. Second-hand shopping is a simple way to reduce waste\, save resources and make more sustainable choices – all while finding something truly special. Think brocante treasures\, designer and vintage fashion\, one-off antiques and more. \nExpect a relaxed\, friendly atmosphere\, great conversations and plenty of one-of-a-kind pieces you won’t find on the high street. It’s a celebration of reuse\, community and conscious shopping\, without compromising on style or fun. \nGood for your wallet\, good for the planet\, and great vibes all round. \nEveryone is welcome\, bring a friend and enjoy a day of sustainable shopping at Happy Valley! \nEntry £2 with £1 going to charity. \nIf you would like a stall\, please e-mail events@happyvalleynorfolk.co.uk and one of our friendly team will get back to you!
URL:https://norfolkevents.uk/event/the-pre-loved-pop-up-market/
LOCATION:Happy Valley Norfolk\, Happy Valley Norfolk\, Washpit Farm\, Massingham Road\, King’s Lynn\, PE32 1DN\, United Kingdom
CATEGORIES:Community,Craft Fairs,Entertainment,Food,Shopping
ATTACH;FMTTYPE=image/jpeg:https://norfolkevents.uk/wp-content/uploads/2026/03/market.jpg
END:VEVENT
END:VCALENDAR