BEGIN:VCALENDAR
VERSION:2.0
PRODID:-//Norfolk Events - ECPv6.15.20//NONSGML v1.0//EN
CALSCALE:GREGORIAN
METHOD:PUBLISH
X-WR-CALNAME:Norfolk Events
X-ORIGINAL-URL:https://norfolkevents.uk
X-WR-CALDESC:Events for Norfolk Events
REFRESH-INTERVAL;VALUE=DURATION:PT1H
X-Robots-Tag:noindex
X-PUBLISHED-TTL:PT1H
BEGIN:VTIMEZONE
TZID:Europe/London
BEGIN:DAYLIGHT
TZOFFSETFROM:+0000
TZOFFSETTO:+0100
TZNAME:BST
DTSTART:20240331T010000
END:DAYLIGHT
BEGIN:STANDARD
TZOFFSETFROM:+0100
TZOFFSETTO:+0000
TZNAME:GMT
DTSTART:20241027T010000
END:STANDARD
BEGIN:DAYLIGHT
TZOFFSETFROM:+0000
TZOFFSETTO:+0100
TZNAME:BST
DTSTART:20250330T010000
END:DAYLIGHT
BEGIN:STANDARD
TZOFFSETFROM:+0100
TZOFFSETTO:+0000
TZNAME:GMT
DTSTART:20251026T010000
END:STANDARD
BEGIN:DAYLIGHT
TZOFFSETFROM:+0000
TZOFFSETTO:+0100
TZNAME:BST
DTSTART:20260329T010000
END:DAYLIGHT
BEGIN:STANDARD
TZOFFSETFROM:+0100
TZOFFSETTO:+0000
TZNAME:GMT
DTSTART:20261025T010000
END:STANDARD
END:VTIMEZONE
BEGIN:VEVENT
DTSTART;TZID=Europe/London:20251012T110000
DTEND;TZID=Europe/London:20251012T150000
DTSTAMP:20260425T175443
CREATED:20250915T210126Z
LAST-MODIFIED:20250915T210126Z
UID:10008849-1760266800-1760281200@norfolkevents.uk
SUMMARY:Happy Valley's Wilderness Wedding Fair
DESCRIPTION:Come join us at the Wilderness Wedding Fair at Happy Valley Woodland & Barn Venue with Luxury Glamping in Norfolk! Get inspired by the beautiful surroundings and meet vendors who can make your dream wedding a reality. From rustic decor to bohemian florals\, you’ll find everything you need for your special day. Don’t miss out on this opportunity to explore unique wedding ideas in a picturesque setting. See you there! \nWe are also giving guided tours of our venue for couples who are exploring their venue options. If you would like to book on to one of the slots available throughout the day please email – weddings@happyvalleynorfolk.co.uk (please note spaces are limited). \nHappy Valley is a relaxed\, woodland venue designed for those looking for an established Venue on which to create their dream day! If you prefer the untouched wilderness vibe there is no need to add very much at all. Alternatively there’s an abundance of indoor and outdoor spaces where you can add your personal touches. A Venue for couples beating to the sound of their own drum where you have the freedom to create your own magic \nA South facing wilderness Venue with forest backdrops as well as the little lake\, open glades and views of vast open Norfolk skies\, there’s literally something for everyone. \nBook tickets here: https://www.eventbrite.com/e/wilderness-wedding-fair-at-happy-valley-norfolk-tickets-1272336084479?aff=oddtdtcreator
URL:https://norfolkevents.uk/event/happy-valleys-wilderness-wedding-fair/
LOCATION:Happy Valley Norfolk\, Happy Valley Norfolk\, Washpit Farm\, Massingham Road\, King’s Lynn\, PE32 1DN\, United Kingdom
CATEGORIES:Art and exhibitions,Community,Entertainment,Tours
ATTACH;FMTTYPE=image/jpeg:https://norfolkevents.uk/wp-content/uploads/2025/09/Insta-Post-Size.jpg
END:VEVENT
END:VCALENDAR