BEGIN:VCALENDAR
VERSION:2.0
PRODID:-//Norfolk Events - ECPv6.15.20//NONSGML v1.0//EN
CALSCALE:GREGORIAN
METHOD:PUBLISH
X-ORIGINAL-URL:https://norfolkevents.uk
X-WR-CALDESC:Events for Norfolk Events
REFRESH-INTERVAL;VALUE=DURATION:PT1H
X-Robots-Tag:noindex
X-PUBLISHED-TTL:PT1H
BEGIN:VTIMEZONE
TZID:Europe/London
BEGIN:DAYLIGHT
TZOFFSETFROM:+0000
TZOFFSETTO:+0100
TZNAME:BST
DTSTART:20250330T010000
END:DAYLIGHT
BEGIN:STANDARD
TZOFFSETFROM:+0100
TZOFFSETTO:+0000
TZNAME:GMT
DTSTART:20251026T010000
END:STANDARD
BEGIN:DAYLIGHT
TZOFFSETFROM:+0000
TZOFFSETTO:+0100
TZNAME:BST
DTSTART:20260329T010000
END:DAYLIGHT
BEGIN:STANDARD
TZOFFSETFROM:+0100
TZOFFSETTO:+0000
TZNAME:GMT
DTSTART:20261025T010000
END:STANDARD
BEGIN:DAYLIGHT
TZOFFSETFROM:+0000
TZOFFSETTO:+0100
TZNAME:BST
DTSTART:20270328T010000
END:DAYLIGHT
BEGIN:STANDARD
TZOFFSETFROM:+0100
TZOFFSETTO:+0000
TZNAME:GMT
DTSTART:20271031T010000
END:STANDARD
END:VTIMEZONE
BEGIN:VEVENT
DTSTART;TZID=Europe/London:20260314T100000
DTEND;TZID=Europe/London:20260329T160000
DTSTAMP:20260424T123753
CREATED:20260305T195901Z
LAST-MODIFIED:20260305T195901Z
UID:10016346-1773482400-1774800000@norfolkevents.uk
SUMMARY:Anglian Potters Spring Exhibition
DESCRIPTION:Anglian Potters are back again with a wonderful display of pottery from over 50 makers. All the work is handmade in the local region and there is a huge range of colours and styles to see and choose from. \nWe are open every day except Mondays from Saturday 14th March to Sunday 29th March from 10.00 to 4.30 (4.00 on Sundays) \nDo come and see all the fabulous work and find something special to take away either as a present or o decorate your home or to use every day for breakfast!
URL:https://norfolkevents.uk/event/anglian-potters-spring-exhibition/
LOCATION:The Undercroft Gallery\, Market Square\, Norwich\, NR2 1ND
CATEGORIES:Art and exhibitions
ATTACH;FMTTYPE=image/jpeg:https://norfolkevents.uk/wp-content/uploads/2026/03/AP_Undercroft_2026_square.jpg
ORGANIZER;CN="Anglian Potters":MAILTO:exhibitions@anglianpotters.org.uk
END:VEVENT
END:VCALENDAR