BEGIN:VCALENDAR
VERSION:2.0
PRODID:-//Norfolk Events - ECPv6.15.20//NONSGML v1.0//EN
CALSCALE:GREGORIAN
METHOD:PUBLISH
X-WR-CALNAME:Norfolk Events
X-ORIGINAL-URL:https://norfolkevents.uk
X-WR-CALDESC:Events for Norfolk Events
REFRESH-INTERVAL;VALUE=DURATION:PT1H
X-Robots-Tag:noindex
X-PUBLISHED-TTL:PT1H
BEGIN:VTIMEZONE
TZID:Europe/London
BEGIN:DAYLIGHT
TZOFFSETFROM:+0000
TZOFFSETTO:+0100
TZNAME:BST
DTSTART:20250330T010000
END:DAYLIGHT
BEGIN:STANDARD
TZOFFSETFROM:+0100
TZOFFSETTO:+0000
TZNAME:GMT
DTSTART:20251026T010000
END:STANDARD
BEGIN:DAYLIGHT
TZOFFSETFROM:+0000
TZOFFSETTO:+0100
TZNAME:BST
DTSTART:20260329T010000
END:DAYLIGHT
BEGIN:STANDARD
TZOFFSETFROM:+0100
TZOFFSETTO:+0000
TZNAME:GMT
DTSTART:20261025T010000
END:STANDARD
BEGIN:DAYLIGHT
TZOFFSETFROM:+0000
TZOFFSETTO:+0100
TZNAME:BST
DTSTART:20270328T010000
END:DAYLIGHT
BEGIN:STANDARD
TZOFFSETFROM:+0100
TZOFFSETTO:+0000
TZNAME:GMT
DTSTART:20271031T010000
END:STANDARD
END:VTIMEZONE
BEGIN:VEVENT
DTSTART;TZID=Europe/London:20260420T170000
DTEND;TZID=Europe/London:20260420T220000
DTSTAMP:20260419T163627
CREATED:20260110T205335Z
LAST-MODIFIED:20260110T205741Z
UID:10012714-1776704400-1776722400@norfolkevents.uk
SUMMARY:Quiz & Fried Chicken Night
DESCRIPTION:Danger Dave’s Quiz Night @ the Reindeer Pub\, Norwich\, ft. the excellent Bubba Fried Chicken. Join us for a evening of excellent food and entertainment at the Reindeer Entertainment & Live Music Venue.\nFood 17:00-21:00\nQuiz 18:45 registration 19:00 Start
URL:https://norfolkevents.uk/event/quiz-fried-chicken-night/2026-04-20/
LOCATION:The Reindeer Norwich\, 10 Dereham Road\, Norwich\, NR2 4AY
CATEGORIES:Food,Quizzes
ATTACH;FMTTYPE=image/png:https://norfolkevents.uk/wp-content/uploads/2026/01/inbound6741067907253981146-scaled.png
END:VEVENT
BEGIN:VEVENT
DTSTART;TZID=Europe/London:20260427T170000
DTEND;TZID=Europe/London:20260427T220000
DTSTAMP:20260419T163627
CREATED:20260110T205335Z
LAST-MODIFIED:20260110T205741Z
UID:10012715-1777309200-1777327200@norfolkevents.uk
SUMMARY:Quiz & Fried Chicken Night
DESCRIPTION:Danger Dave’s Quiz Night @ the Reindeer Pub\, Norwich\, ft. the excellent Bubba Fried Chicken. Join us for a evening of excellent food and entertainment at the Reindeer Entertainment & Live Music Venue.\nFood 17:00-21:00\nQuiz 18:45 registration 19:00 Start
URL:https://norfolkevents.uk/event/quiz-fried-chicken-night/2026-04-27/
LOCATION:The Reindeer Norwich\, 10 Dereham Road\, Norwich\, NR2 4AY
CATEGORIES:Food,Quizzes
ATTACH;FMTTYPE=image/png:https://norfolkevents.uk/wp-content/uploads/2026/01/inbound6741067907253981146-scaled.png
END:VEVENT
BEGIN:VEVENT
DTSTART;TZID=Europe/London:20260504T170000
DTEND;TZID=Europe/London:20260504T220000
DTSTAMP:20260419T163627
CREATED:20260110T205335Z
LAST-MODIFIED:20260110T205741Z
UID:10012716-1777914000-1777932000@norfolkevents.uk
SUMMARY:Quiz & Fried Chicken Night
DESCRIPTION:Danger Dave’s Quiz Night @ the Reindeer Pub\, Norwich\, ft. the excellent Bubba Fried Chicken. Join us for a evening of excellent food and entertainment at the Reindeer Entertainment & Live Music Venue.\nFood 17:00-21:00\nQuiz 18:45 registration 19:00 Start
URL:https://norfolkevents.uk/event/quiz-fried-chicken-night/2026-05-04/
LOCATION:The Reindeer Norwich\, 10 Dereham Road\, Norwich\, NR2 4AY
CATEGORIES:Food,Quizzes
ATTACH;FMTTYPE=image/png:https://norfolkevents.uk/wp-content/uploads/2026/01/inbound6741067907253981146-scaled.png
END:VEVENT
BEGIN:VEVENT
DTSTART;TZID=Europe/London:20260511T170000
DTEND;TZID=Europe/London:20260511T220000
DTSTAMP:20260419T163627
CREATED:20260110T205335Z
LAST-MODIFIED:20260110T205741Z
UID:10012717-1778518800-1778536800@norfolkevents.uk
SUMMARY:Quiz & Fried Chicken Night
DESCRIPTION:Danger Dave’s Quiz Night @ the Reindeer Pub\, Norwich\, ft. the excellent Bubba Fried Chicken. Join us for a evening of excellent food and entertainment at the Reindeer Entertainment & Live Music Venue.\nFood 17:00-21:00\nQuiz 18:45 registration 19:00 Start
URL:https://norfolkevents.uk/event/quiz-fried-chicken-night/2026-05-11/
LOCATION:The Reindeer Norwich\, 10 Dereham Road\, Norwich\, NR2 4AY
CATEGORIES:Food,Quizzes
ATTACH;FMTTYPE=image/png:https://norfolkevents.uk/wp-content/uploads/2026/01/inbound6741067907253981146-scaled.png
END:VEVENT
BEGIN:VEVENT
DTSTART;TZID=Europe/London:20260518T170000
DTEND;TZID=Europe/London:20260518T220000
DTSTAMP:20260419T163627
CREATED:20260110T205335Z
LAST-MODIFIED:20260110T205741Z
UID:10012718-1779123600-1779141600@norfolkevents.uk
SUMMARY:Quiz & Fried Chicken Night
DESCRIPTION:Danger Dave’s Quiz Night @ the Reindeer Pub\, Norwich\, ft. the excellent Bubba Fried Chicken. Join us for a evening of excellent food and entertainment at the Reindeer Entertainment & Live Music Venue.\nFood 17:00-21:00\nQuiz 18:45 registration 19:00 Start
URL:https://norfolkevents.uk/event/quiz-fried-chicken-night/2026-05-18/
LOCATION:The Reindeer Norwich\, 10 Dereham Road\, Norwich\, NR2 4AY
CATEGORIES:Food,Quizzes
ATTACH;FMTTYPE=image/png:https://norfolkevents.uk/wp-content/uploads/2026/01/inbound6741067907253981146-scaled.png
END:VEVENT
BEGIN:VEVENT
DTSTART;TZID=Europe/London:20260525T170000
DTEND;TZID=Europe/London:20260525T220000
DTSTAMP:20260419T163627
CREATED:20260110T205335Z
LAST-MODIFIED:20260110T205741Z
UID:10012719-1779728400-1779746400@norfolkevents.uk
SUMMARY:Quiz & Fried Chicken Night
DESCRIPTION:Danger Dave’s Quiz Night @ the Reindeer Pub\, Norwich\, ft. the excellent Bubba Fried Chicken. Join us for a evening of excellent food and entertainment at the Reindeer Entertainment & Live Music Venue.\nFood 17:00-21:00\nQuiz 18:45 registration 19:00 Start
URL:https://norfolkevents.uk/event/quiz-fried-chicken-night/2026-05-25/
LOCATION:The Reindeer Norwich\, 10 Dereham Road\, Norwich\, NR2 4AY
CATEGORIES:Food,Quizzes
ATTACH;FMTTYPE=image/png:https://norfolkevents.uk/wp-content/uploads/2026/01/inbound6741067907253981146-scaled.png
END:VEVENT
BEGIN:VEVENT
DTSTART;TZID=Europe/London:20260601T170000
DTEND;TZID=Europe/London:20260601T220000
DTSTAMP:20260419T163627
CREATED:20260110T205335Z
LAST-MODIFIED:20260110T205741Z
UID:10012720-1780333200-1780351200@norfolkevents.uk
SUMMARY:Quiz & Fried Chicken Night
DESCRIPTION:Danger Dave’s Quiz Night @ the Reindeer Pub\, Norwich\, ft. the excellent Bubba Fried Chicken. Join us for a evening of excellent food and entertainment at the Reindeer Entertainment & Live Music Venue.\nFood 17:00-21:00\nQuiz 18:45 registration 19:00 Start
URL:https://norfolkevents.uk/event/quiz-fried-chicken-night/2026-06-01/
LOCATION:The Reindeer Norwich\, 10 Dereham Road\, Norwich\, NR2 4AY
CATEGORIES:Food,Quizzes
ATTACH;FMTTYPE=image/png:https://norfolkevents.uk/wp-content/uploads/2026/01/inbound6741067907253981146-scaled.png
END:VEVENT
BEGIN:VEVENT
DTSTART;TZID=Europe/London:20260608T170000
DTEND;TZID=Europe/London:20260608T220000
DTSTAMP:20260419T163627
CREATED:20260110T205335Z
LAST-MODIFIED:20260110T205741Z
UID:10012721-1780938000-1780956000@norfolkevents.uk
SUMMARY:Quiz & Fried Chicken Night
DESCRIPTION:Danger Dave’s Quiz Night @ the Reindeer Pub\, Norwich\, ft. the excellent Bubba Fried Chicken. Join us for a evening of excellent food and entertainment at the Reindeer Entertainment & Live Music Venue.\nFood 17:00-21:00\nQuiz 18:45 registration 19:00 Start
URL:https://norfolkevents.uk/event/quiz-fried-chicken-night/2026-06-08/
LOCATION:The Reindeer Norwich\, 10 Dereham Road\, Norwich\, NR2 4AY
CATEGORIES:Food,Quizzes
ATTACH;FMTTYPE=image/png:https://norfolkevents.uk/wp-content/uploads/2026/01/inbound6741067907253981146-scaled.png
END:VEVENT
BEGIN:VEVENT
DTSTART;TZID=Europe/London:20260615T170000
DTEND;TZID=Europe/London:20260615T220000
DTSTAMP:20260419T163627
CREATED:20260110T205335Z
LAST-MODIFIED:20260110T205741Z
UID:10012722-1781542800-1781560800@norfolkevents.uk
SUMMARY:Quiz & Fried Chicken Night
DESCRIPTION:Danger Dave’s Quiz Night @ the Reindeer Pub\, Norwich\, ft. the excellent Bubba Fried Chicken. Join us for a evening of excellent food and entertainment at the Reindeer Entertainment & Live Music Venue.\nFood 17:00-21:00\nQuiz 18:45 registration 19:00 Start
URL:https://norfolkevents.uk/event/quiz-fried-chicken-night/2026-06-15/
LOCATION:The Reindeer Norwich\, 10 Dereham Road\, Norwich\, NR2 4AY
CATEGORIES:Food,Quizzes
ATTACH;FMTTYPE=image/png:https://norfolkevents.uk/wp-content/uploads/2026/01/inbound6741067907253981146-scaled.png
END:VEVENT
BEGIN:VEVENT
DTSTART;TZID=Europe/London:20260622T170000
DTEND;TZID=Europe/London:20260622T220000
DTSTAMP:20260419T163627
CREATED:20260110T205335Z
LAST-MODIFIED:20260110T205741Z
UID:10012723-1782147600-1782165600@norfolkevents.uk
SUMMARY:Quiz & Fried Chicken Night
DESCRIPTION:Danger Dave’s Quiz Night @ the Reindeer Pub\, Norwich\, ft. the excellent Bubba Fried Chicken. Join us for a evening of excellent food and entertainment at the Reindeer Entertainment & Live Music Venue.\nFood 17:00-21:00\nQuiz 18:45 registration 19:00 Start
URL:https://norfolkevents.uk/event/quiz-fried-chicken-night/2026-06-22/
LOCATION:The Reindeer Norwich\, 10 Dereham Road\, Norwich\, NR2 4AY
CATEGORIES:Food,Quizzes
ATTACH;FMTTYPE=image/png:https://norfolkevents.uk/wp-content/uploads/2026/01/inbound6741067907253981146-scaled.png
END:VEVENT
BEGIN:VEVENT
DTSTART;TZID=Europe/London:20260629T170000
DTEND;TZID=Europe/London:20260629T220000
DTSTAMP:20260419T163627
CREATED:20260110T205335Z
LAST-MODIFIED:20260110T205741Z
UID:10012724-1782752400-1782770400@norfolkevents.uk
SUMMARY:Quiz & Fried Chicken Night
DESCRIPTION:Danger Dave’s Quiz Night @ the Reindeer Pub\, Norwich\, ft. the excellent Bubba Fried Chicken. Join us for a evening of excellent food and entertainment at the Reindeer Entertainment & Live Music Venue.\nFood 17:00-21:00\nQuiz 18:45 registration 19:00 Start
URL:https://norfolkevents.uk/event/quiz-fried-chicken-night/2026-06-29/
LOCATION:The Reindeer Norwich\, 10 Dereham Road\, Norwich\, NR2 4AY
CATEGORIES:Food,Quizzes
ATTACH;FMTTYPE=image/png:https://norfolkevents.uk/wp-content/uploads/2026/01/inbound6741067907253981146-scaled.png
END:VEVENT
BEGIN:VEVENT
DTSTART;TZID=Europe/London:20260706T170000
DTEND;TZID=Europe/London:20260706T220000
DTSTAMP:20260419T163627
CREATED:20260110T205335Z
LAST-MODIFIED:20260110T205741Z
UID:10012725-1783357200-1783375200@norfolkevents.uk
SUMMARY:Quiz & Fried Chicken Night
DESCRIPTION:Danger Dave’s Quiz Night @ the Reindeer Pub\, Norwich\, ft. the excellent Bubba Fried Chicken. Join us for a evening of excellent food and entertainment at the Reindeer Entertainment & Live Music Venue.\nFood 17:00-21:00\nQuiz 18:45 registration 19:00 Start
URL:https://norfolkevents.uk/event/quiz-fried-chicken-night/2026-07-06/
LOCATION:The Reindeer Norwich\, 10 Dereham Road\, Norwich\, NR2 4AY
CATEGORIES:Food,Quizzes
ATTACH;FMTTYPE=image/png:https://norfolkevents.uk/wp-content/uploads/2026/01/inbound6741067907253981146-scaled.png
END:VEVENT
BEGIN:VEVENT
DTSTART;TZID=Europe/London:20260713T170000
DTEND;TZID=Europe/London:20260713T220000
DTSTAMP:20260419T163627
CREATED:20260110T205335Z
LAST-MODIFIED:20260110T205741Z
UID:10012726-1783962000-1783980000@norfolkevents.uk
SUMMARY:Quiz & Fried Chicken Night
DESCRIPTION:Danger Dave’s Quiz Night @ the Reindeer Pub\, Norwich\, ft. the excellent Bubba Fried Chicken. Join us for a evening of excellent food and entertainment at the Reindeer Entertainment & Live Music Venue.\nFood 17:00-21:00\nQuiz 18:45 registration 19:00 Start
URL:https://norfolkevents.uk/event/quiz-fried-chicken-night/2026-07-13/
LOCATION:The Reindeer Norwich\, 10 Dereham Road\, Norwich\, NR2 4AY
CATEGORIES:Food,Quizzes
ATTACH;FMTTYPE=image/png:https://norfolkevents.uk/wp-content/uploads/2026/01/inbound6741067907253981146-scaled.png
END:VEVENT
BEGIN:VEVENT
DTSTART;TZID=Europe/London:20260720T170000
DTEND;TZID=Europe/London:20260720T220000
DTSTAMP:20260419T163627
CREATED:20260110T205335Z
LAST-MODIFIED:20260110T205741Z
UID:10012727-1784566800-1784584800@norfolkevents.uk
SUMMARY:Quiz & Fried Chicken Night
DESCRIPTION:Danger Dave’s Quiz Night @ the Reindeer Pub\, Norwich\, ft. the excellent Bubba Fried Chicken. Join us for a evening of excellent food and entertainment at the Reindeer Entertainment & Live Music Venue.\nFood 17:00-21:00\nQuiz 18:45 registration 19:00 Start
URL:https://norfolkevents.uk/event/quiz-fried-chicken-night/2026-07-20/
LOCATION:The Reindeer Norwich\, 10 Dereham Road\, Norwich\, NR2 4AY
CATEGORIES:Food,Quizzes
ATTACH;FMTTYPE=image/png:https://norfolkevents.uk/wp-content/uploads/2026/01/inbound6741067907253981146-scaled.png
END:VEVENT
BEGIN:VEVENT
DTSTART;TZID=Europe/London:20260727T170000
DTEND;TZID=Europe/London:20260727T220000
DTSTAMP:20260419T163627
CREATED:20260110T205335Z
LAST-MODIFIED:20260110T205741Z
UID:10012728-1785171600-1785189600@norfolkevents.uk
SUMMARY:Quiz & Fried Chicken Night
DESCRIPTION:Danger Dave’s Quiz Night @ the Reindeer Pub\, Norwich\, ft. the excellent Bubba Fried Chicken. Join us for a evening of excellent food and entertainment at the Reindeer Entertainment & Live Music Venue.\nFood 17:00-21:00\nQuiz 18:45 registration 19:00 Start
URL:https://norfolkevents.uk/event/quiz-fried-chicken-night/2026-07-27/
LOCATION:The Reindeer Norwich\, 10 Dereham Road\, Norwich\, NR2 4AY
CATEGORIES:Food,Quizzes
ATTACH;FMTTYPE=image/png:https://norfolkevents.uk/wp-content/uploads/2026/01/inbound6741067907253981146-scaled.png
END:VEVENT
BEGIN:VEVENT
DTSTART;TZID=Europe/London:20260803T170000
DTEND;TZID=Europe/London:20260803T220000
DTSTAMP:20260419T163627
CREATED:20260110T205335Z
LAST-MODIFIED:20260110T205741Z
UID:10012729-1785776400-1785794400@norfolkevents.uk
SUMMARY:Quiz & Fried Chicken Night
DESCRIPTION:Danger Dave’s Quiz Night @ the Reindeer Pub\, Norwich\, ft. the excellent Bubba Fried Chicken. Join us for a evening of excellent food and entertainment at the Reindeer Entertainment & Live Music Venue.\nFood 17:00-21:00\nQuiz 18:45 registration 19:00 Start
URL:https://norfolkevents.uk/event/quiz-fried-chicken-night/2026-08-03/
LOCATION:The Reindeer Norwich\, 10 Dereham Road\, Norwich\, NR2 4AY
CATEGORIES:Food,Quizzes
ATTACH;FMTTYPE=image/png:https://norfolkevents.uk/wp-content/uploads/2026/01/inbound6741067907253981146-scaled.png
END:VEVENT
BEGIN:VEVENT
DTSTART;TZID=Europe/London:20260810T170000
DTEND;TZID=Europe/London:20260810T220000
DTSTAMP:20260419T163628
CREATED:20260110T205335Z
LAST-MODIFIED:20260110T205741Z
UID:10012730-1786381200-1786399200@norfolkevents.uk
SUMMARY:Quiz & Fried Chicken Night
DESCRIPTION:Danger Dave’s Quiz Night @ the Reindeer Pub\, Norwich\, ft. the excellent Bubba Fried Chicken. Join us for a evening of excellent food and entertainment at the Reindeer Entertainment & Live Music Venue.\nFood 17:00-21:00\nQuiz 18:45 registration 19:00 Start
URL:https://norfolkevents.uk/event/quiz-fried-chicken-night/2026-08-10/
LOCATION:The Reindeer Norwich\, 10 Dereham Road\, Norwich\, NR2 4AY
CATEGORIES:Food,Quizzes
ATTACH;FMTTYPE=image/png:https://norfolkevents.uk/wp-content/uploads/2026/01/inbound6741067907253981146-scaled.png
END:VEVENT
BEGIN:VEVENT
DTSTART;TZID=Europe/London:20260817T170000
DTEND;TZID=Europe/London:20260817T220000
DTSTAMP:20260419T163628
CREATED:20260110T205335Z
LAST-MODIFIED:20260110T205741Z
UID:10012731-1786986000-1787004000@norfolkevents.uk
SUMMARY:Quiz & Fried Chicken Night
DESCRIPTION:Danger Dave’s Quiz Night @ the Reindeer Pub\, Norwich\, ft. the excellent Bubba Fried Chicken. Join us for a evening of excellent food and entertainment at the Reindeer Entertainment & Live Music Venue.\nFood 17:00-21:00\nQuiz 18:45 registration 19:00 Start
URL:https://norfolkevents.uk/event/quiz-fried-chicken-night/2026-08-17/
LOCATION:The Reindeer Norwich\, 10 Dereham Road\, Norwich\, NR2 4AY
CATEGORIES:Food,Quizzes
ATTACH;FMTTYPE=image/png:https://norfolkevents.uk/wp-content/uploads/2026/01/inbound6741067907253981146-scaled.png
END:VEVENT
BEGIN:VEVENT
DTSTART;TZID=Europe/London:20260824T170000
DTEND;TZID=Europe/London:20260824T220000
DTSTAMP:20260419T163628
CREATED:20260110T205335Z
LAST-MODIFIED:20260110T205741Z
UID:10012732-1787590800-1787608800@norfolkevents.uk
SUMMARY:Quiz & Fried Chicken Night
DESCRIPTION:Danger Dave’s Quiz Night @ the Reindeer Pub\, Norwich\, ft. the excellent Bubba Fried Chicken. Join us for a evening of excellent food and entertainment at the Reindeer Entertainment & Live Music Venue.\nFood 17:00-21:00\nQuiz 18:45 registration 19:00 Start
URL:https://norfolkevents.uk/event/quiz-fried-chicken-night/2026-08-24/
LOCATION:The Reindeer Norwich\, 10 Dereham Road\, Norwich\, NR2 4AY
CATEGORIES:Food,Quizzes
ATTACH;FMTTYPE=image/png:https://norfolkevents.uk/wp-content/uploads/2026/01/inbound6741067907253981146-scaled.png
END:VEVENT
BEGIN:VEVENT
DTSTART;TZID=Europe/London:20260831T170000
DTEND;TZID=Europe/London:20260831T220000
DTSTAMP:20260419T163628
CREATED:20260110T205335Z
LAST-MODIFIED:20260110T205741Z
UID:10012733-1788195600-1788213600@norfolkevents.uk
SUMMARY:Quiz & Fried Chicken Night
DESCRIPTION:Danger Dave’s Quiz Night @ the Reindeer Pub\, Norwich\, ft. the excellent Bubba Fried Chicken. Join us for a evening of excellent food and entertainment at the Reindeer Entertainment & Live Music Venue.\nFood 17:00-21:00\nQuiz 18:45 registration 19:00 Start
URL:https://norfolkevents.uk/event/quiz-fried-chicken-night/2026-08-31/
LOCATION:The Reindeer Norwich\, 10 Dereham Road\, Norwich\, NR2 4AY
CATEGORIES:Food,Quizzes
ATTACH;FMTTYPE=image/png:https://norfolkevents.uk/wp-content/uploads/2026/01/inbound6741067907253981146-scaled.png
END:VEVENT
BEGIN:VEVENT
DTSTART;TZID=Europe/London:20260907T170000
DTEND;TZID=Europe/London:20260907T220000
DTSTAMP:20260419T163628
CREATED:20260110T205335Z
LAST-MODIFIED:20260110T205741Z
UID:10012734-1788800400-1788818400@norfolkevents.uk
SUMMARY:Quiz & Fried Chicken Night
DESCRIPTION:Danger Dave’s Quiz Night @ the Reindeer Pub\, Norwich\, ft. the excellent Bubba Fried Chicken. Join us for a evening of excellent food and entertainment at the Reindeer Entertainment & Live Music Venue.\nFood 17:00-21:00\nQuiz 18:45 registration 19:00 Start
URL:https://norfolkevents.uk/event/quiz-fried-chicken-night/2026-09-07/
LOCATION:The Reindeer Norwich\, 10 Dereham Road\, Norwich\, NR2 4AY
CATEGORIES:Food,Quizzes
ATTACH;FMTTYPE=image/png:https://norfolkevents.uk/wp-content/uploads/2026/01/inbound6741067907253981146-scaled.png
END:VEVENT
BEGIN:VEVENT
DTSTART;TZID=Europe/London:20260914T170000
DTEND;TZID=Europe/London:20260914T220000
DTSTAMP:20260419T163628
CREATED:20260110T205335Z
LAST-MODIFIED:20260110T205741Z
UID:10012735-1789405200-1789423200@norfolkevents.uk
SUMMARY:Quiz & Fried Chicken Night
DESCRIPTION:Danger Dave’s Quiz Night @ the Reindeer Pub\, Norwich\, ft. the excellent Bubba Fried Chicken. Join us for a evening of excellent food and entertainment at the Reindeer Entertainment & Live Music Venue.\nFood 17:00-21:00\nQuiz 18:45 registration 19:00 Start
URL:https://norfolkevents.uk/event/quiz-fried-chicken-night/2026-09-14/
LOCATION:The Reindeer Norwich\, 10 Dereham Road\, Norwich\, NR2 4AY
CATEGORIES:Food,Quizzes
ATTACH;FMTTYPE=image/png:https://norfolkevents.uk/wp-content/uploads/2026/01/inbound6741067907253981146-scaled.png
END:VEVENT
BEGIN:VEVENT
DTSTART;TZID=Europe/London:20260921T170000
DTEND;TZID=Europe/London:20260921T220000
DTSTAMP:20260419T163628
CREATED:20260110T205335Z
LAST-MODIFIED:20260110T205741Z
UID:10012736-1790010000-1790028000@norfolkevents.uk
SUMMARY:Quiz & Fried Chicken Night
DESCRIPTION:Danger Dave’s Quiz Night @ the Reindeer Pub\, Norwich\, ft. the excellent Bubba Fried Chicken. Join us for a evening of excellent food and entertainment at the Reindeer Entertainment & Live Music Venue.\nFood 17:00-21:00\nQuiz 18:45 registration 19:00 Start
URL:https://norfolkevents.uk/event/quiz-fried-chicken-night/2026-09-21/
LOCATION:The Reindeer Norwich\, 10 Dereham Road\, Norwich\, NR2 4AY
CATEGORIES:Food,Quizzes
ATTACH;FMTTYPE=image/png:https://norfolkevents.uk/wp-content/uploads/2026/01/inbound6741067907253981146-scaled.png
END:VEVENT
BEGIN:VEVENT
DTSTART;TZID=Europe/London:20260928T170000
DTEND;TZID=Europe/London:20260928T220000
DTSTAMP:20260419T163628
CREATED:20260110T205335Z
LAST-MODIFIED:20260110T205741Z
UID:10012737-1790614800-1790632800@norfolkevents.uk
SUMMARY:Quiz & Fried Chicken Night
DESCRIPTION:Danger Dave’s Quiz Night @ the Reindeer Pub\, Norwich\, ft. the excellent Bubba Fried Chicken. Join us for a evening of excellent food and entertainment at the Reindeer Entertainment & Live Music Venue.\nFood 17:00-21:00\nQuiz 18:45 registration 19:00 Start
URL:https://norfolkevents.uk/event/quiz-fried-chicken-night/2026-09-28/
LOCATION:The Reindeer Norwich\, 10 Dereham Road\, Norwich\, NR2 4AY
CATEGORIES:Food,Quizzes
ATTACH;FMTTYPE=image/png:https://norfolkevents.uk/wp-content/uploads/2026/01/inbound6741067907253981146-scaled.png
END:VEVENT
BEGIN:VEVENT
DTSTART;TZID=Europe/London:20261005T170000
DTEND;TZID=Europe/London:20261005T220000
DTSTAMP:20260419T163628
CREATED:20260110T205335Z
LAST-MODIFIED:20260110T205741Z
UID:10012738-1791219600-1791237600@norfolkevents.uk
SUMMARY:Quiz & Fried Chicken Night
DESCRIPTION:Danger Dave’s Quiz Night @ the Reindeer Pub\, Norwich\, ft. the excellent Bubba Fried Chicken. Join us for a evening of excellent food and entertainment at the Reindeer Entertainment & Live Music Venue.\nFood 17:00-21:00\nQuiz 18:45 registration 19:00 Start
URL:https://norfolkevents.uk/event/quiz-fried-chicken-night/2026-10-05/
LOCATION:The Reindeer Norwich\, 10 Dereham Road\, Norwich\, NR2 4AY
CATEGORIES:Food,Quizzes
ATTACH;FMTTYPE=image/png:https://norfolkevents.uk/wp-content/uploads/2026/01/inbound6741067907253981146-scaled.png
END:VEVENT
BEGIN:VEVENT
DTSTART;TZID=Europe/London:20261012T170000
DTEND;TZID=Europe/London:20261012T220000
DTSTAMP:20260419T163628
CREATED:20260110T205335Z
LAST-MODIFIED:20260110T205741Z
UID:10012739-1791824400-1791842400@norfolkevents.uk
SUMMARY:Quiz & Fried Chicken Night
DESCRIPTION:Danger Dave’s Quiz Night @ the Reindeer Pub\, Norwich\, ft. the excellent Bubba Fried Chicken. Join us for a evening of excellent food and entertainment at the Reindeer Entertainment & Live Music Venue.\nFood 17:00-21:00\nQuiz 18:45 registration 19:00 Start
URL:https://norfolkevents.uk/event/quiz-fried-chicken-night/2026-10-12/
LOCATION:The Reindeer Norwich\, 10 Dereham Road\, Norwich\, NR2 4AY
CATEGORIES:Food,Quizzes
ATTACH;FMTTYPE=image/png:https://norfolkevents.uk/wp-content/uploads/2026/01/inbound6741067907253981146-scaled.png
END:VEVENT
BEGIN:VEVENT
DTSTART;TZID=Europe/London:20261019T170000
DTEND;TZID=Europe/London:20261019T220000
DTSTAMP:20260419T163628
CREATED:20260110T205335Z
LAST-MODIFIED:20260110T205741Z
UID:10012740-1792429200-1792447200@norfolkevents.uk
SUMMARY:Quiz & Fried Chicken Night
DESCRIPTION:Danger Dave’s Quiz Night @ the Reindeer Pub\, Norwich\, ft. the excellent Bubba Fried Chicken. Join us for a evening of excellent food and entertainment at the Reindeer Entertainment & Live Music Venue.\nFood 17:00-21:00\nQuiz 18:45 registration 19:00 Start
URL:https://norfolkevents.uk/event/quiz-fried-chicken-night/2026-10-19/
LOCATION:The Reindeer Norwich\, 10 Dereham Road\, Norwich\, NR2 4AY
CATEGORIES:Food,Quizzes
ATTACH;FMTTYPE=image/png:https://norfolkevents.uk/wp-content/uploads/2026/01/inbound6741067907253981146-scaled.png
END:VEVENT
BEGIN:VEVENT
DTSTART;TZID=Europe/London:20261026T170000
DTEND;TZID=Europe/London:20261026T220000
DTSTAMP:20260419T163628
CREATED:20260110T205335Z
LAST-MODIFIED:20260110T205741Z
UID:10012741-1793034000-1793052000@norfolkevents.uk
SUMMARY:Quiz & Fried Chicken Night
DESCRIPTION:Danger Dave’s Quiz Night @ the Reindeer Pub\, Norwich\, ft. the excellent Bubba Fried Chicken. Join us for a evening of excellent food and entertainment at the Reindeer Entertainment & Live Music Venue.\nFood 17:00-21:00\nQuiz 18:45 registration 19:00 Start
URL:https://norfolkevents.uk/event/quiz-fried-chicken-night/2026-10-26/
LOCATION:The Reindeer Norwich\, 10 Dereham Road\, Norwich\, NR2 4AY
CATEGORIES:Food,Quizzes
ATTACH;FMTTYPE=image/png:https://norfolkevents.uk/wp-content/uploads/2026/01/inbound6741067907253981146-scaled.png
END:VEVENT
BEGIN:VEVENT
DTSTART;TZID=Europe/London:20261102T170000
DTEND;TZID=Europe/London:20261102T220000
DTSTAMP:20260419T163628
CREATED:20260110T205335Z
LAST-MODIFIED:20260110T205741Z
UID:10012742-1793638800-1793656800@norfolkevents.uk
SUMMARY:Quiz & Fried Chicken Night
DESCRIPTION:Danger Dave’s Quiz Night @ the Reindeer Pub\, Norwich\, ft. the excellent Bubba Fried Chicken. Join us for a evening of excellent food and entertainment at the Reindeer Entertainment & Live Music Venue.\nFood 17:00-21:00\nQuiz 18:45 registration 19:00 Start
URL:https://norfolkevents.uk/event/quiz-fried-chicken-night/2026-11-02/
LOCATION:The Reindeer Norwich\, 10 Dereham Road\, Norwich\, NR2 4AY
CATEGORIES:Food,Quizzes
ATTACH;FMTTYPE=image/png:https://norfolkevents.uk/wp-content/uploads/2026/01/inbound6741067907253981146-scaled.png
END:VEVENT
BEGIN:VEVENT
DTSTART;TZID=Europe/London:20261109T170000
DTEND;TZID=Europe/London:20261109T220000
DTSTAMP:20260419T163628
CREATED:20260110T205335Z
LAST-MODIFIED:20260110T205741Z
UID:10012743-1794243600-1794261600@norfolkevents.uk
SUMMARY:Quiz & Fried Chicken Night
DESCRIPTION:Danger Dave’s Quiz Night @ the Reindeer Pub\, Norwich\, ft. the excellent Bubba Fried Chicken. Join us for a evening of excellent food and entertainment at the Reindeer Entertainment & Live Music Venue.\nFood 17:00-21:00\nQuiz 18:45 registration 19:00 Start
URL:https://norfolkevents.uk/event/quiz-fried-chicken-night/2026-11-09/
LOCATION:The Reindeer Norwich\, 10 Dereham Road\, Norwich\, NR2 4AY
CATEGORIES:Food,Quizzes
ATTACH;FMTTYPE=image/png:https://norfolkevents.uk/wp-content/uploads/2026/01/inbound6741067907253981146-scaled.png
END:VEVENT
END:VCALENDAR