BEGIN:VCALENDAR
VERSION:2.0
PRODID:-//Norfolk Events - ECPv6.15.20//NONSGML v1.0//EN
CALSCALE:GREGORIAN
METHOD:PUBLISH
X-ORIGINAL-URL:https://norfolkevents.uk
X-WR-CALDESC:Events for Norfolk Events
REFRESH-INTERVAL;VALUE=DURATION:PT1H
X-Robots-Tag:noindex
X-PUBLISHED-TTL:PT1H
BEGIN:VTIMEZONE
TZID:Europe/London
BEGIN:DAYLIGHT
TZOFFSETFROM:+0000
TZOFFSETTO:+0100
TZNAME:BST
DTSTART:20260329T010000
END:DAYLIGHT
BEGIN:STANDARD
TZOFFSETFROM:+0100
TZOFFSETTO:+0000
TZNAME:GMT
DTSTART:20261025T010000
END:STANDARD
BEGIN:DAYLIGHT
TZOFFSETFROM:+0000
TZOFFSETTO:+0100
TZNAME:BST
DTSTART:20270328T010000
END:DAYLIGHT
BEGIN:STANDARD
TZOFFSETFROM:+0100
TZOFFSETTO:+0000
TZNAME:GMT
DTSTART:20271031T010000
END:STANDARD
BEGIN:DAYLIGHT
TZOFFSETFROM:+0000
TZOFFSETTO:+0100
TZNAME:BST
DTSTART:20280326T010000
END:DAYLIGHT
BEGIN:STANDARD
TZOFFSETFROM:+0100
TZOFFSETTO:+0000
TZNAME:GMT
DTSTART:20281029T010000
END:STANDARD
END:VTIMEZONE
BEGIN:VEVENT
DTSTART;TZID=Europe/London:20270129T170000
DTEND;TZID=Europe/London:20270129T170000
DTSTAMP:20260425T175015
CREATED:20250720T212301Z
LAST-MODIFIED:20250720T212301Z
UID:10005117-1801242000-1801242000@norfolkevents.uk
SUMMARY:Bikers Night
DESCRIPTION:Do you ride a motorcycle? \nWhy not join us every Friday evening for bikers night? \n-Serving hot food until 8pm (Drinks and snack available until close).\n-Fully licensed and stocked bar.\n-Inside & outside seating area.\n-We welcome well behaved dogs.\n-Children’s play area.
URL:https://norfolkevents.uk/event/bikers-night/2027-01-29/
LOCATION:Whitwell & Reepham Railway Station\, Whitwell & Reepham Railway Station\, Reepham\, NR10 4GA
CATEGORIES:Community
ATTACH;FMTTYPE=image/jpeg:https://norfolkevents.uk/wp-content/uploads/2025/07/Bikers-Night.jpg
ORGANIZER;CN="Whitwell &amp%3B Reepham Railway Station":MAILTO:Lesley@whitwellstation.com
END:VEVENT
BEGIN:VEVENT
DTSTART;TZID=Europe/London:20270130T100000
DTEND;TZID=Europe/London:20270130T140000
DTSTAMP:20260425T175015
CREATED:20260213T193619Z
LAST-MODIFIED:20260213T194132Z
UID:10016085-1801303200-1801317600@norfolkevents.uk
SUMMARY:Worstead Estate Farmers Market
DESCRIPTION:Our farmers’ market showcases the very finest in fresh local produce\, supporting local businesses and providing a wholesome day out for locals and visitors alike. \nThe market is held in our striking Norfolk red brick barn at Church Farm\, Smallburgh\, Norfolk\, NR12 9NB. A group of local stallholders attend regularly\, with additional guest stalls bringing a mix of new produce. \nGetting to know our stallholders is very much encouraged\, and they’d be delighted to share with you what goes into producing the goods on offer.
URL:https://norfolkevents.uk/event/worstead-estate-farmers-market-2/2027-01-30/
LOCATION:THE FARM @ Worstead Estate\, ChurchFarm\, Norwich\, NR12 9NB\, United Kingdom
CATEGORIES:Farmers' Market,Food
ATTACH;FMTTYPE=image/jpeg:https://norfolkevents.uk/wp-content/uploads/2026/02/434022708_329156336804208_1760539015104323211_n.jpg
ORGANIZER;CN="Worstead Estate":MAILTO:marketing@worsteadestate.com
END:VEVENT
BEGIN:VEVENT
DTSTART;TZID=Europe/London:20270130T100000
DTEND;TZID=Europe/London:20270202T160000
DTSTAMP:20260425T175015
CREATED:20260110T084207Z
LAST-MODIFIED:20260110T084341Z
UID:10011871-1801303200-1801584000@norfolkevents.uk
SUMMARY:Pop Up Shops
DESCRIPTION:North Norfolk Coast shopping that’s not on the high street from local producers & artisans. Dalegate Market will host four artisans & producers in the beach huts each week.
URL:https://norfolkevents.uk/event/pop-up-shops-2/2027-01-30/
LOCATION:Dalegate Market\, Main Road\, Burnham Deepdale\, PE31 8FB
CATEGORIES:Craft Fairs,Shopping
ATTACH;FMTTYPE=image/jpeg:https://norfolkevents.uk/wp-content/uploads/2025/08/pop-up-shops-header1.jpg
ORGANIZER;CN="Dalegate Market":MAILTO:enquiries@dalegatemarket.co.uk
END:VEVENT
BEGIN:VEVENT
DTSTART;TZID=Europe/London:20270131T100000
DTEND;TZID=Europe/London:20270203T160000
DTSTAMP:20260425T175015
CREATED:20260110T084207Z
LAST-MODIFIED:20260110T084341Z
UID:10011872-1801389600-1801670400@norfolkevents.uk
SUMMARY:Pop Up Shops
DESCRIPTION:North Norfolk Coast shopping that’s not on the high street from local producers & artisans. Dalegate Market will host four artisans & producers in the beach huts each week.
URL:https://norfolkevents.uk/event/pop-up-shops-2/2027-01-31/
LOCATION:Dalegate Market\, Main Road\, Burnham Deepdale\, PE31 8FB
CATEGORIES:Craft Fairs,Shopping
ATTACH;FMTTYPE=image/jpeg:https://norfolkevents.uk/wp-content/uploads/2025/08/pop-up-shops-header1.jpg
ORGANIZER;CN="Dalegate Market":MAILTO:enquiries@dalegatemarket.co.uk
END:VEVENT
BEGIN:VEVENT
DTSTART;VALUE=DATE:20270201
DTEND;VALUE=DATE:20270203
DTSTAMP:20260425T175015
CREATED:20250729T172342Z
LAST-MODIFIED:20250729T185945Z
UID:10005507-1801454400-1801540799@norfolkevents.uk
SUMMARY:Glow Run Club
DESCRIPTION:Our inclusive run club in Wymondham\nBeginner friendly to the avid runners.\nGood energy and glowy souls!
URL:https://norfolkevents.uk/event/glow-run-club/2027-02-01/
LOCATION:wymondham
CATEGORIES:Sports
ATTACH;FMTTYPE=image/jpeg:https://norfolkevents.uk/wp-content/uploads/2025/07/d728bc1d-8a50-4063-acbc-c43d254cc80c.jpeg
END:VEVENT
BEGIN:VEVENT
DTSTART;TZID=Europe/London:20270201T170000
DTEND;TZID=Europe/London:20270201T220000
DTSTAMP:20260425T175016
CREATED:20260110T205335Z
LAST-MODIFIED:20260110T205741Z
UID:10012755-1801501200-1801519200@norfolkevents.uk
SUMMARY:Quiz & Fried Chicken Night
DESCRIPTION:Danger Dave’s Quiz Night @ the Reindeer Pub\, Norwich\, ft. the excellent Bubba Fried Chicken. Join us for a evening of excellent food and entertainment at the Reindeer Entertainment & Live Music Venue.\nFood 17:00-21:00\nQuiz 18:45 registration 19:00 Start
URL:https://norfolkevents.uk/event/quiz-fried-chicken-night/2027-02-01/
LOCATION:The Reindeer Norwich\, 10 Dereham Road\, Norwich\, NR2 4AY
CATEGORIES:Food,Quizzes
ATTACH;FMTTYPE=image/png:https://norfolkevents.uk/wp-content/uploads/2026/01/inbound6741067907253981146-scaled.png
END:VEVENT
BEGIN:VEVENT
DTSTART;TZID=Europe/London:20270202T193000
DTEND;TZID=Europe/London:20270202T213000
DTSTAMP:20260425T175016
CREATED:20251202T213519Z
LAST-MODIFIED:20251202T213519Z
UID:10011185-1801596600-1801603800@norfolkevents.uk
SUMMARY:Annie
DESCRIPTION:The smash-hit West End production of ANNIE\, the world’s favourite family musical\, returns to Norwich for one week only. \nSet in 1930s New York\, brave young Annie is forced to live a life of misery at Miss Hannigan’s orphanage. Her luck soon changes when she’s chosen to spend a fairytale Christmas with famous billionaire\, Oliver Warbucks. Meanwhile\, spiteful Miss Hannigan has other ideas and hatches a plan to spoil Annie’s search for her true family… \nWith its Tony® award-winning book and score\, including the unforgettable songs It’s The Hard-Knock Life\, Easy Street\, I Don’t Need Anything But You and Tomorrow\, you can bet your bottom dollar that you’ll love it!
URL:https://norfolkevents.uk/event/annie/2027-02-02/
LOCATION:Norwich Theatre Royal\, Theatre Street\, Norwich\, Norfolk\, NR2 1RL\, United Kingdom
CATEGORIES:Musicals
ATTACH;FMTTYPE=image/png:https://norfolkevents.uk/wp-content/uploads/2025/12/Untitled-design-2025-12-02T142523.810.png
END:VEVENT
BEGIN:VEVENT
DTSTART;TZID=Europe/London:20270202T193000
DTEND;TZID=Europe/London:20270202T213000
DTSTAMP:20260425T175016
CREATED:20260327T115129Z
LAST-MODIFIED:20260327T115129Z
UID:10016787-1801596600-1801603800@norfolkevents.uk
SUMMARY:Aurie Styla: Maverick
DESCRIPTION:Aurie Styla is one of the most naturally charismatic and hilarious comedians around. Following his acclaimed 100+ date worldwide tour\, he’s back on the road with his brand new show ‘MAVERICK’. \n‘MAVERICK’ looks at life from the end of ‘The Aurator’ Tour onwards\, and although everything seems nice and ‘cushty’\, something is throwing off the scales of wins and fails. The show hilariously explores his bad work-life balance\, family influence\, relationships\, health and more. \nAurie has appeared on ‘Richard Osman’s House Of Games’ (BBC)\, ‘Comedy Central Live’\, ‘Jonathan Ross’ Comedy Club’ (ITV)\, ‘Don’t Hate The Playaz’ (ITV)\, multiple seasons of ‘The Stand-Up Sketch Show’ (ITV2)\, and many more shows. He’s the host of his very popular BBC Radio 4 show ‘Tech Talk’ which is returning for a second series. In 2025 he was selected as a New Face Of Comedy at the prestigious Just For Laughs Montreal festival\, and in 2026 will debut at the Netflix Is A Joke Festival in Los Angeles.
URL:https://norfolkevents.uk/event/aurie-styla-maverick/
LOCATION:Norwich Theatre Playhouse\, 42-58 St Georges Street\, Norwich\, Norfolk\, NR3 1AB\, United Kingdom
CATEGORIES:Comedy,Comedy and entertainment
ATTACH;FMTTYPE=image/png:https://norfolkevents.uk/wp-content/uploads/2026/03/Aurie.png
END:VEVENT
BEGIN:VEVENT
DTSTART;TZID=Europe/London:20270203T143000
DTEND;TZID=Europe/London:20270203T163000
DTSTAMP:20260425T175016
CREATED:20251202T213519Z
LAST-MODIFIED:20251202T213519Z
UID:10011186-1801665000-1801672200@norfolkevents.uk
SUMMARY:Annie
DESCRIPTION:The smash-hit West End production of ANNIE\, the world’s favourite family musical\, returns to Norwich for one week only. \nSet in 1930s New York\, brave young Annie is forced to live a life of misery at Miss Hannigan’s orphanage. Her luck soon changes when she’s chosen to spend a fairytale Christmas with famous billionaire\, Oliver Warbucks. Meanwhile\, spiteful Miss Hannigan has other ideas and hatches a plan to spoil Annie’s search for her true family… \nWith its Tony® award-winning book and score\, including the unforgettable songs It’s The Hard-Knock Life\, Easy Street\, I Don’t Need Anything But You and Tomorrow\, you can bet your bottom dollar that you’ll love it!
URL:https://norfolkevents.uk/event/annie/2027-02-03/1/
LOCATION:Norwich Theatre Royal\, Theatre Street\, Norwich\, Norfolk\, NR2 1RL\, United Kingdom
CATEGORIES:Musicals
ATTACH;FMTTYPE=image/png:https://norfolkevents.uk/wp-content/uploads/2025/12/Untitled-design-2025-12-02T142523.810.png
END:VEVENT
BEGIN:VEVENT
DTSTART;TZID=Europe/London:20270203T193000
DTEND;TZID=Europe/London:20270203T213000
DTSTAMP:20260425T175016
CREATED:20251202T213519Z
LAST-MODIFIED:20251202T213519Z
UID:10011187-1801683000-1801690200@norfolkevents.uk
SUMMARY:Annie
DESCRIPTION:The smash-hit West End production of ANNIE\, the world’s favourite family musical\, returns to Norwich for one week only. \nSet in 1930s New York\, brave young Annie is forced to live a life of misery at Miss Hannigan’s orphanage. Her luck soon changes when she’s chosen to spend a fairytale Christmas with famous billionaire\, Oliver Warbucks. Meanwhile\, spiteful Miss Hannigan has other ideas and hatches a plan to spoil Annie’s search for her true family… \nWith its Tony® award-winning book and score\, including the unforgettable songs It’s The Hard-Knock Life\, Easy Street\, I Don’t Need Anything But You and Tomorrow\, you can bet your bottom dollar that you’ll love it!
URL:https://norfolkevents.uk/event/annie/2027-02-03/2/
LOCATION:Norwich Theatre Royal\, Theatre Street\, Norwich\, Norfolk\, NR2 1RL\, United Kingdom
CATEGORIES:Musicals
ATTACH;FMTTYPE=image/png:https://norfolkevents.uk/wp-content/uploads/2025/12/Untitled-design-2025-12-02T142523.810.png
END:VEVENT
BEGIN:VEVENT
DTSTART;VALUE=DATE:20270204
DTEND;VALUE=DATE:20270206
DTSTAMP:20260425T175016
CREATED:20250729T172342Z
LAST-MODIFIED:20250729T185945Z
UID:10005508-1801713600-1801799999@norfolkevents.uk
SUMMARY:Glow Run Club
DESCRIPTION:Our inclusive run club in Wymondham\nBeginner friendly to the avid runners.\nGood energy and glowy souls!
URL:https://norfolkevents.uk/event/glow-run-club/2027-02-04/
LOCATION:wymondham
CATEGORIES:Sports
ATTACH;FMTTYPE=image/jpeg:https://norfolkevents.uk/wp-content/uploads/2025/07/d728bc1d-8a50-4063-acbc-c43d254cc80c.jpeg
END:VEVENT
BEGIN:VEVENT
DTSTART;TZID=Europe/London:20270204T100000
DTEND;TZID=Europe/London:20270207T160000
DTSTAMP:20260425T175016
CREATED:20260110T084207Z
LAST-MODIFIED:20260110T084341Z
UID:10011873-1801735200-1802016000@norfolkevents.uk
SUMMARY:Pop Up Shops
DESCRIPTION:North Norfolk Coast shopping that’s not on the high street from local producers & artisans. Dalegate Market will host four artisans & producers in the beach huts each week.
URL:https://norfolkevents.uk/event/pop-up-shops-2/2027-02-04/
LOCATION:Dalegate Market\, Main Road\, Burnham Deepdale\, PE31 8FB
CATEGORIES:Craft Fairs,Shopping
ATTACH;FMTTYPE=image/jpeg:https://norfolkevents.uk/wp-content/uploads/2025/08/pop-up-shops-header1.jpg
ORGANIZER;CN="Dalegate Market":MAILTO:enquiries@dalegatemarket.co.uk
END:VEVENT
BEGIN:VEVENT
DTSTART;TZID=Europe/London:20270204T193000
DTEND;TZID=Europe/London:20270204T213000
DTSTAMP:20260425T175016
CREATED:20251202T213519Z
LAST-MODIFIED:20251202T213519Z
UID:10011188-1801769400-1801776600@norfolkevents.uk
SUMMARY:Annie
DESCRIPTION:The smash-hit West End production of ANNIE\, the world’s favourite family musical\, returns to Norwich for one week only. \nSet in 1930s New York\, brave young Annie is forced to live a life of misery at Miss Hannigan’s orphanage. Her luck soon changes when she’s chosen to spend a fairytale Christmas with famous billionaire\, Oliver Warbucks. Meanwhile\, spiteful Miss Hannigan has other ideas and hatches a plan to spoil Annie’s search for her true family… \nWith its Tony® award-winning book and score\, including the unforgettable songs It’s The Hard-Knock Life\, Easy Street\, I Don’t Need Anything But You and Tomorrow\, you can bet your bottom dollar that you’ll love it!
URL:https://norfolkevents.uk/event/annie/2027-02-04/
LOCATION:Norwich Theatre Royal\, Theatre Street\, Norwich\, Norfolk\, NR2 1RL\, United Kingdom
CATEGORIES:Musicals
ATTACH;FMTTYPE=image/png:https://norfolkevents.uk/wp-content/uploads/2025/12/Untitled-design-2025-12-02T142523.810.png
END:VEVENT
BEGIN:VEVENT
DTSTART;TZID=Europe/London:20270205T100000
DTEND;TZID=Europe/London:20270208T160000
DTSTAMP:20260425T175016
CREATED:20260110T084207Z
LAST-MODIFIED:20260110T084341Z
UID:10011874-1801821600-1802102400@norfolkevents.uk
SUMMARY:Pop Up Shops
DESCRIPTION:North Norfolk Coast shopping that’s not on the high street from local producers & artisans. Dalegate Market will host four artisans & producers in the beach huts each week.
URL:https://norfolkevents.uk/event/pop-up-shops-2/2027-02-05/
LOCATION:Dalegate Market\, Main Road\, Burnham Deepdale\, PE31 8FB
CATEGORIES:Craft Fairs,Shopping
ATTACH;FMTTYPE=image/jpeg:https://norfolkevents.uk/wp-content/uploads/2025/08/pop-up-shops-header1.jpg
ORGANIZER;CN="Dalegate Market":MAILTO:enquiries@dalegatemarket.co.uk
END:VEVENT
BEGIN:VEVENT
DTSTART;TZID=Europe/London:20270205T170000
DTEND;TZID=Europe/London:20270205T170000
DTSTAMP:20260425T175016
CREATED:20250720T212301Z
LAST-MODIFIED:20250720T212301Z
UID:10005118-1801846800-1801846800@norfolkevents.uk
SUMMARY:Bikers Night
DESCRIPTION:Do you ride a motorcycle? \nWhy not join us every Friday evening for bikers night? \n-Serving hot food until 8pm (Drinks and snack available until close).\n-Fully licensed and stocked bar.\n-Inside & outside seating area.\n-We welcome well behaved dogs.\n-Children’s play area.
URL:https://norfolkevents.uk/event/bikers-night/2027-02-05/
LOCATION:Whitwell & Reepham Railway Station\, Whitwell & Reepham Railway Station\, Reepham\, NR10 4GA
CATEGORIES:Community
ATTACH;FMTTYPE=image/jpeg:https://norfolkevents.uk/wp-content/uploads/2025/07/Bikers-Night.jpg
ORGANIZER;CN="Whitwell &amp%3B Reepham Railway Station":MAILTO:Lesley@whitwellstation.com
END:VEVENT
BEGIN:VEVENT
DTSTART;TZID=Europe/London:20270205T193000
DTEND;TZID=Europe/London:20270205T213000
DTSTAMP:20260425T175016
CREATED:20251202T213519Z
LAST-MODIFIED:20251202T213519Z
UID:10011189-1801855800-1801863000@norfolkevents.uk
SUMMARY:Annie
DESCRIPTION:The smash-hit West End production of ANNIE\, the world’s favourite family musical\, returns to Norwich for one week only. \nSet in 1930s New York\, brave young Annie is forced to live a life of misery at Miss Hannigan’s orphanage. Her luck soon changes when she’s chosen to spend a fairytale Christmas with famous billionaire\, Oliver Warbucks. Meanwhile\, spiteful Miss Hannigan has other ideas and hatches a plan to spoil Annie’s search for her true family… \nWith its Tony® award-winning book and score\, including the unforgettable songs It’s The Hard-Knock Life\, Easy Street\, I Don’t Need Anything But You and Tomorrow\, you can bet your bottom dollar that you’ll love it!
URL:https://norfolkevents.uk/event/annie/2027-02-05/
LOCATION:Norwich Theatre Royal\, Theatre Street\, Norwich\, Norfolk\, NR2 1RL\, United Kingdom
CATEGORIES:Musicals
ATTACH;FMTTYPE=image/png:https://norfolkevents.uk/wp-content/uploads/2025/12/Untitled-design-2025-12-02T142523.810.png
END:VEVENT
BEGIN:VEVENT
DTSTART;TZID=Europe/London:20270206T100000
DTEND;TZID=Europe/London:20270209T160000
DTSTAMP:20260425T175016
CREATED:20260110T084207Z
LAST-MODIFIED:20260110T084341Z
UID:10011875-1801908000-1802188800@norfolkevents.uk
SUMMARY:Pop Up Shops
DESCRIPTION:North Norfolk Coast shopping that’s not on the high street from local producers & artisans. Dalegate Market will host four artisans & producers in the beach huts each week.
URL:https://norfolkevents.uk/event/pop-up-shops-2/2027-02-06/
LOCATION:Dalegate Market\, Main Road\, Burnham Deepdale\, PE31 8FB
CATEGORIES:Craft Fairs,Shopping
ATTACH;FMTTYPE=image/jpeg:https://norfolkevents.uk/wp-content/uploads/2025/08/pop-up-shops-header1.jpg
ORGANIZER;CN="Dalegate Market":MAILTO:enquiries@dalegatemarket.co.uk
END:VEVENT
BEGIN:VEVENT
DTSTART;TZID=Europe/London:20270206T143000
DTEND;TZID=Europe/London:20270206T163000
DTSTAMP:20260425T175016
CREATED:20251202T213519Z
LAST-MODIFIED:20251202T213519Z
UID:10011190-1801924200-1801931400@norfolkevents.uk
SUMMARY:Annie
DESCRIPTION:The smash-hit West End production of ANNIE\, the world’s favourite family musical\, returns to Norwich for one week only. \nSet in 1930s New York\, brave young Annie is forced to live a life of misery at Miss Hannigan’s orphanage. Her luck soon changes when she’s chosen to spend a fairytale Christmas with famous billionaire\, Oliver Warbucks. Meanwhile\, spiteful Miss Hannigan has other ideas and hatches a plan to spoil Annie’s search for her true family… \nWith its Tony® award-winning book and score\, including the unforgettable songs It’s The Hard-Knock Life\, Easy Street\, I Don’t Need Anything But You and Tomorrow\, you can bet your bottom dollar that you’ll love it!
URL:https://norfolkevents.uk/event/annie/2027-02-06/1/
LOCATION:Norwich Theatre Royal\, Theatre Street\, Norwich\, Norfolk\, NR2 1RL\, United Kingdom
CATEGORIES:Musicals
ATTACH;FMTTYPE=image/png:https://norfolkevents.uk/wp-content/uploads/2025/12/Untitled-design-2025-12-02T142523.810.png
END:VEVENT
BEGIN:VEVENT
DTSTART;TZID=Europe/London:20270206T193000
DTEND;TZID=Europe/London:20270206T213000
DTSTAMP:20260425T175016
CREATED:20251202T213519Z
LAST-MODIFIED:20251202T213519Z
UID:10011191-1801942200-1801949400@norfolkevents.uk
SUMMARY:Annie
DESCRIPTION:The smash-hit West End production of ANNIE\, the world’s favourite family musical\, returns to Norwich for one week only. \nSet in 1930s New York\, brave young Annie is forced to live a life of misery at Miss Hannigan’s orphanage. Her luck soon changes when she’s chosen to spend a fairytale Christmas with famous billionaire\, Oliver Warbucks. Meanwhile\, spiteful Miss Hannigan has other ideas and hatches a plan to spoil Annie’s search for her true family… \nWith its Tony® award-winning book and score\, including the unforgettable songs It’s The Hard-Knock Life\, Easy Street\, I Don’t Need Anything But You and Tomorrow\, you can bet your bottom dollar that you’ll love it!
URL:https://norfolkevents.uk/event/annie/2027-02-06/2/
LOCATION:Norwich Theatre Royal\, Theatre Street\, Norwich\, Norfolk\, NR2 1RL\, United Kingdom
CATEGORIES:Musicals
ATTACH;FMTTYPE=image/png:https://norfolkevents.uk/wp-content/uploads/2025/12/Untitled-design-2025-12-02T142523.810.png
END:VEVENT
BEGIN:VEVENT
DTSTART;TZID=Europe/London:20270207T100000
DTEND;TZID=Europe/London:20270207T180000
DTSTAMP:20260425T175016
CREATED:20250720T212431Z
LAST-MODIFIED:20260127T221802Z
UID:10004995-1801994400-1802023200@norfolkevents.uk
SUMMARY:Steam Sunday
DESCRIPTION:Do you love steam trains as much as we do? \nWe run our steam train on the first Sunday of every month and for special occasions. \nWe also offer Driver Experiences. These MUST be pre booked via our website.\n-Food & Drink available all day.\n-Children’s play area.\n-Free parking.\n-Train rides.
URL:https://norfolkevents.uk/event/steam-sunday/2027-02-07/
LOCATION:Whitwell & Reepham Railway Station\, Whitwell & Reepham Railway Station\, Reepham\, NR10 4GA
CATEGORIES:Budget friendly
ATTACH;FMTTYPE=image/jpeg:https://norfolkevents.uk/wp-content/uploads/2025/07/Agecroft-No3.jpg
ORGANIZER;CN="Whitwell &amp%3B Reepham Railway Station":MAILTO:Lesley@whitwellstation.com
END:VEVENT
BEGIN:VEVENT
DTSTART;TZID=Europe/London:20270207T100000
DTEND;TZID=Europe/London:20270210T160000
DTSTAMP:20260425T175016
CREATED:20260110T084207Z
LAST-MODIFIED:20260110T084341Z
UID:10011876-1801994400-1802275200@norfolkevents.uk
SUMMARY:Pop Up Shops
DESCRIPTION:North Norfolk Coast shopping that’s not on the high street from local producers & artisans. Dalegate Market will host four artisans & producers in the beach huts each week.
URL:https://norfolkevents.uk/event/pop-up-shops-2/2027-02-07/
LOCATION:Dalegate Market\, Main Road\, Burnham Deepdale\, PE31 8FB
CATEGORIES:Craft Fairs,Shopping
ATTACH;FMTTYPE=image/jpeg:https://norfolkevents.uk/wp-content/uploads/2025/08/pop-up-shops-header1.jpg
ORGANIZER;CN="Dalegate Market":MAILTO:enquiries@dalegatemarket.co.uk
END:VEVENT
BEGIN:VEVENT
DTSTART;VALUE=DATE:20270208
DTEND;VALUE=DATE:20270210
DTSTAMP:20260425T175016
CREATED:20250729T172342Z
LAST-MODIFIED:20250729T185945Z
UID:10005509-1802059200-1802145599@norfolkevents.uk
SUMMARY:Glow Run Club
DESCRIPTION:Our inclusive run club in Wymondham\nBeginner friendly to the avid runners.\nGood energy and glowy souls!
URL:https://norfolkevents.uk/event/glow-run-club/2027-02-08/
LOCATION:wymondham
CATEGORIES:Sports
ATTACH;FMTTYPE=image/jpeg:https://norfolkevents.uk/wp-content/uploads/2025/07/d728bc1d-8a50-4063-acbc-c43d254cc80c.jpeg
END:VEVENT
BEGIN:VEVENT
DTSTART;TZID=Europe/London:20270208T170000
DTEND;TZID=Europe/London:20270208T220000
DTSTAMP:20260425T175016
CREATED:20260110T205335Z
LAST-MODIFIED:20260110T205741Z
UID:10012756-1802106000-1802124000@norfolkevents.uk
SUMMARY:Quiz & Fried Chicken Night
DESCRIPTION:Danger Dave’s Quiz Night @ the Reindeer Pub\, Norwich\, ft. the excellent Bubba Fried Chicken. Join us for a evening of excellent food and entertainment at the Reindeer Entertainment & Live Music Venue.\nFood 17:00-21:00\nQuiz 18:45 registration 19:00 Start
URL:https://norfolkevents.uk/event/quiz-fried-chicken-night/2027-02-08/
LOCATION:The Reindeer Norwich\, 10 Dereham Road\, Norwich\, NR2 4AY
CATEGORIES:Food,Quizzes
ATTACH;FMTTYPE=image/png:https://norfolkevents.uk/wp-content/uploads/2026/01/inbound6741067907253981146-scaled.png
END:VEVENT
BEGIN:VEVENT
DTSTART;VALUE=DATE:20270211
DTEND;VALUE=DATE:20270213
DTSTAMP:20260425T175016
CREATED:20250729T172342Z
LAST-MODIFIED:20250729T185945Z
UID:10005510-1802318400-1802404799@norfolkevents.uk
SUMMARY:Glow Run Club
DESCRIPTION:Our inclusive run club in Wymondham\nBeginner friendly to the avid runners.\nGood energy and glowy souls!
URL:https://norfolkevents.uk/event/glow-run-club/2027-02-11/
LOCATION:wymondham
CATEGORIES:Sports
ATTACH;FMTTYPE=image/jpeg:https://norfolkevents.uk/wp-content/uploads/2025/07/d728bc1d-8a50-4063-acbc-c43d254cc80c.jpeg
END:VEVENT
BEGIN:VEVENT
DTSTART;TZID=Europe/London:20270211T100000
DTEND;TZID=Europe/London:20270214T160000
DTSTAMP:20260425T175016
CREATED:20260110T084207Z
LAST-MODIFIED:20260110T084341Z
UID:10011877-1802340000-1802620800@norfolkevents.uk
SUMMARY:Pop Up Shops
DESCRIPTION:North Norfolk Coast shopping that’s not on the high street from local producers & artisans. Dalegate Market will host four artisans & producers in the beach huts each week.
URL:https://norfolkevents.uk/event/pop-up-shops-2/2027-02-11/
LOCATION:Dalegate Market\, Main Road\, Burnham Deepdale\, PE31 8FB
CATEGORIES:Craft Fairs,Shopping
ATTACH;FMTTYPE=image/jpeg:https://norfolkevents.uk/wp-content/uploads/2025/08/pop-up-shops-header1.jpg
ORGANIZER;CN="Dalegate Market":MAILTO:enquiries@dalegatemarket.co.uk
END:VEVENT
BEGIN:VEVENT
DTSTART;TZID=Europe/London:20270212T090000
DTEND;TZID=Europe/London:20270212T130000
DTSTAMP:20260425T175016
CREATED:20250827T212704Z
LAST-MODIFIED:20250827T212704Z
UID:10008597-1802422800-1802437200@norfolkevents.uk
SUMMARY:Snettisham Farmer's Market
DESCRIPTION:Snettisham Farmer’s Market is organised by the Parish Council and takes place on the Market Place in Snettisham every 2nd Friday of the month. \nBuses are every 15 minutes through the village\, so catch either the 34 or 35 and hop on and off to visit the Farmer’s Market. More information on the buses can be found here https://www.lynxbus.co.uk/services/LYNX/34
URL:https://norfolkevents.uk/event/snettisham-farmers-market/2027-02-12/
LOCATION:The Market Place\, Lynn Road\, Snettisham\, King's Lynn\, PE31 7LP
ATTACH;FMTTYPE=image/jpeg:https://norfolkevents.uk/wp-content/uploads/2025/08/cdbd7f02-a3ef-4fc3-a34d-829331eb5c32.jpg
END:VEVENT
BEGIN:VEVENT
DTSTART;TZID=Europe/London:20270212T100000
DTEND;TZID=Europe/London:20270215T160000
DTSTAMP:20260425T175016
CREATED:20260110T084207Z
LAST-MODIFIED:20260110T084341Z
UID:10011878-1802426400-1802707200@norfolkevents.uk
SUMMARY:Pop Up Shops
DESCRIPTION:North Norfolk Coast shopping that’s not on the high street from local producers & artisans. Dalegate Market will host four artisans & producers in the beach huts each week.
URL:https://norfolkevents.uk/event/pop-up-shops-2/2027-02-12/
LOCATION:Dalegate Market\, Main Road\, Burnham Deepdale\, PE31 8FB
CATEGORIES:Craft Fairs,Shopping
ATTACH;FMTTYPE=image/jpeg:https://norfolkevents.uk/wp-content/uploads/2025/08/pop-up-shops-header1.jpg
ORGANIZER;CN="Dalegate Market":MAILTO:enquiries@dalegatemarket.co.uk
END:VEVENT
BEGIN:VEVENT
DTSTART;TZID=Europe/London:20270212T170000
DTEND;TZID=Europe/London:20270212T170000
DTSTAMP:20260425T175016
CREATED:20250720T212301Z
LAST-MODIFIED:20250720T212301Z
UID:10005119-1802451600-1802451600@norfolkevents.uk
SUMMARY:Bikers Night
DESCRIPTION:Do you ride a motorcycle? \nWhy not join us every Friday evening for bikers night? \n-Serving hot food until 8pm (Drinks and snack available until close).\n-Fully licensed and stocked bar.\n-Inside & outside seating area.\n-We welcome well behaved dogs.\n-Children’s play area.
URL:https://norfolkevents.uk/event/bikers-night/2027-02-12/
LOCATION:Whitwell & Reepham Railway Station\, Whitwell & Reepham Railway Station\, Reepham\, NR10 4GA
CATEGORIES:Community
ATTACH;FMTTYPE=image/jpeg:https://norfolkevents.uk/wp-content/uploads/2025/07/Bikers-Night.jpg
ORGANIZER;CN="Whitwell &amp%3B Reepham Railway Station":MAILTO:Lesley@whitwellstation.com
END:VEVENT
BEGIN:VEVENT
DTSTART;VALUE=DATE:20270213
DTEND;VALUE=DATE:20270215
DTSTAMP:20260425T175016
CREATED:20260216T210346Z
LAST-MODIFIED:20260216T210346Z
UID:10016207-1802491200-1802577599@norfolkevents.uk
SUMMARY:The Warehouse Farmers & Craft Market
DESCRIPTION:The Warehouse Farmers’ & Craft Market \nEnjoy a lively Farmers’ & Craft Market at The Warehouse Norfolk in Setchey\, bringing together a wide mix of local producers\, makers and artisan traders. \nHeld on selected Saturdays throughout the year\, the market showcases fresh local produce\, baked goods\, sweet treats\, preserves\, crafts\, gifts and artisan food and drink. With both indoor and outdoor stalls\, there’s plenty to explore whatever the weather\, alongside the wider Warehouse site including Antiques & Collectables. \nThe market takes place at The Warehouse Norfolk\, just 10 minutes from King’s Lynn and Downham Market\, making it an ideal stop for a relaxed day out supporting local businesses. \nDates: Selected Saturdays\nTime: Typically 9am–3pm
URL:https://norfolkevents.uk/event/the-warehouse-farmers-craft-market/2027-02-13/
LOCATION:The Warehouse Norfolk\, Garage Lane\, Kings Lynn\, PE33 0BE\, United Kingdom
CATEGORIES:Farmers' Market
ATTACH;FMTTYPE=image/png:https://norfolkevents.uk/wp-content/uploads/2026/02/The-Warehouse-Markets-2nd-Saturday.png
ORGANIZER;CN="The Warehouse Norfolk":MAILTO:amanda@beersofeurope.co.uk
END:VEVENT
BEGIN:VEVENT
DTSTART;TZID=Europe/London:20270213T100000
DTEND;TZID=Europe/London:20270216T160000
DTSTAMP:20260425T175016
CREATED:20260110T084207Z
LAST-MODIFIED:20260110T084341Z
UID:10011879-1802512800-1802793600@norfolkevents.uk
SUMMARY:Pop Up Shops
DESCRIPTION:North Norfolk Coast shopping that’s not on the high street from local producers & artisans. Dalegate Market will host four artisans & producers in the beach huts each week.
URL:https://norfolkevents.uk/event/pop-up-shops-2/2027-02-13/
LOCATION:Dalegate Market\, Main Road\, Burnham Deepdale\, PE31 8FB
CATEGORIES:Craft Fairs,Shopping
ATTACH;FMTTYPE=image/jpeg:https://norfolkevents.uk/wp-content/uploads/2025/08/pop-up-shops-header1.jpg
ORGANIZER;CN="Dalegate Market":MAILTO:enquiries@dalegatemarket.co.uk
END:VEVENT
END:VCALENDAR