BEGIN:VCALENDAR
VERSION:2.0
PRODID:-//Norfolk Events - ECPv6.15.20//NONSGML v1.0//EN
CALSCALE:GREGORIAN
METHOD:PUBLISH
X-WR-CALNAME:Norfolk Events
X-ORIGINAL-URL:https://norfolkevents.uk
X-WR-CALDESC:Events for Norfolk Events
REFRESH-INTERVAL;VALUE=DURATION:PT1H
X-Robots-Tag:noindex
X-PUBLISHED-TTL:PT1H
BEGIN:VTIMEZONE
TZID:Europe/London
BEGIN:DAYLIGHT
TZOFFSETFROM:+0000
TZOFFSETTO:+0100
TZNAME:BST
DTSTART:20250330T010000
END:DAYLIGHT
BEGIN:STANDARD
TZOFFSETFROM:+0100
TZOFFSETTO:+0000
TZNAME:GMT
DTSTART:20251026T010000
END:STANDARD
BEGIN:DAYLIGHT
TZOFFSETFROM:+0000
TZOFFSETTO:+0100
TZNAME:BST
DTSTART:20260329T010000
END:DAYLIGHT
BEGIN:STANDARD
TZOFFSETFROM:+0100
TZOFFSETTO:+0000
TZNAME:GMT
DTSTART:20261025T010000
END:STANDARD
BEGIN:DAYLIGHT
TZOFFSETFROM:+0000
TZOFFSETTO:+0100
TZNAME:BST
DTSTART:20270328T010000
END:DAYLIGHT
BEGIN:STANDARD
TZOFFSETFROM:+0100
TZOFFSETTO:+0000
TZNAME:GMT
DTSTART:20271031T010000
END:STANDARD
END:VTIMEZONE
BEGIN:VEVENT
DTSTART;TZID=Europe/London:20260408T093000
DTEND;TZID=Europe/London:20260408T151500
DTSTAMP:20260420T135848
CREATED:20260327T120715Z
LAST-MODIFIED:20260327T120715Z
UID:10016825-1775640600-1775661300@norfolkevents.uk
SUMMARY:Easter Art Club with Norwich Making Space
DESCRIPTION:Looking for something fun to keep your budding creatives busy over the Easter hols? We’ve got you covered – three days of art\, imagination and messy magic with Norwich Making Space! \nThis friendly and inclusive drop-off club is designed for children aged 5–11 and is led by experienced\, DBS-checked teachers who are all about making art enjoyable and accessible for everyone. Each session includes fun creative warmups\, a splash of art history and plenty of opportunities for experimentation and self-expression. \n⏰ Pick your slot:\n• Morning: 9:30–12:00\n• Afternoon: 12:45–15:15\n• Or go for the full day: 9:30–15:15 (please send a packed lunch) \nFor more information about each workshop\, please visit our socials @norwichmakingspace or Ticketsource page: https://www.ticketsource.com/norwich-making-space
URL:https://norfolkevents.uk/event/easter-art-club-with-norwich-making-space/2026-04-08/
LOCATION:Carrow House\, 301 King St\, Norwich\, NR1 2TG
CATEGORIES:Art and exhibitions,Children,Easter,School Holidays,Workshops
ATTACH;FMTTYPE=image/jpeg:https://norfolkevents.uk/wp-content/uploads/2026/03/Easter-Art-Club-169.jpg
END:VEVENT
END:VCALENDAR