BEGIN:VCALENDAR
VERSION:2.0
PRODID:-//Norfolk Events - ECPv6.15.20//NONSGML v1.0//EN
CALSCALE:GREGORIAN
METHOD:PUBLISH
X-WR-CALNAME:Norfolk Events
X-ORIGINAL-URL:https://norfolkevents.uk
X-WR-CALDESC:Events for Norfolk Events
REFRESH-INTERVAL;VALUE=DURATION:PT1H
X-Robots-Tag:noindex
X-PUBLISHED-TTL:PT1H
BEGIN:VTIMEZONE
TZID:Europe/London
BEGIN:DAYLIGHT
TZOFFSETFROM:+0000
TZOFFSETTO:+0100
TZNAME:BST
DTSTART:20250330T010000
END:DAYLIGHT
BEGIN:STANDARD
TZOFFSETFROM:+0100
TZOFFSETTO:+0000
TZNAME:GMT
DTSTART:20251026T010000
END:STANDARD
BEGIN:DAYLIGHT
TZOFFSETFROM:+0000
TZOFFSETTO:+0100
TZNAME:BST
DTSTART:20260329T010000
END:DAYLIGHT
BEGIN:STANDARD
TZOFFSETFROM:+0100
TZOFFSETTO:+0000
TZNAME:GMT
DTSTART:20261025T010000
END:STANDARD
BEGIN:DAYLIGHT
TZOFFSETFROM:+0000
TZOFFSETTO:+0100
TZNAME:BST
DTSTART:20270328T010000
END:DAYLIGHT
BEGIN:STANDARD
TZOFFSETFROM:+0100
TZOFFSETTO:+0000
TZNAME:GMT
DTSTART:20271031T010000
END:STANDARD
END:VTIMEZONE
BEGIN:VEVENT
DTSTART;TZID=Europe/London:20260328T110000
DTEND;TZID=Europe/London:20260328T120000
DTSTAMP:20260420T211728
CREATED:20260219T210957Z
LAST-MODIFIED:20260219T210957Z
UID:10016277-1774695600-1774699200@norfolkevents.uk
SUMMARY:Choosing Summer Bulbs For Your Garden
DESCRIPTION:Start planning your summer garden with our horticultural expert Dawn\, as she talks you through different bulbs you could plant in your garden this year.\nIn this free\, hour-long course\, Dawn will show you all of the different bulbs you could plant in your garden for beautiful flowers this summer\, including some you may not have heard of before. She will also advise you on the best places to plant them and how to care for them as they grow. \nThis course is great for people who are new to gardening and want to learn more about planting bulbs or anyone that is looking to add something new to their summer garden. \nThis is a free session as part of our Peter Beales Gardening Club series; no payment is required. \nTHE DETAILS\nDates: Saturday 28th March \nTime: 11am – 12pm \nPeter Beales Roses\, London Road\, Attleborough\, Norfolk\, NR17 1AY \nFREE TO ATTEND
URL:https://norfolkevents.uk/event/choosing-summer-bulbs-for-your-garden/
LOCATION:Peter Beales Roses\, Peter Beales Roses\, Norwich\, NR171AY
CATEGORIES:Parks & Gardens,Talks,Wellbeing,Workshops
ATTACH;FMTTYPE=image/png:https://norfolkevents.uk/wp-content/uploads/2026/02/Events-page-imagery-97-972x972-1.png
ORGANIZER;CN="Peter Beales Roses":MAILTO:victoria.davis@peterbealesroses.com
END:VEVENT
END:VCALENDAR