BEGIN:VCALENDAR
VERSION:2.0
PRODID:-//Norfolk Events - ECPv6.15.20//NONSGML v1.0//EN
CALSCALE:GREGORIAN
METHOD:PUBLISH
X-WR-CALNAME:Norfolk Events
X-ORIGINAL-URL:https://norfolkevents.uk
X-WR-CALDESC:Events for Norfolk Events
REFRESH-INTERVAL;VALUE=DURATION:PT1H
X-Robots-Tag:noindex
X-PUBLISHED-TTL:PT1H
BEGIN:VTIMEZONE
TZID:Europe/London
BEGIN:DAYLIGHT
TZOFFSETFROM:+0000
TZOFFSETTO:+0100
TZNAME:BST
DTSTART:20250330T010000
END:DAYLIGHT
BEGIN:STANDARD
TZOFFSETFROM:+0100
TZOFFSETTO:+0000
TZNAME:GMT
DTSTART:20251026T010000
END:STANDARD
BEGIN:DAYLIGHT
TZOFFSETFROM:+0000
TZOFFSETTO:+0100
TZNAME:BST
DTSTART:20260329T010000
END:DAYLIGHT
BEGIN:STANDARD
TZOFFSETFROM:+0100
TZOFFSETTO:+0000
TZNAME:GMT
DTSTART:20261025T010000
END:STANDARD
BEGIN:DAYLIGHT
TZOFFSETFROM:+0000
TZOFFSETTO:+0100
TZNAME:BST
DTSTART:20270328T010000
END:DAYLIGHT
BEGIN:STANDARD
TZOFFSETFROM:+0100
TZOFFSETTO:+0000
TZNAME:GMT
DTSTART:20271031T010000
END:STANDARD
END:VTIMEZONE
BEGIN:VEVENT
DTSTART;TZID=Europe/London:20260210T150000
DTEND;TZID=Europe/London:20260213T100000
DTSTAMP:20260424T124901
CREATED:20260107T210026Z
LAST-MODIFIED:20260107T210026Z
UID:10011678-1770735600-1770976800@norfolkevents.uk
SUMMARY:Winter Sewing Residential Retreat
DESCRIPTION:Chaucer Barn\, Norfolk\nEscape the post-Christmas lull and the winter blues with a blissful few days of sewing at the stunning Chaucer Barn in Norfolk. Set amidst beautiful grounds\, the barn provides the perfect backdrop for creativity and relaxation. With up to 12 spaces in the sewing room\, you’ll be in the company of fellow sewing enthusiasts. Just bring your machines and your project materials. \nRetreat times\nArrival from 3:30pm on the 10th February. Departure by 10am on the 13th February. \nPrice\nThe price of a room with breakfast and 1 sewing space for the 3 nights ranges from £510-£598. Catering for lunch and dinners can be added for £90pp. \nAdditional guests can be added to your room for £120 (includes breakfast). Lunch and dinner can be added for £90pp. If your additional guest would like a space in the sewing room this can be added for £200.
URL:https://norfolkevents.uk/event/winter-sewing-residential-retreat/
LOCATION:Chaucer Barn\, Holt Road\, Gresham\, Norfolk\, NR11 8AD
CATEGORIES:Workshops
ATTACH;FMTTYPE=image/png:https://norfolkevents.uk/wp-content/uploads/2026/01/IMG_4102.png
ORGANIZER;CN="Cromer Seamstress":MAILTO:katy@cromerseamstress.co.uk
END:VEVENT
BEGIN:VEVENT
DTSTART;TZID=Europe/London:20260213T110000
DTEND;TZID=Europe/London:20260213T120000
DTSTAMP:20260424T124902
CREATED:20260114T211538Z
LAST-MODIFIED:20260114T211538Z
UID:10012977-1770980400-1770984000@norfolkevents.uk
SUMMARY:Snowdrop Workshop
DESCRIPTION:Our Snowdrop Workshop is back for another year and is the perfect opportunity for you to get out of the house and try something creative during these grey\, winter days.\nIn this workshop\, you will spend the morning with Dawn in our garden centre\, as she shows you how to arrange a beautiful spring table centre piece of delicate snowdrops to brighten up your home. \nIncluded in the price of your ticket\, you can enjoy a hot drink and a slice of cake of your choice from our Rosarium Restaurant\, while you work on your centre piece. \nThis workshop is great for people of all abilities who want to create something beautiful for their home as a reminder that spring is on its way! \nTHE DETAILS\nDates: Wednesday 28th January or Friday 13th February \nTime: 11am until 12pm \nPeter Beales Roses\, London Road\, Attleborough\, Norfolk\, NR17 1AY \n£25 per person \nIncluding a hot drink of your choice and a slice of cake from our Rosarium Restaurant \nHOW TO FIND US\nOur garden centre is located in Attleborough in Norfolk and is easily accessible by car\, only a stone’s throw away from the A11 with plenty of parking. \nYou can find us using the Google Maps link below or by inputting our address into your navigation system. Alternatively you can find us on What Three Words under: \n///such.quirky.warthog \nPeter Beales Roses\, London Road\, Attleborough\, Norfolk\, NR17 1AY
URL:https://norfolkevents.uk/event/snowdrop-workshop/2026-02-13/
LOCATION:Peter Beales Roses\, Peter Beales Roses\, Norwich\, NR171AY
CATEGORIES:Talks,Wellbeing,Workshops
ATTACH;FMTTYPE=image/png:https://norfolkevents.uk/wp-content/uploads/2026/01/Events-page-imagery-63-1-972x972-1.png
ORGANIZER;CN="Peter Beales Roses":MAILTO:victoria.davis@peterbealesroses.com
END:VEVENT
END:VCALENDAR