BEGIN:VCALENDAR
VERSION:2.0
PRODID:-//Norfolk Events - ECPv6.15.20//NONSGML v1.0//EN
CALSCALE:GREGORIAN
METHOD:PUBLISH
X-ORIGINAL-URL:https://norfolkevents.uk
X-WR-CALDESC:Events for Norfolk Events
REFRESH-INTERVAL;VALUE=DURATION:PT1H
X-Robots-Tag:noindex
X-PUBLISHED-TTL:PT1H
BEGIN:VTIMEZONE
TZID:Europe/London
BEGIN:DAYLIGHT
TZOFFSETFROM:+0000
TZOFFSETTO:+0100
TZNAME:BST
DTSTART:20250330T010000
END:DAYLIGHT
BEGIN:STANDARD
TZOFFSETFROM:+0100
TZOFFSETTO:+0000
TZNAME:GMT
DTSTART:20251026T010000
END:STANDARD
BEGIN:DAYLIGHT
TZOFFSETFROM:+0000
TZOFFSETTO:+0100
TZNAME:BST
DTSTART:20260329T010000
END:DAYLIGHT
BEGIN:STANDARD
TZOFFSETFROM:+0100
TZOFFSETTO:+0000
TZNAME:GMT
DTSTART:20261025T010000
END:STANDARD
BEGIN:DAYLIGHT
TZOFFSETFROM:+0000
TZOFFSETTO:+0100
TZNAME:BST
DTSTART:20270328T010000
END:DAYLIGHT
BEGIN:STANDARD
TZOFFSETFROM:+0100
TZOFFSETTO:+0000
TZNAME:GMT
DTSTART:20271031T010000
END:STANDARD
END:VTIMEZONE
BEGIN:VEVENT
DTSTART;TZID=Europe/London:20260207T103000
DTEND;TZID=Europe/London:20260207T123000
DTSTAMP:20260424T124923
CREATED:20251231T200542Z
LAST-MODIFIED:20251231T200542Z
UID:10011304-1770460200-1770467400@norfolkevents.uk
SUMMARY:Natural Paints and Pigments Workshop For Adults
DESCRIPTION:Learn how to create paint and pigments from the natural world that have been used for hundreds of years from local rock in this 2-hour workshop. \n£10 per person.\nBooking is required as seating is limited.
URL:https://norfolkevents.uk/event/natural-paints-and-pigments-workshop-for-adults/
LOCATION:Lynn Museum\, Market Street\, King's Lynn\, PE30 1NL
CATEGORIES:Art and exhibitions,Heritage,Workshops
ATTACH;FMTTYPE=image/jpeg:https://norfolkevents.uk/wp-content/uploads/2025/12/Workshop-Image-2025_Small.jpg
ORGANIZER;CN="Lynn Museum":MAILTO:lynn.museum@norfolk.gov.uk
END:VEVENT
END:VCALENDAR