BEGIN:VCALENDAR
VERSION:2.0
PRODID:-//Norfolk Events - ECPv6.15.20//NONSGML v1.0//EN
CALSCALE:GREGORIAN
METHOD:PUBLISH
X-WR-CALNAME:Norfolk Events
X-ORIGINAL-URL:https://norfolkevents.uk
X-WR-CALDESC:Events for Norfolk Events
REFRESH-INTERVAL;VALUE=DURATION:PT1H
X-Robots-Tag:noindex
X-PUBLISHED-TTL:PT1H
BEGIN:VTIMEZONE
TZID:Europe/London
BEGIN:DAYLIGHT
TZOFFSETFROM:+0000
TZOFFSETTO:+0100
TZNAME:BST
DTSTART:20250330T010000
END:DAYLIGHT
BEGIN:STANDARD
TZOFFSETFROM:+0100
TZOFFSETTO:+0000
TZNAME:GMT
DTSTART:20251026T010000
END:STANDARD
BEGIN:DAYLIGHT
TZOFFSETFROM:+0000
TZOFFSETTO:+0100
TZNAME:BST
DTSTART:20260329T010000
END:DAYLIGHT
BEGIN:STANDARD
TZOFFSETFROM:+0100
TZOFFSETTO:+0000
TZNAME:GMT
DTSTART:20261025T010000
END:STANDARD
BEGIN:DAYLIGHT
TZOFFSETFROM:+0000
TZOFFSETTO:+0100
TZNAME:BST
DTSTART:20270328T010000
END:DAYLIGHT
BEGIN:STANDARD
TZOFFSETFROM:+0100
TZOFFSETTO:+0000
TZNAME:GMT
DTSTART:20271031T010000
END:STANDARD
END:VTIMEZONE
BEGIN:VEVENT
DTSTART;TZID=Europe/London:20260301T110000
DTEND;TZID=Europe/London:20260301T120000
DTSTAMP:20260424T100854
CREATED:20260219T210605Z
LAST-MODIFIED:20260219T210605Z
UID:10016274-1772362800-1772366400@norfolkevents.uk
SUMMARY:Sowing Seeds In March
DESCRIPTION:Spend the morning at Peter Beales and learn all about the best seeds to sow in March with our horticultural expert\, Dawn.\nIn this free\, hour-long course\, Dawn will show you all of the seeds you can sow in March\, including how different sizes of seed need planting differently\, the best compost and containers to plant them in and how to nurture your plants in the weeks that follow. \nThis course is perfect for any gardeners who are new to growing plants from a seed or who need a reminder on propagation\, and it is free to attend in our garden centre. \nThis is a free session as part of our Gardening Club series; no payment is required.
URL:https://norfolkevents.uk/event/sowing-seeds-in-march/
LOCATION:Peter Beales Roses\, Peter Beales Roses\, Norwich\, NR171AY
CATEGORIES:Heritage,Talks,Wellbeing,Workshops
ATTACH;FMTTYPE=image/png:https://norfolkevents.uk/wp-content/uploads/2026/02/Events-page-imagery-99-972x972-1.png
ORGANIZER;CN="Peter Beales Roses":MAILTO:victoria.davis@peterbealesroses.com
END:VEVENT
BEGIN:VEVENT
DTSTART;TZID=Europe/London:20260303T184500
DTEND;TZID=Europe/London:20260303T214500
DTSTAMP:20260424T100854
CREATED:20260302T222251Z
LAST-MODIFIED:20260302T222251Z
UID:10016334-1772563500-1772574300@norfolkevents.uk
SUMMARY:Foxy Takes Five
DESCRIPTION:Try something new and join me for a great fun night out painting “Foxy Takes Five” at the Pavilion Heacham Manor from 6.45pm-9.45pm 👩‍🎨🎨🦊🥂🎉 \nAbsolutely no experience is necessary as each step will be explained showing you which brush to use\, how to apply paint\, techniques and much more\, plus I’m always there if you need help 🖌️ 👋\nJust take a look on my FB page and check out all the amazing paintings guests have created over past events who have never put brush to canvas before. \nKey markers will be drawn onto the canvases to make the whole painting process fun and easy to follow as I paint with you.\n(Blank canvases are also available if you prefer). \nEveryone is made to feel welcome\, whether you come on your own as many do\, with friends or family or you just want to abandon the TV and do something less boring 😃🥳 \nAll materials are provided in the ticket price of £32.00pp including acrylic paints\, easel\, canvas\, apron and brushes.\nAll you have to do is go to https://www.norfolkpaintparties.co.uk to book your tickets/gift vouchers 😃👩‍🎨🥂🎉 and check out “Top Tips” and How it Works” for more information.\nI also operate from 11 other venues with a wide variety of paintings to choose from. \nIf you like the idea of hosting your own private paint party I’m available for both adults or kids events either in the comfort of your own home or a venue of your own choice. Ideal for birthdays\, corporate events/team building. Hen do’s\, baby showers\, retirement parties and anniversaries.\nPlease message for more information. \nA little bit about me.\nDuring and after art college I received training as a graphic designer/illustrator and went on to work within a company before working freelance\nI’ve designed everything from corporate greetings cards to government documents.\nI’ve also sold well over 100 painting commissions since the age of 13 and held solo exhibitions as well as with the WNAA. \nAll paintings are my own original art work. I make the templates for pre drawing key guidelines and markers on the canvases for the paintings that require them. \nI absolutely love teaching and sharing my passion for art in a fun and sociable environment and seeing guests leave with a painting they’re chuffed with makes me happy ☺️👩‍🎨 \nMy motto has always been “Relax… Let go and watch the paint flow”😁 \n(Please note this event is from 6.45pm-9.45pm as stated on this advert) \nThank you.\nI hope to see you soon\nNikki
URL:https://norfolkevents.uk/event/foxy-takes-five/
LOCATION:The Pavilion Heacham Manor\, Hunstanton Road\, Kings Lynn\, PE31 7JX
CATEGORIES:Workshops
ATTACH;FMTTYPE=image/jpeg:https://norfolkevents.uk/wp-content/uploads/2026/02/IMG_1478.jpeg
ORGANIZER;CN="Norfolk Paint Parties":MAILTO:norfolkpaintparties@gmail.com
END:VEVENT
BEGIN:VEVENT
DTSTART;TZID=Europe/London:20260306T180000
DTEND;TZID=Europe/London:20260306T220000
DTSTAMP:20260424T100854
CREATED:20260219T210709Z
LAST-MODIFIED:20260219T210709Z
UID:10016275-1772820000-1772834400@norfolkevents.uk
SUMMARY:Celebrating 50 Years With Ian Limmer
DESCRIPTION:Join our Senior Rosarian Ian Limmer for a special evening\, as he celebrates a lifetime devoted to growing and nurturing some of the finest roses in the country.\nHaving started working at Peter Beales Roses as a Saturday boy at sixteen\, Ian has worked his way up the ranks to Nursery Manager and is one of the world’s most knowledgeable Rosarians. In this special evening\, he will recount all of the funny stories\, famous faces he has met\, and lessons he’s learnt along the way. \nThe evening of celebrations will commence with a glass of fizz on arrival\, followed by a delicious two-course meal in our Rosarium Restaurant and then Ian will take centre stage as he reflects on 50 years of working at Peter Beales Roses. \nThis truly unique event will celebrate a remarkable milestone and an incredible legacy in roses. \nTHE DETAILS\nDATE: Friday 6th March \nTIME: 6pm until 10pm. Food to be served at 6:30pm \n£55 per person \nSmart dress code \nTICKET INCLUDES: A glass of fizz on arrival\, a delicious two-course meal from our Rosarium Restaurant\, and an hour-long presentation from Ian with a charity raffle to finish. \nPeter Beales Roses\, London Road\, Attleborough\, Norfolk\, NR17 1AY \nPLEASE NOTE: all meal choices must be selected in advance. After booking your ticket\, you will receive an email explaining how to select your meal choices. These must be submitted at least 72 hours prior to the event. See below for the evening’s menu.
URL:https://norfolkevents.uk/event/celebrating-50-years-with-ian-limmer/
LOCATION:Peter Beales Roses\, Peter Beales Roses\, Norwich\, NR171AY
CATEGORIES:Charity/Fundraising,Community,Exhibitions,Food,Heritage,Parks & Gardens,Workshops
ATTACH;FMTTYPE=image/png:https://norfolkevents.uk/wp-content/uploads/2026/02/Events-page-imagery-2026-02-04T102949.520-972x972-1.png
ORGANIZER;CN="Peter Beales Roses":MAILTO:victoria.davis@peterbealesroses.com
END:VEVENT
BEGIN:VEVENT
DTSTART;TZID=Europe/London:20260308T110000
DTEND;TZID=Europe/London:20260308T120000
DTSTAMP:20260424T100854
CREATED:20260219T210819Z
LAST-MODIFIED:20260219T210903Z
UID:10016276-1772967600-1772971200@norfolkevents.uk
SUMMARY:Soil Science
DESCRIPTION:Join us for this free gardening event in March and learn all about the science behind different types of soil with our horticultural expert\, Dawn.\nIn this free\, hour-long course\, Dawn will talk you through the different types of soil and the benefits of each. Together\, you will conduct easy experiments to test the soil and learn what good loam looks like. The session will finish with Dawn teaching you how to get the best out of your soil. \nThis course is great for any gardeners who want to learn more about the science behind different soil types in order to get the best out of the plants in their garden. \nThis is a free session as part of our Gardening Club series; no payment is required. \nTHE DETAILS\nDates: Sunday 8th March \nTime: 11am – 12pm \nPeter Beales Roses\, London Road\, Attleborough\, Norfolk\, NR17 1AY \nFREE TO ATTEND
URL:https://norfolkevents.uk/event/soil-science/
LOCATION:Peter Beales Roses\, Peter Beales Roses\, Norwich\, NR171AY
CATEGORIES:Budget friendly,Parks & Gardens,Talks,Wellbeing,Workshops
ATTACH;FMTTYPE=image/png:https://norfolkevents.uk/wp-content/uploads/2026/02/Events-page-imagery-98-972x972-1.png
ORGANIZER;CN="Peter Beales Roses":MAILTO:victoria.davis@peterbealesroses.com
END:VEVENT
BEGIN:VEVENT
DTSTART;TZID=Europe/London:20260312T080000
DTEND;TZID=Europe/London:20260312T170000
DTSTAMP:20260424T100854
CREATED:20260312T224940Z
LAST-MODIFIED:20260312T224940Z
UID:10016366-1773302400-1773334800@norfolkevents.uk
SUMMARY:Co.next Workshop 1–3–5: A Simple Framework for Clearer Thinking
DESCRIPTION:1–3–5: A Simple Framework for Clearer Thinking\nWith James Groves\, Co.next Chair & Director at Indigo Swan \nFeeling stretched\, juggling priorities or overthinking decisions at work? \nJoin Co.next Chair James Groves for a practical workshop introducing the 1–3–5 framework — a simple thinking tool designed to bring clarity\, focus and forward momentum to your role. \nThe 1-3-5 is the following: The one page business plan and personal growth plan. \nYou can use a 1-3-5 for your business but also your personal goals. \n The 1 is the vision for either your business or yourself over the next 12/24 months. \n The 3 is 3 key objectives. For example Work KPIs\, Professional Development and Personal \n The 5 is 5 goals linked to each\, so 15 goals in total to be achieved over the 12/24 months\, so that you achieve your vision and your key objectives. \nWhy coaches use it\n\nBuilds a business plan without the need for page after page of planning and strategy being written.\nReduces overthinking\nEncourages accountability\nStrengthens decision-making confidence and delivery of key goals.\nWorks brilliantly for neurodivergent thinkers (especially ADHD) because it provides structure without being rigid\nProvides clarity on your professional and personal goals.\nAll goals should be SMART
URL:https://norfolkevents.uk/event/co-next-workshop-1-3-5-a-simple-framework-for-clearer-thinking/
LOCATION:Norfolk Chambers Business Hub\, Hardwick House\, 2 Agricultural Hall Plain\,\, Norwich\, NR1 3FS\, United Kingdom
CATEGORIES:Business,Talks,Workshops
ATTACH;FMTTYPE=image/png:https://norfolkevents.uk/wp-content/uploads/2026/03/840b031b-8d02-4fc9-b2bd-b2a9e21bfd9e.png
ORGANIZER;CN="Norfolk Chambers of Commerce":MAILTO:hello@norfolkchambers.co.uk
END:VEVENT
BEGIN:VEVENT
DTSTART;VALUE=DATE:20260316
DTEND;VALUE=DATE:20260324
DTSTAMP:20260424T100854
CREATED:20260302T222410Z
LAST-MODIFIED:20260302T222410Z
UID:10016335-1773633600-1774238399@norfolkevents.uk
SUMMARY:King's Lynn Cocktail Week 2026
DESCRIPTION:Get ready to sip\, sample and savour your way through the town’s vibrant cocktail scene as Cocktail Week is back for 2026! 🍹 \nFrom the 16 – 22 March you can enjoy cocktail (or mocktail) deals and fun events across town centre venues. 🍸🎤 \nView more details on our website: https://www.discoverkingslynn.com/events/cocktail-week/ \nT&C’s apply\, please check with the venue you are planning to visit.
URL:https://norfolkevents.uk/event/kings-lynn-cocktail-week-2026/
LOCATION:King’s Lynn Town Centre\, King's Lynn\, Norfolk\, King's Lynn\, PE30
CATEGORIES:Budget friendly,Comedy and entertainment,Entertainment,Food,Workshops
ATTACH;FMTTYPE=image/jpeg:https://norfolkevents.uk/wp-content/uploads/2026/03/560x400px.jpg
ORGANIZER;CN="Discover King's Lynn":MAILTO:info@discoverkingslynn.com
END:VEVENT
BEGIN:VEVENT
DTSTART;TZID=Europe/London:20260318T114500
DTEND;TZID=Europe/London:20260318T140000
DTSTAMP:20260424T100854
CREATED:20260312T224612Z
LAST-MODIFIED:20260312T224612Z
UID:10016365-1773834300-1773842400@norfolkevents.uk
SUMMARY:Co.next Lunch and Learn: Relationship Building and Authenticity
DESCRIPTION:We’re delighted to welcome Phil Wilding\, Head of Learning & Development at Mills & Reeve\, to lead our March Co.next session on Building Relationships and Authenticity. \nPhil brings a wealth of experience across a mix of industries and is passionate about helping people grow — whether that’s boosting leadership skills\, improving job performance\, or driving cultural change. At Mills & Reeve\, he heads up a talented L&D team and works closely with senior leaders\, delivering coaching and development that really sticks. \nIn this interactive session\, Phil will share practical insights on how authenticity strengthens relationships at work\, why trust matters more than ever\, and the small actions you can take to build deeper connections in your career. Expect to walk away with ideas you can apply straight away – and plenty of food for thought.
URL:https://norfolkevents.uk/event/co-next-lunch-and-learn-relationship-building-and-authenticity/
LOCATION:Norfolk Chambers Business Hub\, Hardwick House\, 2 Agricultural Hall Plain\,\, Norwich\, NR1 3FS\, United Kingdom
CATEGORIES:Business,Talks,Workshops
ATTACH;FMTTYPE=image/png:https://norfolkevents.uk/wp-content/uploads/2026/03/794afbe4-208b-4a9a-bdaa-601abcaa244a.png
ORGANIZER;CN="Norfolk Chambers of Commerce":MAILTO:hello@norfolkchambers.co.uk
END:VEVENT
BEGIN:VEVENT
DTSTART;TZID=Europe/London:20260323T100000
DTEND;TZID=Europe/London:20260323T123000
DTSTAMP:20260424T100854
CREATED:20260307T122754Z
LAST-MODIFIED:20260307T122754Z
UID:10016350-1774260000-1774269000@norfolkevents.uk
SUMMARY:Content Café – Triage
DESCRIPTION:Welcome to Content Café: Triage – our brand new support session designed to give your social media queries the treatment they need. \nContent Café – Triage\nJoin us in person for a laid-back session at the Content Café – Triage! \nGot a social media headache? Caption fatigue? Reels confusion? A serious case of “what on earth do I post?” 😅 \nWelcome to Content Café: Triage – our brand new support session designed to give your social media queries the treatment they need. \nWe’re creating a calm\, friendly space where you can bring your content questions\, get practical answers\, and leave feeling clearer\, lighter\, and more confident about what to do next for your business. \nThink of it as a social media check-up with real advice\, quick wins\, and plenty of encouragement. \nAt Content Café: Triage\, we’ll help you tackle the things that feel most urgent in your content\, including: \n• What to post (and when)\n• Reels\, captions + content ideas\n• Instagram questions and feature confusion\n• What to focus on first for your business\n• Quick\, practical fixes you can use straight away \nNo jargon.No pressure.Just helpful support and a confidence boost. \nIf your brain sounds a bit like: \n“Why does Instagram feel so hard?”\n“What should I post this week?”\n“How do I reach the right people?”…this session is for you. \n📅 Monday 23rd March\n⏰ 10:00am to 12:30pm\n📍 Sunfyr Café☕ Includes one free hot drink with each ticket\n🎟️ Tickets \nSpaces will be limited so we can give everyone time\, attention\, and support. Come along for a practical social media reset — and leave with answers (aka treatment!) for the things that have been holding you back. \nWe truly hope to see you there\, \nLaura + Jo
URL:https://norfolkevents.uk/event/content-cafe-triage/
LOCATION:Sunfyr Barns Cafe\, Manor Farm Barns\, Fox Road\,\, NR14 7PZ
CATEGORIES:Business,Community,Workshops
ATTACH;FMTTYPE=image/png:https://norfolkevents.uk/wp-content/uploads/2026/03/Screenshot-2026-03-07-122414.png
END:VEVENT
BEGIN:VEVENT
DTSTART;TZID=Europe/London:20260328T110000
DTEND;TZID=Europe/London:20260328T120000
DTSTAMP:20260424T100854
CREATED:20260219T210957Z
LAST-MODIFIED:20260219T210957Z
UID:10016277-1774695600-1774699200@norfolkevents.uk
SUMMARY:Choosing Summer Bulbs For Your Garden
DESCRIPTION:Start planning your summer garden with our horticultural expert Dawn\, as she talks you through different bulbs you could plant in your garden this year.\nIn this free\, hour-long course\, Dawn will show you all of the different bulbs you could plant in your garden for beautiful flowers this summer\, including some you may not have heard of before. She will also advise you on the best places to plant them and how to care for them as they grow. \nThis course is great for people who are new to gardening and want to learn more about planting bulbs or anyone that is looking to add something new to their summer garden. \nThis is a free session as part of our Peter Beales Gardening Club series; no payment is required. \nTHE DETAILS\nDates: Saturday 28th March \nTime: 11am – 12pm \nPeter Beales Roses\, London Road\, Attleborough\, Norfolk\, NR17 1AY \nFREE TO ATTEND
URL:https://norfolkevents.uk/event/choosing-summer-bulbs-for-your-garden/
LOCATION:Peter Beales Roses\, Peter Beales Roses\, Norwich\, NR171AY
CATEGORIES:Parks & Gardens,Talks,Wellbeing,Workshops
ATTACH;FMTTYPE=image/png:https://norfolkevents.uk/wp-content/uploads/2026/02/Events-page-imagery-97-972x972-1.png
ORGANIZER;CN="Peter Beales Roses":MAILTO:victoria.davis@peterbealesroses.com
END:VEVENT
BEGIN:VEVENT
DTSTART;TZID=Europe/London:20260330T103000
DTEND;TZID=Europe/London:20260330T153000
DTSTAMP:20260424T100854
CREATED:20260218T215232Z
LAST-MODIFIED:20260218T215232Z
UID:10016260-1774866600-1774884600@norfolkevents.uk
SUMMARY:Invertebrate mobile workshop with Alice Lee (Family event)
DESCRIPTION:Join artist Alice Lee (Parallel Point) for a fun and free workshop at NWT Cley Marshes. Get creative and colour winged minibeast (invertebrate) designs\, before making your own beautiful animated mobile to take home. All ages and skill levels welcome.
URL:https://norfolkevents.uk/event/invertebrate-mobile-workshop-with-alice-lee-family-event/
LOCATION:NWT Cley and Salhouse Marshes\, Coast Road\, Cley next the Sea\, NR25 7SA
CATEGORIES:Children,Family,Workshops
ATTACH;FMTTYPE=image/jpeg:https://norfolkevents.uk/wp-content/uploads/2026/02/Alice-Lee_Invertebrate-Workshop-Image-scaled.jpg
ORGANIZER;CN="Norfolk Wildlife Trust":MAILTO:info@norfolkwildlifetrust.org.uk
END:VEVENT
END:VCALENDAR