BEGIN:VCALENDAR
VERSION:2.0
PRODID:-//Norfolk Events - ECPv6.15.20//NONSGML v1.0//EN
CALSCALE:GREGORIAN
METHOD:PUBLISH
X-WR-CALNAME:Norfolk Events
X-ORIGINAL-URL:https://norfolkevents.uk
X-WR-CALDESC:Events for Norfolk Events
REFRESH-INTERVAL;VALUE=DURATION:PT1H
X-Robots-Tag:noindex
X-PUBLISHED-TTL:PT1H
BEGIN:VTIMEZONE
TZID:Europe/London
BEGIN:DAYLIGHT
TZOFFSETFROM:+0000
TZOFFSETTO:+0100
TZNAME:BST
DTSTART:20250330T010000
END:DAYLIGHT
BEGIN:STANDARD
TZOFFSETFROM:+0100
TZOFFSETTO:+0000
TZNAME:GMT
DTSTART:20251026T010000
END:STANDARD
BEGIN:DAYLIGHT
TZOFFSETFROM:+0000
TZOFFSETTO:+0100
TZNAME:BST
DTSTART:20260329T010000
END:DAYLIGHT
BEGIN:STANDARD
TZOFFSETFROM:+0100
TZOFFSETTO:+0000
TZNAME:GMT
DTSTART:20261025T010000
END:STANDARD
BEGIN:DAYLIGHT
TZOFFSETFROM:+0000
TZOFFSETTO:+0100
TZNAME:BST
DTSTART:20270328T010000
END:DAYLIGHT
BEGIN:STANDARD
TZOFFSETFROM:+0100
TZOFFSETTO:+0000
TZNAME:GMT
DTSTART:20271031T010000
END:STANDARD
END:VTIMEZONE
BEGIN:VEVENT
DTSTART;TZID=Europe/London:20260111T110000
DTEND;TZID=Europe/London:20260111T120000
DTSTAMP:20260424T124559
CREATED:20260109T203627Z
LAST-MODIFIED:20260109T203627Z
UID:10011680-1768129200-1768132800@norfolkevents.uk
SUMMARY:Propagation Workshop
DESCRIPTION:Spend the morning at Peter Beales and learn the basics of seed sowing with our horticultural expert\, Dawn.\nIn this free\, hour-long course\, Dawn will cover everything you need to know about growing your own plants from a seed\, including how different sizes of seed need planting differently\, the best compost and containers to plant them in and how to nurture your plant in the weeks that follow. \nThen in the afternoon Dawn will be on hand in the garden centre to answer any of your questions about sowing your own seeds and advise on any issues or concerns you may be having. \nThis course is perfect for any gardeners who are new to growing plants from a seed or who need a reminder on propagation\, and it is free to attend in our garden centre. \nThis is a free session as part of our January Plant Education series; no payment is required.
URL:https://norfolkevents.uk/event/propagation-workshop/
LOCATION:Peter Beales Roses\, Peter Beales Roses\, Norwich\, NR171AY
CATEGORIES:Budget friendly,Talks,Wellbeing,Workshops
ATTACH;FMTTYPE=image/png:https://norfolkevents.uk/wp-content/uploads/2026/01/Propagation-Workshop.png
ORGANIZER;CN="Peter Beales Roses":MAILTO:victoria.davis@peterbealesroses.com
END:VEVENT
BEGIN:VEVENT
DTSTART;TZID=Europe/London:20260117T110000
DTEND;TZID=Europe/London:20260117T120000
DTSTAMP:20260424T124559
CREATED:20260109T203857Z
LAST-MODIFIED:20260109T204043Z
UID:10011681-1768647600-1768651200@norfolkevents.uk
SUMMARY:The botany of dormancy
DESCRIPTION:Join us at Peter Beales Roses this January for a fascinating lecture with our horticultural expert\, Dawn\, on the science behind plant dormancy.\nIn this free\, hour-long presentation\, Dawn will talk you through the reasons why plants sleep over the winter to counteract bad weather. Together\, you will look at examples of different plants in their dormant state and learn about the adaptations they make to survive cold British winters. \nThen in the afternoon Dawn will be on hand in the garden centre to answer any of your questions about your own plants and advise on any issues or concerns you may be having. \nThis course is perfect for garden enthusiasts and beginners alike\, who want to learn more about their perennials’ life cycle through the winter or may be worried about whether the plants in their garden are still alive. \nThis is a free session as part of our January Plant Education series; no payment is required. \nTHE DETAILS\nDates: Saturday 17th January \nTime: 11am – 12pm with a drop in Q&A session from 1pm -3pm \nPeter Beales Roses\, London Road\, Attleborough\, Norfolk\, NR17 1AY \nFREE TO ATTEND \nGET TO KNOW DAWN\nDawn is our resident horticulture expert and has been a crucial part of the Peter Beales team for several years. She has over thirty years of experience working in the industry\, including fifteen years teaching at various reputable institutions. She is a full member of the Chartered Institute of Horticulture and is currently studying on the RHS Master of Horticulture course\, a prestigious program that only accepts 40 students from around the world at one time.
URL:https://norfolkevents.uk/event/the-botany-of-dormancy/
LOCATION:Peter Beales Roses\, Peter Beales Roses\, Norwich\, NR171AY
CATEGORIES:Talks,Wellbeing,Workshops
ATTACH;FMTTYPE=image/png:https://norfolkevents.uk/wp-content/uploads/2026/01/The-botany-of-dormancy.png
ORGANIZER;CN="Peter Beales Roses":MAILTO:victoria.davis@peterbealesroses.com
END:VEVENT
BEGIN:VEVENT
DTSTART;TZID=Europe/London:20260128T110000
DTEND;TZID=Europe/London:20260128T120000
DTSTAMP:20260424T124559
CREATED:20260114T211538Z
LAST-MODIFIED:20260114T211538Z
UID:10012976-1769598000-1769601600@norfolkevents.uk
SUMMARY:Snowdrop Workshop
DESCRIPTION:Our Snowdrop Workshop is back for another year and is the perfect opportunity for you to get out of the house and try something creative during these grey\, winter days.\nIn this workshop\, you will spend the morning with Dawn in our garden centre\, as she shows you how to arrange a beautiful spring table centre piece of delicate snowdrops to brighten up your home. \nIncluded in the price of your ticket\, you can enjoy a hot drink and a slice of cake of your choice from our Rosarium Restaurant\, while you work on your centre piece. \nThis workshop is great for people of all abilities who want to create something beautiful for their home as a reminder that spring is on its way! \nTHE DETAILS\nDates: Wednesday 28th January or Friday 13th February \nTime: 11am until 12pm \nPeter Beales Roses\, London Road\, Attleborough\, Norfolk\, NR17 1AY \n£25 per person \nIncluding a hot drink of your choice and a slice of cake from our Rosarium Restaurant \nHOW TO FIND US\nOur garden centre is located in Attleborough in Norfolk and is easily accessible by car\, only a stone’s throw away from the A11 with plenty of parking. \nYou can find us using the Google Maps link below or by inputting our address into your navigation system. Alternatively you can find us on What Three Words under: \n///such.quirky.warthog \nPeter Beales Roses\, London Road\, Attleborough\, Norfolk\, NR17 1AY
URL:https://norfolkevents.uk/event/snowdrop-workshop/2026-01-28/
LOCATION:Peter Beales Roses\, Peter Beales Roses\, Norwich\, NR171AY
CATEGORIES:Talks,Wellbeing,Workshops
ATTACH;FMTTYPE=image/png:https://norfolkevents.uk/wp-content/uploads/2026/01/Events-page-imagery-63-1-972x972-1.png
ORGANIZER;CN="Peter Beales Roses":MAILTO:victoria.davis@peterbealesroses.com
END:VEVENT
BEGIN:VEVENT
DTSTART;TZID=Europe/London:20260131T110000
DTEND;TZID=Europe/London:20260131T120000
DTSTAMP:20260424T124559
CREATED:20260114T211814Z
LAST-MODIFIED:20260114T211814Z
UID:10012978-1769857200-1769860800@norfolkevents.uk
SUMMARY:Caring for your Houseplants
DESCRIPTION:Spend the morning at our garden centre and learn the best ways to care for your house plants through the winter months with our plant expert\, Dawn.\nIn this free\, hour-long course\, Dawn will talk you through the key elements of winter houseplant care\, including where in the house different plants will thrive\, how to feed and water them\, how to know when your plant needs repotting\, and how to prevent pests and diseases. \nShe will also discuss the benefits of having house plants in your home\, including how different plants can solve common household problems\, such as damp and reduced air circulation in your home. \nIn the afternoon\, Dawn will be on hand in the garden centre to answer any questions you may have about your own plants and advise on any issues or concerns you may be experiencing. \nThis course is perfect for people who are new to caring for house plants or would like to learn more about the plants in their home and the best way to care for them. \nThis is a free session as part of our January Plant Education Series; no payment is required. \nTHE DETAILS\nDates: Saturday 31st January \nTime: 11am – 12pm with a drop in Q&A session from 1pm -3pm \nPeter Beales Roses\, London Road\, Attleborough\, Norfolk\, NR17 1AY \nFREE TO ATTEND \nGET TO KNOW DAWN\nDawn is our resident horticulture expert and has been a crucial part of the Peter Beales team for several years. She has over thirty years of experience working in the industry\, including fifteen years teaching at various reputable institutions. She is a full member of the Chartered Institute of Horticulture and is currently studying on the RHS Master of Horticulture course\, a prestigious program that only accepts 40 students from around the world at one time. \nHOW TO FIND US\nOur garden centre is located in Attleborough in Norfolk and is easily accessible by car\, only a stone’s throw away from the A11 with plenty of parking. \nYou can find us using the Google Maps link below or by inputting our address into your navigation system. Alternatively you can find us on What Three Words under: \n///such.quirky.warthog \nPeter Beales Roses\, London Road\, Attleborough\, Norfolk\, NR17 1AY
URL:https://norfolkevents.uk/event/caring-for-your-houseplants/
LOCATION:Peter Beales Roses\, Peter Beales Roses\, Norwich\, NR171AY
CATEGORIES:Talks,Wellbeing,Workshops
ATTACH;FMTTYPE=image/png:https://norfolkevents.uk/wp-content/uploads/2026/01/9-972x972-1.png
ORGANIZER;CN="Peter Beales Roses":MAILTO:victoria.davis@peterbealesroses.com
END:VEVENT
END:VCALENDAR