BEGIN:VCALENDAR
VERSION:2.0
PRODID:-//Norfolk Events - ECPv6.15.20//NONSGML v1.0//EN
CALSCALE:GREGORIAN
METHOD:PUBLISH
X-ORIGINAL-URL:https://norfolkevents.uk
X-WR-CALDESC:Events for Norfolk Events
REFRESH-INTERVAL;VALUE=DURATION:PT1H
X-Robots-Tag:noindex
X-PUBLISHED-TTL:PT1H
BEGIN:VTIMEZONE
TZID:Europe/London
BEGIN:DAYLIGHT
TZOFFSETFROM:+0000
TZOFFSETTO:+0100
TZNAME:BST
DTSTART:20250330T010000
END:DAYLIGHT
BEGIN:STANDARD
TZOFFSETFROM:+0100
TZOFFSETTO:+0000
TZNAME:GMT
DTSTART:20251026T010000
END:STANDARD
BEGIN:DAYLIGHT
TZOFFSETFROM:+0000
TZOFFSETTO:+0100
TZNAME:BST
DTSTART:20260329T010000
END:DAYLIGHT
BEGIN:STANDARD
TZOFFSETFROM:+0100
TZOFFSETTO:+0000
TZNAME:GMT
DTSTART:20261025T010000
END:STANDARD
BEGIN:DAYLIGHT
TZOFFSETFROM:+0000
TZOFFSETTO:+0100
TZNAME:BST
DTSTART:20270328T010000
END:DAYLIGHT
BEGIN:STANDARD
TZOFFSETFROM:+0100
TZOFFSETTO:+0000
TZNAME:GMT
DTSTART:20271031T010000
END:STANDARD
BEGIN:DAYLIGHT
TZOFFSETFROM:+0000
TZOFFSETTO:+0100
TZNAME:BST
DTSTART:20280326T010000
END:DAYLIGHT
BEGIN:STANDARD
TZOFFSETFROM:+0100
TZOFFSETTO:+0000
TZNAME:GMT
DTSTART:20281029T010000
END:STANDARD
END:VTIMEZONE
BEGIN:VEVENT
DTSTART;TZID=Europe/London:20261204T193000
DTEND;TZID=Europe/London:20261204T220000
DTSTAMP:20260420T000329
CREATED:20260213T221401Z
LAST-MODIFIED:20260213T221401Z
UID:10016182-1796412600-1796421600@norfolkevents.uk
SUMMARY:Jim's Christmas Cracker
DESCRIPTION:Grab your baubles and stuff your stockings because Jim Davidson OBE is back and naughtier than ever! Despite the best efforts of the “woke” snowflakes trying to cancel this comedic legend\, Jim continues to jingle all the way to sold-out shows year after year. The silenced majority have spoken\, and they’re saying\, “More Jim\, please!” Get ready for an evening of uproarious\, adults-only comedy that’s as inappropriate as a mistletoe mishap at the office Christmas party. \nIn this brand-new Festive show for 2026\, Jim invites you to join him in unwrapping the funniest Christmas present you’ll get this year—a night full of laughs\, cheeky one-liners\, and the kind of humour that’s spicier than your aunt’s eggnog. Forget about those who want to dampen the festive spirit with their radical sensibilities; Jim’s here to deck the halls with laughter and remind us all that freedom of speech is the gift that keeps on giving! \n“Showman Jim triumphs… he hit the spot again and again”\nSunday Express ***** \n“Standing ovation to packed houses every night”\nThe Mirror **** \n“Davidson was cheered to the rafters”\nThe Telegraph \n“A master of his art”\nThe Spectator \n“Boy\, does Jim know how to deliver his gospel… The audience could have stayed all night… he speaks with a rare honesty”\nExpress *****\nTickets: £30.50
URL:https://norfolkevents.uk/event/jims-christmas-cracker/
LOCATION:Britannia Pier Theatre\, Britannia Pier\, Great Yarmouth\, NR30 2EH
CATEGORIES:Christmas,Theatre
ATTACH;FMTTYPE=image/jpeg:https://norfolkevents.uk/wp-content/uploads/2026/02/367.jpg
ORGANIZER;CN="Britannia Pier":MAILTO:info@britannia-pier.co.uk
END:VEVENT
BEGIN:VEVENT
DTSTART;TZID=Europe/London:20261208T130000
DTEND;TZID=Europe/London:20261208T153000
DTSTAMP:20260420T000329
CREATED:20260213T222348Z
LAST-MODIFIED:20260213T222348Z
UID:10016186-1796734800-1796743800@norfolkevents.uk
SUMMARY:Beauty And The Beast Pantomime
DESCRIPTION:This Christmas\, history is made on Great Yarmouth’s iconic seafront as G&S Productions and Stargate Entertainment unveil the Britannia Pier’s first celebrity pantomime – a spectacular new staging of Beauty and the Beast for Christmas 2026. \nStep inside a world of enchantment\, where spellbinding magic\, lavish costumes\, dazzling sets\, and laugh‑out‑loud comedy come together in a festive extravaganza for the whole family. Leading the cast is celebrated star Gareth Gates\, bringing power\, charm\, and an unforgettable presence to the role of the Beast. \nFollow Belle on her journey from village life to a mysterious enchanted castle\, where curses can be broken\, friendships forged\, and true love shines brighter than ever. With show‑stopping musical numbers\, breathtaking theatrical moments\, and the signature flair of G&S Productions and Stargate Entertainment\, this landmark production promises to be the Christmas event everyone will be talking about. \n*Wednesday 9th December 5PM showing will be a SEN friendly performance. **Saturday 19th 1PM will be a signed performance\nTickets: £15.50 – £28.00
URL:https://norfolkevents.uk/event/beauty-and-the-beast-pantomime/2026-12-08/1/
LOCATION:Britannia Pier Theatre\, Britannia Pier\, Great Yarmouth\, NR30 2EH
CATEGORIES:Children,Theatre
ATTACH;FMTTYPE=image/jpeg:https://norfolkevents.uk/wp-content/uploads/2026/02/369.jpg
ORGANIZER;CN="Britannia Pier":MAILTO:info@britannia-pier.co.uk
END:VEVENT
BEGIN:VEVENT
DTSTART;TZID=Europe/London:20261208T140000
DTEND;TZID=Europe/London:20261208T163000
DTSTAMP:20260420T000329
CREATED:20260213T222348Z
LAST-MODIFIED:20260213T222348Z
UID:10016187-1796738400-1796747400@norfolkevents.uk
SUMMARY:Beauty And The Beast Pantomime
DESCRIPTION:This Christmas\, history is made on Great Yarmouth’s iconic seafront as G&S Productions and Stargate Entertainment unveil the Britannia Pier’s first celebrity pantomime – a spectacular new staging of Beauty and the Beast for Christmas 2026. \nStep inside a world of enchantment\, where spellbinding magic\, lavish costumes\, dazzling sets\, and laugh‑out‑loud comedy come together in a festive extravaganza for the whole family. Leading the cast is celebrated star Gareth Gates\, bringing power\, charm\, and an unforgettable presence to the role of the Beast. \nFollow Belle on her journey from village life to a mysterious enchanted castle\, where curses can be broken\, friendships forged\, and true love shines brighter than ever. With show‑stopping musical numbers\, breathtaking theatrical moments\, and the signature flair of G&S Productions and Stargate Entertainment\, this landmark production promises to be the Christmas event everyone will be talking about. \n*Wednesday 9th December 5PM showing will be a SEN friendly performance. **Saturday 19th 1PM will be a signed performance\nTickets: £15.50 – £28.00
URL:https://norfolkevents.uk/event/beauty-and-the-beast-pantomime/2026-12-08/2/
LOCATION:Britannia Pier Theatre\, Britannia Pier\, Great Yarmouth\, NR30 2EH
CATEGORIES:Children,Theatre
ATTACH;FMTTYPE=image/jpeg:https://norfolkevents.uk/wp-content/uploads/2026/02/369.jpg
ORGANIZER;CN="Britannia Pier":MAILTO:info@britannia-pier.co.uk
END:VEVENT
BEGIN:VEVENT
DTSTART;TZID=Europe/London:20261208T143000
DTEND;TZID=Europe/London:20261208T170000
DTSTAMP:20260420T000329
CREATED:20260213T222348Z
LAST-MODIFIED:20260213T222348Z
UID:10016188-1796740200-1796749200@norfolkevents.uk
SUMMARY:Beauty And The Beast Pantomime
DESCRIPTION:This Christmas\, history is made on Great Yarmouth’s iconic seafront as G&S Productions and Stargate Entertainment unveil the Britannia Pier’s first celebrity pantomime – a spectacular new staging of Beauty and the Beast for Christmas 2026. \nStep inside a world of enchantment\, where spellbinding magic\, lavish costumes\, dazzling sets\, and laugh‑out‑loud comedy come together in a festive extravaganza for the whole family. Leading the cast is celebrated star Gareth Gates\, bringing power\, charm\, and an unforgettable presence to the role of the Beast. \nFollow Belle on her journey from village life to a mysterious enchanted castle\, where curses can be broken\, friendships forged\, and true love shines brighter than ever. With show‑stopping musical numbers\, breathtaking theatrical moments\, and the signature flair of G&S Productions and Stargate Entertainment\, this landmark production promises to be the Christmas event everyone will be talking about. \n*Wednesday 9th December 5PM showing will be a SEN friendly performance. **Saturday 19th 1PM will be a signed performance\nTickets: £15.50 – £28.00
URL:https://norfolkevents.uk/event/beauty-and-the-beast-pantomime/2026-12-08/3/
LOCATION:Britannia Pier Theatre\, Britannia Pier\, Great Yarmouth\, NR30 2EH
CATEGORIES:Children,Theatre
ATTACH;FMTTYPE=image/jpeg:https://norfolkevents.uk/wp-content/uploads/2026/02/369.jpg
ORGANIZER;CN="Britannia Pier":MAILTO:info@britannia-pier.co.uk
END:VEVENT
BEGIN:VEVENT
DTSTART;TZID=Europe/London:20261208T170000
DTEND;TZID=Europe/London:20261208T193000
DTSTAMP:20260420T000329
CREATED:20260213T222348Z
LAST-MODIFIED:20260213T222348Z
UID:10016189-1796749200-1796758200@norfolkevents.uk
SUMMARY:Beauty And The Beast Pantomime
DESCRIPTION:This Christmas\, history is made on Great Yarmouth’s iconic seafront as G&S Productions and Stargate Entertainment unveil the Britannia Pier’s first celebrity pantomime – a spectacular new staging of Beauty and the Beast for Christmas 2026. \nStep inside a world of enchantment\, where spellbinding magic\, lavish costumes\, dazzling sets\, and laugh‑out‑loud comedy come together in a festive extravaganza for the whole family. Leading the cast is celebrated star Gareth Gates\, bringing power\, charm\, and an unforgettable presence to the role of the Beast. \nFollow Belle on her journey from village life to a mysterious enchanted castle\, where curses can be broken\, friendships forged\, and true love shines brighter than ever. With show‑stopping musical numbers\, breathtaking theatrical moments\, and the signature flair of G&S Productions and Stargate Entertainment\, this landmark production promises to be the Christmas event everyone will be talking about. \n*Wednesday 9th December 5PM showing will be a SEN friendly performance. **Saturday 19th 1PM will be a signed performance\nTickets: £15.50 – £28.00
URL:https://norfolkevents.uk/event/beauty-and-the-beast-pantomime/2026-12-08/4/
LOCATION:Britannia Pier Theatre\, Britannia Pier\, Great Yarmouth\, NR30 2EH
CATEGORIES:Children,Theatre
ATTACH;FMTTYPE=image/jpeg:https://norfolkevents.uk/wp-content/uploads/2026/02/369.jpg
ORGANIZER;CN="Britannia Pier":MAILTO:info@britannia-pier.co.uk
END:VEVENT
BEGIN:VEVENT
DTSTART;TZID=Europe/London:20261208T180000
DTEND;TZID=Europe/London:20261208T203000
DTSTAMP:20260420T000329
CREATED:20260213T222348Z
LAST-MODIFIED:20260213T222348Z
UID:10016190-1796752800-1796761800@norfolkevents.uk
SUMMARY:Beauty And The Beast Pantomime
DESCRIPTION:This Christmas\, history is made on Great Yarmouth’s iconic seafront as G&S Productions and Stargate Entertainment unveil the Britannia Pier’s first celebrity pantomime – a spectacular new staging of Beauty and the Beast for Christmas 2026. \nStep inside a world of enchantment\, where spellbinding magic\, lavish costumes\, dazzling sets\, and laugh‑out‑loud comedy come together in a festive extravaganza for the whole family. Leading the cast is celebrated star Gareth Gates\, bringing power\, charm\, and an unforgettable presence to the role of the Beast. \nFollow Belle on her journey from village life to a mysterious enchanted castle\, where curses can be broken\, friendships forged\, and true love shines brighter than ever. With show‑stopping musical numbers\, breathtaking theatrical moments\, and the signature flair of G&S Productions and Stargate Entertainment\, this landmark production promises to be the Christmas event everyone will be talking about. \n*Wednesday 9th December 5PM showing will be a SEN friendly performance. **Saturday 19th 1PM will be a signed performance\nTickets: £15.50 – £28.00
URL:https://norfolkevents.uk/event/beauty-and-the-beast-pantomime/2026-12-08/5/
LOCATION:Britannia Pier Theatre\, Britannia Pier\, Great Yarmouth\, NR30 2EH
CATEGORIES:Children,Theatre
ATTACH;FMTTYPE=image/jpeg:https://norfolkevents.uk/wp-content/uploads/2026/02/369.jpg
ORGANIZER;CN="Britannia Pier":MAILTO:info@britannia-pier.co.uk
END:VEVENT
BEGIN:VEVENT
DTSTART;TZID=Europe/London:20261208T190000
DTEND;TZID=Europe/London:20261208T213000
DTSTAMP:20260420T000329
CREATED:20260213T222348Z
LAST-MODIFIED:20260213T222348Z
UID:10016191-1796756400-1796765400@norfolkevents.uk
SUMMARY:Beauty And The Beast Pantomime
DESCRIPTION:This Christmas\, history is made on Great Yarmouth’s iconic seafront as G&S Productions and Stargate Entertainment unveil the Britannia Pier’s first celebrity pantomime – a spectacular new staging of Beauty and the Beast for Christmas 2026. \nStep inside a world of enchantment\, where spellbinding magic\, lavish costumes\, dazzling sets\, and laugh‑out‑loud comedy come together in a festive extravaganza for the whole family. Leading the cast is celebrated star Gareth Gates\, bringing power\, charm\, and an unforgettable presence to the role of the Beast. \nFollow Belle on her journey from village life to a mysterious enchanted castle\, where curses can be broken\, friendships forged\, and true love shines brighter than ever. With show‑stopping musical numbers\, breathtaking theatrical moments\, and the signature flair of G&S Productions and Stargate Entertainment\, this landmark production promises to be the Christmas event everyone will be talking about. \n*Wednesday 9th December 5PM showing will be a SEN friendly performance. **Saturday 19th 1PM will be a signed performance\nTickets: £15.50 – £28.00
URL:https://norfolkevents.uk/event/beauty-and-the-beast-pantomime/2026-12-08/6/
LOCATION:Britannia Pier Theatre\, Britannia Pier\, Great Yarmouth\, NR30 2EH
CATEGORIES:Children,Theatre
ATTACH;FMTTYPE=image/jpeg:https://norfolkevents.uk/wp-content/uploads/2026/02/369.jpg
ORGANIZER;CN="Britannia Pier":MAILTO:info@britannia-pier.co.uk
END:VEVENT
BEGIN:VEVENT
DTSTART;TZID=Europe/London:20261209T170000
DTEND;TZID=Europe/London:20261209T193000
DTSTAMP:20260420T000329
CREATED:20260213T222348Z
LAST-MODIFIED:20260213T222348Z
UID:10016192-1796835600-1796844600@norfolkevents.uk
SUMMARY:Beauty And The Beast Pantomime
DESCRIPTION:This Christmas\, history is made on Great Yarmouth’s iconic seafront as G&S Productions and Stargate Entertainment unveil the Britannia Pier’s first celebrity pantomime – a spectacular new staging of Beauty and the Beast for Christmas 2026. \nStep inside a world of enchantment\, where spellbinding magic\, lavish costumes\, dazzling sets\, and laugh‑out‑loud comedy come together in a festive extravaganza for the whole family. Leading the cast is celebrated star Gareth Gates\, bringing power\, charm\, and an unforgettable presence to the role of the Beast. \nFollow Belle on her journey from village life to a mysterious enchanted castle\, where curses can be broken\, friendships forged\, and true love shines brighter than ever. With show‑stopping musical numbers\, breathtaking theatrical moments\, and the signature flair of G&S Productions and Stargate Entertainment\, this landmark production promises to be the Christmas event everyone will be talking about. \n*Wednesday 9th December 5PM showing will be a SEN friendly performance. **Saturday 19th 1PM will be a signed performance\nTickets: £15.50 – £28.00
URL:https://norfolkevents.uk/event/beauty-and-the-beast-pantomime/2026-12-09/
LOCATION:Britannia Pier Theatre\, Britannia Pier\, Great Yarmouth\, NR30 2EH
CATEGORIES:Children,Theatre
ATTACH;FMTTYPE=image/jpeg:https://norfolkevents.uk/wp-content/uploads/2026/02/369.jpg
ORGANIZER;CN="Britannia Pier":MAILTO:info@britannia-pier.co.uk
END:VEVENT
BEGIN:VEVENT
DTSTART;TZID=Europe/London:20261210T180000
DTEND;TZID=Europe/London:20261210T203000
DTSTAMP:20260420T000329
CREATED:20260213T222348Z
LAST-MODIFIED:20260213T222348Z
UID:10016193-1796925600-1796934600@norfolkevents.uk
SUMMARY:Beauty And The Beast Pantomime
DESCRIPTION:This Christmas\, history is made on Great Yarmouth’s iconic seafront as G&S Productions and Stargate Entertainment unveil the Britannia Pier’s first celebrity pantomime – a spectacular new staging of Beauty and the Beast for Christmas 2026. \nStep inside a world of enchantment\, where spellbinding magic\, lavish costumes\, dazzling sets\, and laugh‑out‑loud comedy come together in a festive extravaganza for the whole family. Leading the cast is celebrated star Gareth Gates\, bringing power\, charm\, and an unforgettable presence to the role of the Beast. \nFollow Belle on her journey from village life to a mysterious enchanted castle\, where curses can be broken\, friendships forged\, and true love shines brighter than ever. With show‑stopping musical numbers\, breathtaking theatrical moments\, and the signature flair of G&S Productions and Stargate Entertainment\, this landmark production promises to be the Christmas event everyone will be talking about. \n*Wednesday 9th December 5PM showing will be a SEN friendly performance. **Saturday 19th 1PM will be a signed performance\nTickets: £15.50 – £28.00
URL:https://norfolkevents.uk/event/beauty-and-the-beast-pantomime/2026-12-10/
LOCATION:Britannia Pier Theatre\, Britannia Pier\, Great Yarmouth\, NR30 2EH
CATEGORIES:Children,Theatre
ATTACH;FMTTYPE=image/jpeg:https://norfolkevents.uk/wp-content/uploads/2026/02/369.jpg
ORGANIZER;CN="Britannia Pier":MAILTO:info@britannia-pier.co.uk
END:VEVENT
BEGIN:VEVENT
DTSTART;TZID=Europe/London:20261221T180000
DTEND;TZID=Europe/London:20261221T200000
DTSTAMP:20260420T000329
CREATED:20260213T222610Z
LAST-MODIFIED:20260213T222610Z
UID:10016184-1797876000-1797883200@norfolkevents.uk
SUMMARY:Kids Christmas Party
DESCRIPTION:Come and join us and Santa with his helpers for some Christmas fun and games for all the family. Santa will help you get into the Christmas spirit with party games\, music\, snow machine and lots more. All tickets adults and children £5 each\nTickets: £5.00
URL:https://norfolkevents.uk/event/kids-christmas-party/
LOCATION:Britannia Pier Theatre\, Britannia Pier\, Great Yarmouth\, NR30 2EH
CATEGORIES:Children,Theatre
ATTACH;FMTTYPE=image/jpeg:https://norfolkevents.uk/wp-content/uploads/2026/02/324.jpg
ORGANIZER;CN="Britannia Pier":MAILTO:info@britannia-pier.co.uk
END:VEVENT
BEGIN:VEVENT
DTSTART;TZID=Europe/London:20270112T193000
DTEND;TZID=Europe/London:20270112T220000
DTSTAMP:20260420T000329
CREATED:20251031T204550Z
LAST-MODIFIED:20251128T210544Z
UID:10010278-1799782200-1799791200@norfolkevents.uk
SUMMARY:Dirty Dancing
DESCRIPTION:Dirty Dancing is heading to Norwich Theatre as part of a UK and Irish tour. Exploding with heart-pounding music\, breath-taking emotion and sensationally sexy dancing. \nSeen by millions across the globe this worldwide smash hit tells the classic story of Baby and Johnny\, two fiercely independent young spirits from different worlds\, who come together in what will be the most challenging and triumphant summer of their lives. \nSee the hit film come to life before your eyes with this fantastic\, emotional and triumphant live stage show. \nThe iconic story features the hit songs ‘Hungry Eyes’\, ‘Hey! Baby’\, ‘Do You Love Me?’ and the heart stopping ‘(I’ve Had) The Time Of My Life’\, and an incredible cast of dancers.
URL:https://norfolkevents.uk/event/dirty-dancing/2027-01-12/
LOCATION:Norwich Theatre Royal\, Theatre Street\, Norwich\, Norfolk\, NR2 1RL\, United Kingdom
CATEGORIES:Musicals,Theatre
ATTACH;FMTTYPE=image/png:https://norfolkevents.uk/wp-content/uploads/2025/10/Dirty-Dancing-1280x940-1.png
END:VEVENT
BEGIN:VEVENT
DTSTART;TZID=Europe/London:20270113T143000
DTEND;TZID=Europe/London:20270113T170000
DTSTAMP:20260420T000329
CREATED:20251031T204550Z
LAST-MODIFIED:20251128T210544Z
UID:10010279-1799850600-1799859600@norfolkevents.uk
SUMMARY:Dirty Dancing
DESCRIPTION:Dirty Dancing is heading to Norwich Theatre as part of a UK and Irish tour. Exploding with heart-pounding music\, breath-taking emotion and sensationally sexy dancing. \nSeen by millions across the globe this worldwide smash hit tells the classic story of Baby and Johnny\, two fiercely independent young spirits from different worlds\, who come together in what will be the most challenging and triumphant summer of their lives. \nSee the hit film come to life before your eyes with this fantastic\, emotional and triumphant live stage show. \nThe iconic story features the hit songs ‘Hungry Eyes’\, ‘Hey! Baby’\, ‘Do You Love Me?’ and the heart stopping ‘(I’ve Had) The Time Of My Life’\, and an incredible cast of dancers.
URL:https://norfolkevents.uk/event/dirty-dancing/2027-01-13/1/
LOCATION:Norwich Theatre Royal\, Theatre Street\, Norwich\, Norfolk\, NR2 1RL\, United Kingdom
CATEGORIES:Musicals,Theatre
ATTACH;FMTTYPE=image/png:https://norfolkevents.uk/wp-content/uploads/2025/10/Dirty-Dancing-1280x940-1.png
END:VEVENT
BEGIN:VEVENT
DTSTART;TZID=Europe/London:20270113T193000
DTEND;TZID=Europe/London:20270113T220000
DTSTAMP:20260420T000329
CREATED:20251031T204550Z
LAST-MODIFIED:20251128T210544Z
UID:10010280-1799868600-1799877600@norfolkevents.uk
SUMMARY:Dirty Dancing
DESCRIPTION:Dirty Dancing is heading to Norwich Theatre as part of a UK and Irish tour. Exploding with heart-pounding music\, breath-taking emotion and sensationally sexy dancing. \nSeen by millions across the globe this worldwide smash hit tells the classic story of Baby and Johnny\, two fiercely independent young spirits from different worlds\, who come together in what will be the most challenging and triumphant summer of their lives. \nSee the hit film come to life before your eyes with this fantastic\, emotional and triumphant live stage show. \nThe iconic story features the hit songs ‘Hungry Eyes’\, ‘Hey! Baby’\, ‘Do You Love Me?’ and the heart stopping ‘(I’ve Had) The Time Of My Life’\, and an incredible cast of dancers.
URL:https://norfolkevents.uk/event/dirty-dancing/2027-01-13/2/
LOCATION:Norwich Theatre Royal\, Theatre Street\, Norwich\, Norfolk\, NR2 1RL\, United Kingdom
CATEGORIES:Musicals,Theatre
ATTACH;FMTTYPE=image/png:https://norfolkevents.uk/wp-content/uploads/2025/10/Dirty-Dancing-1280x940-1.png
END:VEVENT
BEGIN:VEVENT
DTSTART;TZID=Europe/London:20270114T193000
DTEND;TZID=Europe/London:20270114T220000
DTSTAMP:20260420T000329
CREATED:20251031T204550Z
LAST-MODIFIED:20251128T210544Z
UID:10010281-1799955000-1799964000@norfolkevents.uk
SUMMARY:Dirty Dancing
DESCRIPTION:Dirty Dancing is heading to Norwich Theatre as part of a UK and Irish tour. Exploding with heart-pounding music\, breath-taking emotion and sensationally sexy dancing. \nSeen by millions across the globe this worldwide smash hit tells the classic story of Baby and Johnny\, two fiercely independent young spirits from different worlds\, who come together in what will be the most challenging and triumphant summer of their lives. \nSee the hit film come to life before your eyes with this fantastic\, emotional and triumphant live stage show. \nThe iconic story features the hit songs ‘Hungry Eyes’\, ‘Hey! Baby’\, ‘Do You Love Me?’ and the heart stopping ‘(I’ve Had) The Time Of My Life’\, and an incredible cast of dancers.
URL:https://norfolkevents.uk/event/dirty-dancing/2027-01-14/
LOCATION:Norwich Theatre Royal\, Theatre Street\, Norwich\, Norfolk\, NR2 1RL\, United Kingdom
CATEGORIES:Musicals,Theatre
ATTACH;FMTTYPE=image/png:https://norfolkevents.uk/wp-content/uploads/2025/10/Dirty-Dancing-1280x940-1.png
END:VEVENT
BEGIN:VEVENT
DTSTART;TZID=Europe/London:20270115T170000
DTEND;TZID=Europe/London:20270115T193000
DTSTAMP:20260420T000329
CREATED:20251031T204550Z
LAST-MODIFIED:20251128T210544Z
UID:10010282-1800032400-1800041400@norfolkevents.uk
SUMMARY:Dirty Dancing
DESCRIPTION:Dirty Dancing is heading to Norwich Theatre as part of a UK and Irish tour. Exploding with heart-pounding music\, breath-taking emotion and sensationally sexy dancing. \nSeen by millions across the globe this worldwide smash hit tells the classic story of Baby and Johnny\, two fiercely independent young spirits from different worlds\, who come together in what will be the most challenging and triumphant summer of their lives. \nSee the hit film come to life before your eyes with this fantastic\, emotional and triumphant live stage show. \nThe iconic story features the hit songs ‘Hungry Eyes’\, ‘Hey! Baby’\, ‘Do You Love Me?’ and the heart stopping ‘(I’ve Had) The Time Of My Life’\, and an incredible cast of dancers.
URL:https://norfolkevents.uk/event/dirty-dancing/2027-01-15/1/
LOCATION:Norwich Theatre Royal\, Theatre Street\, Norwich\, Norfolk\, NR2 1RL\, United Kingdom
CATEGORIES:Musicals,Theatre
ATTACH;FMTTYPE=image/png:https://norfolkevents.uk/wp-content/uploads/2025/10/Dirty-Dancing-1280x940-1.png
END:VEVENT
BEGIN:VEVENT
DTSTART;TZID=Europe/London:20270115T203000
DTEND;TZID=Europe/London:20270115T230000
DTSTAMP:20260420T000330
CREATED:20251031T204550Z
LAST-MODIFIED:20251128T210544Z
UID:10010283-1800045000-1800054000@norfolkevents.uk
SUMMARY:Dirty Dancing
DESCRIPTION:Dirty Dancing is heading to Norwich Theatre as part of a UK and Irish tour. Exploding with heart-pounding music\, breath-taking emotion and sensationally sexy dancing. \nSeen by millions across the globe this worldwide smash hit tells the classic story of Baby and Johnny\, two fiercely independent young spirits from different worlds\, who come together in what will be the most challenging and triumphant summer of their lives. \nSee the hit film come to life before your eyes with this fantastic\, emotional and triumphant live stage show. \nThe iconic story features the hit songs ‘Hungry Eyes’\, ‘Hey! Baby’\, ‘Do You Love Me?’ and the heart stopping ‘(I’ve Had) The Time Of My Life’\, and an incredible cast of dancers.
URL:https://norfolkevents.uk/event/dirty-dancing/2027-01-15/2/
LOCATION:Norwich Theatre Royal\, Theatre Street\, Norwich\, Norfolk\, NR2 1RL\, United Kingdom
CATEGORIES:Musicals,Theatre
ATTACH;FMTTYPE=image/png:https://norfolkevents.uk/wp-content/uploads/2025/10/Dirty-Dancing-1280x940-1.png
END:VEVENT
BEGIN:VEVENT
DTSTART;TZID=Europe/London:20270116T143000
DTEND;TZID=Europe/London:20270116T170000
DTSTAMP:20260420T000330
CREATED:20251031T204550Z
LAST-MODIFIED:20251128T210544Z
UID:10010284-1800109800-1800118800@norfolkevents.uk
SUMMARY:Dirty Dancing
DESCRIPTION:Dirty Dancing is heading to Norwich Theatre as part of a UK and Irish tour. Exploding with heart-pounding music\, breath-taking emotion and sensationally sexy dancing. \nSeen by millions across the globe this worldwide smash hit tells the classic story of Baby and Johnny\, two fiercely independent young spirits from different worlds\, who come together in what will be the most challenging and triumphant summer of their lives. \nSee the hit film come to life before your eyes with this fantastic\, emotional and triumphant live stage show. \nThe iconic story features the hit songs ‘Hungry Eyes’\, ‘Hey! Baby’\, ‘Do You Love Me?’ and the heart stopping ‘(I’ve Had) The Time Of My Life’\, and an incredible cast of dancers.
URL:https://norfolkevents.uk/event/dirty-dancing/2027-01-16/1/
LOCATION:Norwich Theatre Royal\, Theatre Street\, Norwich\, Norfolk\, NR2 1RL\, United Kingdom
CATEGORIES:Musicals,Theatre
ATTACH;FMTTYPE=image/png:https://norfolkevents.uk/wp-content/uploads/2025/10/Dirty-Dancing-1280x940-1.png
END:VEVENT
BEGIN:VEVENT
DTSTART;TZID=Europe/London:20270116T193000
DTEND;TZID=Europe/London:20270116T220000
DTSTAMP:20260420T000330
CREATED:20251031T204550Z
LAST-MODIFIED:20251128T210544Z
UID:10010285-1800127800-1800136800@norfolkevents.uk
SUMMARY:Dirty Dancing
DESCRIPTION:Dirty Dancing is heading to Norwich Theatre as part of a UK and Irish tour. Exploding with heart-pounding music\, breath-taking emotion and sensationally sexy dancing. \nSeen by millions across the globe this worldwide smash hit tells the classic story of Baby and Johnny\, two fiercely independent young spirits from different worlds\, who come together in what will be the most challenging and triumphant summer of their lives. \nSee the hit film come to life before your eyes with this fantastic\, emotional and triumphant live stage show. \nThe iconic story features the hit songs ‘Hungry Eyes’\, ‘Hey! Baby’\, ‘Do You Love Me?’ and the heart stopping ‘(I’ve Had) The Time Of My Life’\, and an incredible cast of dancers.
URL:https://norfolkevents.uk/event/dirty-dancing/2027-01-16/2/
LOCATION:Norwich Theatre Royal\, Theatre Street\, Norwich\, Norfolk\, NR2 1RL\, United Kingdom
CATEGORIES:Musicals,Theatre
ATTACH;FMTTYPE=image/png:https://norfolkevents.uk/wp-content/uploads/2025/10/Dirty-Dancing-1280x940-1.png
END:VEVENT
END:VCALENDAR