BEGIN:VCALENDAR
VERSION:2.0
PRODID:-//Norfolk Events - ECPv6.15.20//NONSGML v1.0//EN
CALSCALE:GREGORIAN
METHOD:PUBLISH
X-ORIGINAL-URL:https://norfolkevents.uk
X-WR-CALDESC:Events for Norfolk Events
REFRESH-INTERVAL;VALUE=DURATION:PT1H
X-Robots-Tag:noindex
X-PUBLISHED-TTL:PT1H
BEGIN:VTIMEZONE
TZID:Europe/London
BEGIN:DAYLIGHT
TZOFFSETFROM:+0000
TZOFFSETTO:+0100
TZNAME:BST
DTSTART:20250330T010000
END:DAYLIGHT
BEGIN:STANDARD
TZOFFSETFROM:+0100
TZOFFSETTO:+0000
TZNAME:GMT
DTSTART:20251026T010000
END:STANDARD
BEGIN:DAYLIGHT
TZOFFSETFROM:+0000
TZOFFSETTO:+0100
TZNAME:BST
DTSTART:20260329T010000
END:DAYLIGHT
BEGIN:STANDARD
TZOFFSETFROM:+0100
TZOFFSETTO:+0000
TZNAME:GMT
DTSTART:20261025T010000
END:STANDARD
BEGIN:DAYLIGHT
TZOFFSETFROM:+0000
TZOFFSETTO:+0100
TZNAME:BST
DTSTART:20270328T010000
END:DAYLIGHT
BEGIN:STANDARD
TZOFFSETFROM:+0100
TZOFFSETTO:+0000
TZNAME:GMT
DTSTART:20271031T010000
END:STANDARD
BEGIN:DAYLIGHT
TZOFFSETFROM:+0000
TZOFFSETTO:+0100
TZNAME:BST
DTSTART:20280326T010000
END:DAYLIGHT
BEGIN:STANDARD
TZOFFSETFROM:+0100
TZOFFSETTO:+0000
TZNAME:GMT
DTSTART:20281029T010000
END:STANDARD
END:VTIMEZONE
BEGIN:VEVENT
DTSTART;TZID=Europe/London:20260831T190000
DTEND;TZID=Europe/London:20270101T000000
DTSTAMP:20260424T150730
CREATED:20260213T222805Z
LAST-MODIFIED:20260213T222805Z
UID:10016185-1788202800-1798761600@norfolkevents.uk
SUMMARY:New Years Eve 2026/
DESCRIPTION:Ring in 2027 at The Pier Tavern – New Year’s Eve Party! \nGet ready to welcome 2027 in style at The Pier Tavern! After the incredible success of last year’s New Year’s Eve party with Hotdog Productions\, we’re excited to bring them back to make this year’s celebration even bigger and better. \nJoin us for a night of non-stop fun and nostalgia as we take you on a musical journey through the 80s and 90s\, with all your favourite classics guaranteed to get you on the dance floor. From iconic pop hits to timeless rock anthems\, Hotdog Productions will have you singing along all night. \nAnd that’s not all! Once the 80s vs 90s showdown winds down\, DJ Emmo will keep the party going into the early hours with a mix of hits to keep the energy high until the new year officially arrives. \nDetails:\nDate: New Year’s Eve 2026\nTime: Doors open 7PM\nLocation: The Pier Tavern\nTickets: £10 – grab yours early\, they’re going fast! \nWhether you’re looking to relive the classics\, dance the night away\, or simply enjoy a fantastic evening with friends\, this is the place to be as we count down to 2027. Don’t miss out on the party everyone will be talking about! \n✨ Come for the music\, stay for the memories – let’s make this New Year’s Eve unforgettable!\nTickets: £10.00
URL:https://norfolkevents.uk/event/new-years-eve-2026/
LOCATION:Britannia Pier Theatre\, Britannia Pier\, Great Yarmouth\, NR30 2EH
CATEGORIES:New Year's Eve,Theatre
ATTACH;FMTTYPE=image/jpeg:https://norfolkevents.uk/wp-content/uploads/2026/02/370.jpg
ORGANIZER;CN="Britannia Pier":MAILTO:info@britannia-pier.co.uk
END:VEVENT
BEGIN:VEVENT
DTSTART;TZID=Europe/London:20261023T193000
DTEND;TZID=Europe/London:20261023T213000
DTSTAMP:20260424T150730
CREATED:20251031T205415Z
LAST-MODIFIED:20251031T205415Z
UID:10010261-1792783800-1792791000@norfolkevents.uk
SUMMARY:Laura Smyth: Born Aggy
DESCRIPTION:What if all your dreams come true and you’ve still got the hump? Laura Smyth has had a meteoric rise in comedy! Her debut tour ‘Living My Best Life’ sold out up and down the country; she has supported Jack Whitehall\, Michelle de Swarte\, Alan Davies\, and Jason Manford and appeared on multiple panel shows\, QI\, Would I Lie To You\, 8 out of 10 Cats Does Countdown and Live at The Apollo TWICE! She’s even beaten cancer; she’s done all the alternative healing shit you could shake a stick at – and she still thinks everyone’s a d**khead. It can’t just be her\, can it? \nLike her last tour\, Laura will cover all of her everyday ever-changing life with truth\, warmth\, and hilarity. Maybe she needs more sleep or maybe she was just born aggy.
URL:https://norfolkevents.uk/event/laura-smyth-born-aggy/
LOCATION:Norwich Theatre Playhouse\, 42-58 St Georges Street\, Norwich\, Norfolk\, NR3 1AB\, United Kingdom
CATEGORIES:Comedy,Comedy and entertainment,Theatre
ATTACH;FMTTYPE=image/png:https://norfolkevents.uk/wp-content/uploads/2025/10/Laura-Smyth-NE.png
END:VEVENT
END:VCALENDAR