BEGIN:VCALENDAR
VERSION:2.0
PRODID:-//Norfolk Events - ECPv6.15.20//NONSGML v1.0//EN
CALSCALE:GREGORIAN
METHOD:PUBLISH
X-WR-CALNAME:Norfolk Events
X-ORIGINAL-URL:https://norfolkevents.uk
X-WR-CALDESC:Events for Norfolk Events
REFRESH-INTERVAL;VALUE=DURATION:PT1H
X-Robots-Tag:noindex
X-PUBLISHED-TTL:PT1H
BEGIN:VTIMEZONE
TZID:Europe/London
BEGIN:DAYLIGHT
TZOFFSETFROM:+0000
TZOFFSETTO:+0100
TZNAME:BST
DTSTART:20250330T010000
END:DAYLIGHT
BEGIN:STANDARD
TZOFFSETFROM:+0100
TZOFFSETTO:+0000
TZNAME:GMT
DTSTART:20251026T010000
END:STANDARD
BEGIN:DAYLIGHT
TZOFFSETFROM:+0000
TZOFFSETTO:+0100
TZNAME:BST
DTSTART:20260329T010000
END:DAYLIGHT
BEGIN:STANDARD
TZOFFSETFROM:+0100
TZOFFSETTO:+0000
TZNAME:GMT
DTSTART:20261025T010000
END:STANDARD
BEGIN:DAYLIGHT
TZOFFSETFROM:+0000
TZOFFSETTO:+0100
TZNAME:BST
DTSTART:20270328T010000
END:DAYLIGHT
BEGIN:STANDARD
TZOFFSETFROM:+0100
TZOFFSETTO:+0000
TZNAME:GMT
DTSTART:20271031T010000
END:STANDARD
BEGIN:DAYLIGHT
TZOFFSETFROM:+0000
TZOFFSETTO:+0100
TZNAME:BST
DTSTART:20280326T010000
END:DAYLIGHT
BEGIN:STANDARD
TZOFFSETFROM:+0100
TZOFFSETTO:+0000
TZNAME:GMT
DTSTART:20281029T010000
END:STANDARD
END:VTIMEZONE
BEGIN:VEVENT
DTSTART;TZID=Europe/London:20260831T190000
DTEND;TZID=Europe/London:20270101T000000
DTSTAMP:20260424T123905
CREATED:20260213T222805Z
LAST-MODIFIED:20260213T222805Z
UID:10016185-1788202800-1798761600@norfolkevents.uk
SUMMARY:New Years Eve 2026/
DESCRIPTION:Ring in 2027 at The Pier Tavern – New Year’s Eve Party! \nGet ready to welcome 2027 in style at The Pier Tavern! After the incredible success of last year’s New Year’s Eve party with Hotdog Productions\, we’re excited to bring them back to make this year’s celebration even bigger and better. \nJoin us for a night of non-stop fun and nostalgia as we take you on a musical journey through the 80s and 90s\, with all your favourite classics guaranteed to get you on the dance floor. From iconic pop hits to timeless rock anthems\, Hotdog Productions will have you singing along all night. \nAnd that’s not all! Once the 80s vs 90s showdown winds down\, DJ Emmo will keep the party going into the early hours with a mix of hits to keep the energy high until the new year officially arrives. \nDetails:\nDate: New Year’s Eve 2026\nTime: Doors open 7PM\nLocation: The Pier Tavern\nTickets: £10 – grab yours early\, they’re going fast! \nWhether you’re looking to relive the classics\, dance the night away\, or simply enjoy a fantastic evening with friends\, this is the place to be as we count down to 2027. Don’t miss out on the party everyone will be talking about! \n✨ Come for the music\, stay for the memories – let’s make this New Year’s Eve unforgettable!\nTickets: £10.00
URL:https://norfolkevents.uk/event/new-years-eve-2026/
LOCATION:Britannia Pier Theatre\, Britannia Pier\, Great Yarmouth\, NR30 2EH
CATEGORIES:New Year's Eve,Theatre
ATTACH;FMTTYPE=image/jpeg:https://norfolkevents.uk/wp-content/uploads/2026/02/370.jpg
ORGANIZER;CN="Britannia Pier":MAILTO:info@britannia-pier.co.uk
END:VEVENT
BEGIN:VEVENT
DTSTART;TZID=Europe/London:20260912T080000
DTEND;TZID=Europe/London:20260912T170000
DTSTAMP:20260424T123905
CREATED:20260213T220420Z
LAST-MODIFIED:20260213T220420Z
UID:10016172-1789200000-1789232400@norfolkevents.uk
SUMMARY:Think Floyd
DESCRIPTION:Sweeney Entertainments and LP Music present\nTHINK FLOYD\nThe 2026 Tour \nFeaturing complete performances of- The Dark Side of the Moon and Wish You Were Here \nThink Floyd’s exciting new 2026 production features The Dark Side of the Moon and Wish You Were Here—two of the most iconic and influential albums of all time. Both will be performed in their entirety\, alongside a rich selection of classic Pink Floyd tracks\, spanning from the Syd Barrett era to The Division Bell. \nMore than just a tribute act\, Think Floyd are known for their stunning musicianship\, authentic sound\, and meticulous attention to detail. Their performances capture the essence of Pink Floyd with passion and precision\, supported by an immersive laser light show that elevates the concert into a true audiovisual experience. \nEven Pink Floyd’s own Nick Mason has praised them\, calling Think Floyd “brilliant” and remarking in an LBC interview that they’re “better than we are.” With such acclaim and dedication to the craft\, Think Floyd’s 2026 tour promises a must-see experience for fans old and new.\nTickets: £33.50
URL:https://norfolkevents.uk/event/think-floyd/
LOCATION:Britannia Pier Theatre\, Britannia Pier\, Great Yarmouth\, NR30 2EH
CATEGORIES:Music,Theatre
ATTACH;FMTTYPE=image/jpeg:https://norfolkevents.uk/wp-content/uploads/2026/02/364.jpg
ORGANIZER;CN="Britannia Pier":MAILTO:info@britannia-pier.co.uk
END:VEVENT
BEGIN:VEVENT
DTSTART;TZID=Europe/London:20260912T193000
DTEND;TZID=Europe/London:20260912T220000
DTSTAMP:20260424T123905
CREATED:20260213T220420Z
LAST-MODIFIED:20260213T220420Z
UID:10016173-1789241400-1789250400@norfolkevents.uk
SUMMARY:Think Floyd
DESCRIPTION:Sweeney Entertainments and LP Music present\nTHINK FLOYD\nThe 2026 Tour \nFeaturing complete performances of- The Dark Side of the Moon and Wish You Were Here \nThink Floyd’s exciting new 2026 production features The Dark Side of the Moon and Wish You Were Here—two of the most iconic and influential albums of all time. Both will be performed in their entirety\, alongside a rich selection of classic Pink Floyd tracks\, spanning from the Syd Barrett era to The Division Bell. \nMore than just a tribute act\, Think Floyd are known for their stunning musicianship\, authentic sound\, and meticulous attention to detail. Their performances capture the essence of Pink Floyd with passion and precision\, supported by an immersive laser light show that elevates the concert into a true audiovisual experience. \nEven Pink Floyd’s own Nick Mason has praised them\, calling Think Floyd “brilliant” and remarking in an LBC interview that they’re “better than we are.” With such acclaim and dedication to the craft\, Think Floyd’s 2026 tour promises a must-see experience for fans old and new.\nTickets: £33.50
URL:https://norfolkevents.uk/event/think-floyd/
LOCATION:Britannia Pier Theatre\, Britannia Pier\, Great Yarmouth\, NR30 2EH
CATEGORIES:Music,Theatre
ATTACH;FMTTYPE=image/jpeg:https://norfolkevents.uk/wp-content/uploads/2026/02/364.jpg
ORGANIZER;CN="Britannia Pier":MAILTO:info@britannia-pier.co.uk
END:VEVENT
END:VCALENDAR