BEGIN:VCALENDAR
VERSION:2.0
PRODID:-//Norfolk Events - ECPv6.15.20//NONSGML v1.0//EN
CALSCALE:GREGORIAN
METHOD:PUBLISH
X-WR-CALNAME:Norfolk Events
X-ORIGINAL-URL:https://norfolkevents.uk
X-WR-CALDESC:Events for Norfolk Events
REFRESH-INTERVAL;VALUE=DURATION:PT1H
X-Robots-Tag:noindex
X-PUBLISHED-TTL:PT1H
BEGIN:VTIMEZONE
TZID:Europe/London
BEGIN:DAYLIGHT
TZOFFSETFROM:+0000
TZOFFSETTO:+0100
TZNAME:BST
DTSTART:20250330T010000
END:DAYLIGHT
BEGIN:STANDARD
TZOFFSETFROM:+0100
TZOFFSETTO:+0000
TZNAME:GMT
DTSTART:20251026T010000
END:STANDARD
BEGIN:DAYLIGHT
TZOFFSETFROM:+0000
TZOFFSETTO:+0100
TZNAME:BST
DTSTART:20260329T010000
END:DAYLIGHT
BEGIN:STANDARD
TZOFFSETFROM:+0100
TZOFFSETTO:+0000
TZNAME:GMT
DTSTART:20261025T010000
END:STANDARD
BEGIN:DAYLIGHT
TZOFFSETFROM:+0000
TZOFFSETTO:+0100
TZNAME:BST
DTSTART:20270328T010000
END:DAYLIGHT
BEGIN:STANDARD
TZOFFSETFROM:+0100
TZOFFSETTO:+0000
TZNAME:GMT
DTSTART:20271031T010000
END:STANDARD
END:VTIMEZONE
BEGIN:VEVENT
DTSTART;TZID=Europe/London:20260823T150000
DTEND;TZID=Europe/London:20260823T173000
DTSTAMP:20260424T112732
CREATED:20260213T215804Z
LAST-MODIFIED:20260213T215804Z
UID:10016166-1787497200-1787506200@norfolkevents.uk
SUMMARY:K Pop All Stars Tribute
DESCRIPTION:Ride the global K-POP wave with K-POP All Stars — the explosive live celebration of the music\, the artists\, and the culture taking over the world. \nFeel the power of stadium-sized anthems\, razor-sharp choreography\, and a cast that delivers every beat with precision and passion. \nFeaturing hits from Blackpink\, NewJeans\, Katseye\, BTS\, Itzy\, Stray Kids\, Twice\, Jung Kook\, and loads more\, the show lights up the stage with breathtaking visuals\, original choreography\, and non-stop energy from start to finish. \nWith light sticks glowing across the crowd and chart-topping tracks filling the room\, K-POP All Stars captures the excitement\, colour\, and emotion of the world’s biggest pop movement — all in one unforgettable show.\nTickets: £20.50 – £35.50
URL:https://norfolkevents.uk/event/k-pop-all-stars-tribute/
LOCATION:Britannia Pier Theatre\, Britannia Pier\, Great Yarmouth\, NR30 2EH
CATEGORIES:Children,Music,Theatre
ATTACH;FMTTYPE=image/jpeg:https://norfolkevents.uk/wp-content/uploads/2026/02/360.jpg
ORGANIZER;CN="Britannia Pier":MAILTO:info@britannia-pier.co.uk
END:VEVENT
END:VCALENDAR