BEGIN:VCALENDAR
VERSION:2.0
PRODID:-//Norfolk Events - ECPv6.15.20//NONSGML v1.0//EN
CALSCALE:GREGORIAN
METHOD:PUBLISH
X-WR-CALNAME:Norfolk Events
X-ORIGINAL-URL:https://norfolkevents.uk
X-WR-CALDESC:Events for Norfolk Events
REFRESH-INTERVAL;VALUE=DURATION:PT1H
X-Robots-Tag:noindex
X-PUBLISHED-TTL:PT1H
BEGIN:VTIMEZONE
TZID:Europe/London
BEGIN:DAYLIGHT
TZOFFSETFROM:+0000
TZOFFSETTO:+0100
TZNAME:BST
DTSTART:20250330T010000
END:DAYLIGHT
BEGIN:STANDARD
TZOFFSETFROM:+0100
TZOFFSETTO:+0000
TZNAME:GMT
DTSTART:20251026T010000
END:STANDARD
BEGIN:DAYLIGHT
TZOFFSETFROM:+0000
TZOFFSETTO:+0100
TZNAME:BST
DTSTART:20260329T010000
END:DAYLIGHT
BEGIN:STANDARD
TZOFFSETFROM:+0100
TZOFFSETTO:+0000
TZNAME:GMT
DTSTART:20261025T010000
END:STANDARD
BEGIN:DAYLIGHT
TZOFFSETFROM:+0000
TZOFFSETTO:+0100
TZNAME:BST
DTSTART:20270328T010000
END:DAYLIGHT
BEGIN:STANDARD
TZOFFSETFROM:+0100
TZOFFSETTO:+0000
TZNAME:GMT
DTSTART:20271031T010000
END:STANDARD
END:VTIMEZONE
BEGIN:VEVENT
DTSTART;TZID=Europe/London:20260821T193000
DTEND;TZID=Europe/London:20260821T220000
DTSTAMP:20260424T090158
CREATED:20260131T220107Z
LAST-MODIFIED:20260131T220107Z
UID:10013475-1787340600-1787349600@norfolkevents.uk
SUMMARY:Twelfth Night - Open Air Shakespeare
DESCRIPTION:The Pantaloons return for their 2nd visit of the Summer … “Some are born great\, some achieve greatness\, and some have greatness thrust upon them!” A show for all the family\, a brilliant evening of comedy theatre.
URL:https://norfolkevents.uk/event/twelfth-night-open-air-shakespeare/
LOCATION:Dalegate Market\, Main Road\, Burnham Deepdale\, PE31 8FB
CATEGORIES:Theatre
ATTACH;FMTTYPE=image/jpeg:https://norfolkevents.uk/wp-content/uploads/2026/01/twelth-night-open-air-shakespeare1.jpg
ORGANIZER;CN="Deepdale Music":MAILTO:stay@deepdalecamping.co.uk
END:VEVENT
END:VCALENDAR