BEGIN:VCALENDAR
VERSION:2.0
PRODID:-//Norfolk Events - ECPv6.15.20//NONSGML v1.0//EN
CALSCALE:GREGORIAN
METHOD:PUBLISH
X-WR-CALNAME:Norfolk Events
X-ORIGINAL-URL:https://norfolkevents.uk
X-WR-CALDESC:Events for Norfolk Events
REFRESH-INTERVAL;VALUE=DURATION:PT1H
X-Robots-Tag:noindex
X-PUBLISHED-TTL:PT1H
BEGIN:VTIMEZONE
TZID:Europe/London
BEGIN:DAYLIGHT
TZOFFSETFROM:+0000
TZOFFSETTO:+0100
TZNAME:BST
DTSTART:20250330T010000
END:DAYLIGHT
BEGIN:STANDARD
TZOFFSETFROM:+0100
TZOFFSETTO:+0000
TZNAME:GMT
DTSTART:20251026T010000
END:STANDARD
BEGIN:DAYLIGHT
TZOFFSETFROM:+0000
TZOFFSETTO:+0100
TZNAME:BST
DTSTART:20260329T010000
END:DAYLIGHT
BEGIN:STANDARD
TZOFFSETFROM:+0100
TZOFFSETTO:+0000
TZNAME:GMT
DTSTART:20261025T010000
END:STANDARD
BEGIN:DAYLIGHT
TZOFFSETFROM:+0000
TZOFFSETTO:+0100
TZNAME:BST
DTSTART:20270328T010000
END:DAYLIGHT
BEGIN:STANDARD
TZOFFSETFROM:+0100
TZOFFSETTO:+0000
TZNAME:GMT
DTSTART:20271031T010000
END:STANDARD
END:VTIMEZONE
BEGIN:VEVENT
DTSTART;TZID=Europe/London:20260809T193000
DTEND;TZID=Europe/London:20260809T220000
DTSTAMP:20260422T131946
CREATED:20260213T215334Z
LAST-MODIFIED:20260213T215334Z
UID:10016163-1786303800-1786312800@norfolkevents.uk
SUMMARY:Song Sung Blue- A Neil Diamond Tribute Show
DESCRIPTION:SONG SUNG BLUE \nJoin us at The Brittania Pier Theatre\, Great Yarmouth on Sunday 9th August for ‘Song Sung Blue’\, a tribute to the legendary career and timeless music of Neil Diamond and an evening which which marks 60 YEARS since Diamond’s first hit single! \nSong Sung Blue is a heartfelt celebration of the music of Neil Diamond packed with all the classics from his incredible career and marking a milestone anniversary – 60 years since Diamond’s first hit single! \nThe show honours the milestone anniversary of six decades of timeless music and with over 130 million records sold\, Song Sung Blue delivers hit after hit\, including Sweet Caroline\, Cracklin’ Rosie\, I’m a Believer\, I Am… I Said\, Forever in Blue Jeans\, Love On The Rocks\, You Don’t Bring Me Flowers\, Song Sung Blue\, Red Red Wine and many many more. \nAccompanied by an exceptional live band and backing singers\, Stephen has been performing professionally for over 20 years. His homage to Neil Diamond captures his vocal range\, guitar style and heartfelt stage presence that have made Diamond a global star. The show is a fast-paced journey through the decades\, jam-packed with classics from his solo work\, hits he penned for some of the world’s biggest names and lesser known songs. \n‘Song Sung Blue’ is described as “a love letter to the music of Neil Diamond”\, recreating the magic of his performances from the 1960s through to the 1980s. Whether you’re a lifelong fan or discovering his music for the first time\, this theatre show is sure to have you singing\, clapping and dancing all night long. \nBOOK EARLY to get the best seats for this special anniversary show !\nTickets: £28.50
URL:https://norfolkevents.uk/event/song-sung-blue-a-neil-diamond-tribute-show/
LOCATION:Britannia Pier Theatre\, Britannia Pier\, Great Yarmouth\, NR30 2EH
CATEGORIES:Music,Theatre
ATTACH;FMTTYPE=image/jpeg:https://norfolkevents.uk/wp-content/uploads/2026/02/362.jpg
ORGANIZER;CN="Britannia Pier":MAILTO:info@britannia-pier.co.uk
END:VEVENT
END:VCALENDAR