BEGIN:VCALENDAR
VERSION:2.0
PRODID:-//Norfolk Events - ECPv6.15.20//NONSGML v1.0//EN
CALSCALE:GREGORIAN
METHOD:PUBLISH
X-ORIGINAL-URL:https://norfolkevents.uk
X-WR-CALDESC:Events for Norfolk Events
REFRESH-INTERVAL;VALUE=DURATION:PT1H
X-Robots-Tag:noindex
X-PUBLISHED-TTL:PT1H
BEGIN:VTIMEZONE
TZID:Europe/London
BEGIN:DAYLIGHT
TZOFFSETFROM:+0000
TZOFFSETTO:+0100
TZNAME:BST
DTSTART:20250330T010000
END:DAYLIGHT
BEGIN:STANDARD
TZOFFSETFROM:+0100
TZOFFSETTO:+0000
TZNAME:GMT
DTSTART:20251026T010000
END:STANDARD
BEGIN:DAYLIGHT
TZOFFSETFROM:+0000
TZOFFSETTO:+0100
TZNAME:BST
DTSTART:20260329T010000
END:DAYLIGHT
BEGIN:STANDARD
TZOFFSETFROM:+0100
TZOFFSETTO:+0000
TZNAME:GMT
DTSTART:20261025T010000
END:STANDARD
BEGIN:DAYLIGHT
TZOFFSETFROM:+0000
TZOFFSETTO:+0100
TZNAME:BST
DTSTART:20270328T010000
END:DAYLIGHT
BEGIN:STANDARD
TZOFFSETFROM:+0100
TZOFFSETTO:+0000
TZNAME:GMT
DTSTART:20271031T010000
END:STANDARD
END:VTIMEZONE
BEGIN:VEVENT
DTSTART;TZID=Europe/London:20260801T193000
DTEND;TZID=Europe/London:20260801T220000
DTSTAMP:20260422T082326
CREATED:20260213T214955Z
LAST-MODIFIED:20260213T214955Z
UID:10016158-1785612600-1785621600@norfolkevents.uk
SUMMARY:Taylormania
DESCRIPTION:🎤 TAYLORMANIA ✨ Taylor Swift Eras Tribute Concert ✨ \nAn award-winning extravaganza paying tribute to one of the greatest contemporary recording artists of our time — Taylor Swift! 🎶💫 \nStarring Katy Ellis\, a self-confessed Swiftie 💖\, this phenomenal production — complete with an incredible live band 🎸 and energetic dancers 💃 — promises to deliver the most authentic recreation of a Taylor Swift concert you’ll ever experience! \n🌍 This show has already taken Swifties around the world by storm\, featuring all your favorite Taylor hits\, including:\n🎵 Shake It Off\n🎵 Blank Space\n🎵 Love Story\n🎵 You Belong With Me\n🎵 Look What You Made Me Do\n🎵 I Knew You Were Trouble\n…and many\, many more! \n🎟️ Don’t miss this unforgettable night of music\, memories\, and pure Swiftie magic! TAYLORMANIA is coming to a theatre near you! 💃✨🎉 \n🛑 Disclaimer:\nTAYLORMANIA is a fan-sponsored event and is not endorsed by or affiliated with TAS Rights Management\, Taylor Swift\, or their affiliated entities. The event organizers have indemnified all related parties against any claims related to injury\, death\, or harm that may occur to event attendees.\nTickets: £28.50
URL:https://norfolkevents.uk/event/taylormania/
LOCATION:Britannia Pier Theatre\, Britannia Pier\, Great Yarmouth\, NR30 2EH
CATEGORIES:Music,Theatre
ATTACH;FMTTYPE=image/jpeg:https://norfolkevents.uk/wp-content/uploads/2026/02/329.jpg
ORGANIZER;CN="Britannia Pier":MAILTO:info@britannia-pier.co.uk
END:VEVENT
END:VCALENDAR