BEGIN:VCALENDAR
VERSION:2.0
PRODID:-//Norfolk Events - ECPv6.15.20//NONSGML v1.0//EN
CALSCALE:GREGORIAN
METHOD:PUBLISH
X-WR-CALNAME:Norfolk Events
X-ORIGINAL-URL:https://norfolkevents.uk
X-WR-CALDESC:Events for Norfolk Events
REFRESH-INTERVAL;VALUE=DURATION:PT1H
X-Robots-Tag:noindex
X-PUBLISHED-TTL:PT1H
BEGIN:VTIMEZONE
TZID:Europe/London
BEGIN:DAYLIGHT
TZOFFSETFROM:+0000
TZOFFSETTO:+0100
TZNAME:BST
DTSTART:20250330T010000
END:DAYLIGHT
BEGIN:STANDARD
TZOFFSETFROM:+0100
TZOFFSETTO:+0000
TZNAME:GMT
DTSTART:20251026T010000
END:STANDARD
BEGIN:DAYLIGHT
TZOFFSETFROM:+0000
TZOFFSETTO:+0100
TZNAME:BST
DTSTART:20260329T010000
END:DAYLIGHT
BEGIN:STANDARD
TZOFFSETFROM:+0100
TZOFFSETTO:+0000
TZNAME:GMT
DTSTART:20261025T010000
END:STANDARD
BEGIN:DAYLIGHT
TZOFFSETFROM:+0000
TZOFFSETTO:+0100
TZNAME:BST
DTSTART:20270328T010000
END:DAYLIGHT
BEGIN:STANDARD
TZOFFSETFROM:+0100
TZOFFSETTO:+0000
TZNAME:GMT
DTSTART:20271031T010000
END:STANDARD
END:VTIMEZONE
BEGIN:VEVENT
DTSTART;TZID=Europe/London:20260726T193000
DTEND;TZID=Europe/London:20260726T220000
DTSTAMP:20260422T082743
CREATED:20260213T214728Z
LAST-MODIFIED:20260213T214728Z
UID:10016155-1785094200-1785103200@norfolkevents.uk
SUMMARY:Celebrating Barry The Ultimate Manilow Show
DESCRIPTION:The UK’s No.1 Barry Manilow tribute show celebrating the legendary singer-songwriter as portrayed during his amazing ‘LIVE IN CONCERT’ shows in LAS VEGAS. \nFeel the emotion\, feel the showmanship\, feel the wonder\, there’s no feeling greater than experiencing Manilow at his lifetime residency at Las Vegas. If you can’t make it to Las Vegas\, then this is your opportunity to experience the energy and excitement of this beloved entertainer in an unforgettable way. \nMulti-award-winning tribute artiste Wayne Denton brings a fabulous voice\, stage presence and charisma to the performance. Fans will also recognise the multiple legendary replica jackets which have become a staple of a Manilow show in recent years. \nBacked by the phenomenal City Rhythm live band and backing singers\, this show is a true spectacle\, brimming with musical flair and visual brilliance. \nJoin us for this non-stop extravaganza of classic hits including\, ‘Copacabana (at the Copa)\, ‘Could it Be Magic’\, ‘Mandy’\, ‘I Write the Songs’\, ‘Bermuda Triangle’ and many\, many more favourites! This will be an evening of music and passion not to be missed!\nTickets: £32.50
URL:https://norfolkevents.uk/event/celebrating-barry-the-ultimate-manilow-show/
LOCATION:Britannia Pier Theatre\, Britannia Pier\, Great Yarmouth\, NR30 2EH
CATEGORIES:Music,Theatre
ATTACH;FMTTYPE=image/jpeg:https://norfolkevents.uk/wp-content/uploads/2026/02/349.jpg
ORGANIZER;CN="Britannia Pier":MAILTO:info@britannia-pier.co.uk
END:VEVENT
END:VCALENDAR