BEGIN:VCALENDAR
VERSION:2.0
PRODID:-//Norfolk Events - ECPv6.15.20//NONSGML v1.0//EN
CALSCALE:GREGORIAN
METHOD:PUBLISH
X-ORIGINAL-URL:https://norfolkevents.uk
X-WR-CALDESC:Events for Norfolk Events
REFRESH-INTERVAL;VALUE=DURATION:PT1H
X-Robots-Tag:noindex
X-PUBLISHED-TTL:PT1H
BEGIN:VTIMEZONE
TZID:Europe/London
BEGIN:DAYLIGHT
TZOFFSETFROM:+0000
TZOFFSETTO:+0100
TZNAME:BST
DTSTART:20250330T010000
END:DAYLIGHT
BEGIN:STANDARD
TZOFFSETFROM:+0100
TZOFFSETTO:+0000
TZNAME:GMT
DTSTART:20251026T010000
END:STANDARD
BEGIN:DAYLIGHT
TZOFFSETFROM:+0000
TZOFFSETTO:+0100
TZNAME:BST
DTSTART:20260329T010000
END:DAYLIGHT
BEGIN:STANDARD
TZOFFSETFROM:+0100
TZOFFSETTO:+0000
TZNAME:GMT
DTSTART:20261025T010000
END:STANDARD
BEGIN:DAYLIGHT
TZOFFSETFROM:+0000
TZOFFSETTO:+0100
TZNAME:BST
DTSTART:20270328T010000
END:DAYLIGHT
BEGIN:STANDARD
TZOFFSETFROM:+0100
TZOFFSETTO:+0000
TZNAME:GMT
DTSTART:20271031T010000
END:STANDARD
END:VTIMEZONE
BEGIN:VEVENT
DTSTART;TZID=Europe/London:20260725T193000
DTEND;TZID=Europe/London:20260725T220000
DTSTAMP:20260422T093615
CREATED:20260213T214640Z
LAST-MODIFIED:20260213T214640Z
UID:10016154-1785007800-1785016800@norfolkevents.uk
SUMMARY:Seriously Collins-tribute To Phil Collins &genesis
DESCRIPTION:Seriously Collins – A Tribute to Phil Collins & Genesis\nExperience the Magic of Phil Collins and Genesis!\nSeriously Collins: The Genuine Tribute Show\nGet ready to be transported back in time as we celebrate the legendary hits of Phil Collins and Genesis! “Seriously Collins” isn’t just a tribute show; it’s an electrifying journey through the music that has touched hearts and defined generations.\nIncredible Vocals: Prepare to be mesmerized by our frontman’s uncanny vocal resemblance\, capturing the soulful essence of Phil Collins with astonishing precision.\nCaptivating Performance: Our talented musicians and performers recreate the energy\, charm\, and charisma of the original band\, delivering an unforgettable experience that will leave you wanting more.\nImmerse Yourself: Feel the nostalgia and passion as you relive the prime of Phil Collins and Genesis\, experiencing their iconic concerts and magical moments once again.\nBook Your Tickets Now: Don’t miss out on this incredible evening filled with music\, memories\, and the timeless legacy of Phil Collins and Genesis. Tickets are limited\, so secure your spot today! No Gimmicks\, Just a Genuine Tribute to One of the Biggest Artists of Our Generation.\nTickets: £31.50
URL:https://norfolkevents.uk/event/seriously-collins-tribute-to-phil-collins-genesis/
LOCATION:Britannia Pier Theatre\, Britannia Pier\, Great Yarmouth\, NR30 2EH
CATEGORIES:Music,Theatre
ATTACH;FMTTYPE=image/jpeg:https://norfolkevents.uk/wp-content/uploads/2026/02/325.jpg
ORGANIZER;CN="Britannia Pier":MAILTO:info@britannia-pier.co.uk
END:VEVENT
END:VCALENDAR