BEGIN:VCALENDAR
VERSION:2.0
PRODID:-//Norfolk Events - ECPv6.15.20//NONSGML v1.0//EN
CALSCALE:GREGORIAN
METHOD:PUBLISH
X-ORIGINAL-URL:https://norfolkevents.uk
X-WR-CALDESC:Events for Norfolk Events
REFRESH-INTERVAL;VALUE=DURATION:PT1H
X-Robots-Tag:noindex
X-PUBLISHED-TTL:PT1H
BEGIN:VTIMEZONE
TZID:Europe/London
BEGIN:DAYLIGHT
TZOFFSETFROM:+0000
TZOFFSETTO:+0100
TZNAME:BST
DTSTART:20250330T010000
END:DAYLIGHT
BEGIN:STANDARD
TZOFFSETFROM:+0100
TZOFFSETTO:+0000
TZNAME:GMT
DTSTART:20251026T010000
END:STANDARD
BEGIN:DAYLIGHT
TZOFFSETFROM:+0000
TZOFFSETTO:+0100
TZNAME:BST
DTSTART:20260329T010000
END:DAYLIGHT
BEGIN:STANDARD
TZOFFSETFROM:+0100
TZOFFSETTO:+0000
TZNAME:GMT
DTSTART:20261025T010000
END:STANDARD
BEGIN:DAYLIGHT
TZOFFSETFROM:+0000
TZOFFSETTO:+0100
TZNAME:BST
DTSTART:20270328T010000
END:DAYLIGHT
BEGIN:STANDARD
TZOFFSETFROM:+0100
TZOFFSETTO:+0000
TZNAME:GMT
DTSTART:20271031T010000
END:STANDARD
END:VTIMEZONE
BEGIN:VEVENT
DTSTART;TZID=Europe/London:20260620T143000
DTEND;TZID=Europe/London:20260620T170000
DTSTAMP:20260422T000320
CREATED:20251031T205621Z
LAST-MODIFIED:20251031T205621Z
UID:10010274-1781965800-1781974800@norfolkevents.uk
SUMMARY:The Spy Who Came In From The Cold
DESCRIPTION:For the first time ever\, a novel by John le Carré — the undisputed master of the modern spy genre whose works include Tinker\, Tailor\, Soldier\, Spy and The Night Manager — is brought to life in a thrilling stage adaptation. \nBased on the worldwide bestseller and named in TIME Magazine’s All-Time Greatest 100 Novels\, The Spy Who Came In From The Cold is a riveting journey through the fog-shrouded terrain of Cold War espionage\, deception\, and moral compromise. \nDisillusioned British intelligence officer Alec Leamas is ready to come in from the cold — until veteran agent George Smiley persuades him to take one final mission against the East German Secret Service. Deep undercover\, he finds his convictions tested and his defences breached by Liz Gold\, a quietly defiant librarian whose compassion threatens to thaw his frostbitten heart. \nFollowing a sold-out run at Chichester Festival Theatre and a hit West End premiere\, this gripping new play written by David Eldridge (Beginning\, Middle) and directed by Jeremy Herrin (A Mirror\, People\, Places & Things) comes to Norwich for 1 week only.
URL:https://norfolkevents.uk/event/the-spy-who-came-in-from-the-cold/2026-06-20/1/
LOCATION:Norwich Theatre Royal\, Theatre Street\, Norwich\, Norfolk\, NR2 1RL\, United Kingdom
CATEGORIES:Drama,Theatre
ATTACH;FMTTYPE=image/png:https://norfolkevents.uk/wp-content/uploads/2025/10/TSWCIFTC-1280x940-1.png
END:VEVENT
BEGIN:VEVENT
DTSTART;TZID=Europe/London:20260620T190000
DTEND;TZID=Europe/London:20260620T220000
DTSTAMP:20260422T000320
CREATED:20251031T205621Z
LAST-MODIFIED:20251031T205621Z
UID:10010275-1781982000-1781992800@norfolkevents.uk
SUMMARY:The Spy Who Came In From The Cold
DESCRIPTION:For the first time ever\, a novel by John le Carré — the undisputed master of the modern spy genre whose works include Tinker\, Tailor\, Soldier\, Spy and The Night Manager — is brought to life in a thrilling stage adaptation. \nBased on the worldwide bestseller and named in TIME Magazine’s All-Time Greatest 100 Novels\, The Spy Who Came In From The Cold is a riveting journey through the fog-shrouded terrain of Cold War espionage\, deception\, and moral compromise. \nDisillusioned British intelligence officer Alec Leamas is ready to come in from the cold — until veteran agent George Smiley persuades him to take one final mission against the East German Secret Service. Deep undercover\, he finds his convictions tested and his defences breached by Liz Gold\, a quietly defiant librarian whose compassion threatens to thaw his frostbitten heart. \nFollowing a sold-out run at Chichester Festival Theatre and a hit West End premiere\, this gripping new play written by David Eldridge (Beginning\, Middle) and directed by Jeremy Herrin (A Mirror\, People\, Places & Things) comes to Norwich for 1 week only.
URL:https://norfolkevents.uk/event/the-spy-who-came-in-from-the-cold/2026-06-20/2/
LOCATION:Norwich Theatre Royal\, Theatre Street\, Norwich\, Norfolk\, NR2 1RL\, United Kingdom
CATEGORIES:Drama,Theatre
ATTACH;FMTTYPE=image/png:https://norfolkevents.uk/wp-content/uploads/2025/10/TSWCIFTC-1280x940-1.png
END:VEVENT
BEGIN:VEVENT
DTSTART;TZID=Europe/London:20260620T193000
DTEND;TZID=Europe/London:20260620T220000
DTSTAMP:20260422T000320
CREATED:20260213T214305Z
LAST-MODIFIED:20260213T214305Z
UID:10016148-1781983800-1781992800@norfolkevents.uk
SUMMARY:Boyband In The Buff: Starring Gareth Gates
DESCRIPTION:Get ready to scream like it’s 1999! Boyband in the Buff is the ultimate throwback concert – starring pop heartthrob Gareth Gates and a cast of ripped and ridiculously talented performers. With nothing but harmonies\, dance moves\, and a whole lot of skin\, the boys belt out the biggest hits of the ‘90s and ‘00s—from Backstreet Boys to NSYNC\, Blue to Take That—in a show that’s as nostalgic as it is naughty. \nIt’s a celebration of pop\, passion\, and pecs\, where the clothes come off and the heat turns up. This is the ultimate night out for anyone who’s ever swooned over a boyband. \nWarning: Contains tight harmonies and tighter pants. (At least\, for the first few numbers.) Pre Show VIP Meet & Greet tickets to arrive at 6PM\nTickets: £35.00 – £65.00
URL:https://norfolkevents.uk/event/boyband-in-the-buff-starring-gareth-gates/
LOCATION:Britannia Pier Theatre\, Britannia Pier\, Great Yarmouth\, NR30 2EH
CATEGORIES:Music,Theatre
ATTACH;FMTTYPE=image/jpeg:https://norfolkevents.uk/wp-content/uploads/2026/02/352.jpg
ORGANIZER;CN="Britannia Pier":MAILTO:info@britannia-pier.co.uk
END:VEVENT
END:VCALENDAR