BEGIN:VCALENDAR
VERSION:2.0
PRODID:-//Norfolk Events - ECPv6.15.20//NONSGML v1.0//EN
CALSCALE:GREGORIAN
METHOD:PUBLISH
X-ORIGINAL-URL:https://norfolkevents.uk
X-WR-CALDESC:Events for Norfolk Events
REFRESH-INTERVAL;VALUE=DURATION:PT1H
X-Robots-Tag:noindex
X-PUBLISHED-TTL:PT1H
BEGIN:VTIMEZONE
TZID:Europe/London
BEGIN:DAYLIGHT
TZOFFSETFROM:+0000
TZOFFSETTO:+0100
TZNAME:BST
DTSTART:20250330T010000
END:DAYLIGHT
BEGIN:STANDARD
TZOFFSETFROM:+0100
TZOFFSETTO:+0000
TZNAME:GMT
DTSTART:20251026T010000
END:STANDARD
BEGIN:DAYLIGHT
TZOFFSETFROM:+0000
TZOFFSETTO:+0100
TZNAME:BST
DTSTART:20260329T010000
END:DAYLIGHT
BEGIN:STANDARD
TZOFFSETFROM:+0100
TZOFFSETTO:+0000
TZNAME:GMT
DTSTART:20261025T010000
END:STANDARD
BEGIN:DAYLIGHT
TZOFFSETFROM:+0000
TZOFFSETTO:+0100
TZNAME:BST
DTSTART:20270328T010000
END:DAYLIGHT
BEGIN:STANDARD
TZOFFSETFROM:+0100
TZOFFSETTO:+0000
TZNAME:GMT
DTSTART:20271031T010000
END:STANDARD
END:VTIMEZONE
BEGIN:VEVENT
DTSTART;TZID=Europe/London:20260616T183000
DTEND;TZID=Europe/London:20260616T193000
DTSTAMP:20260421T172248
CREATED:20260227T200329Z
LAST-MODIFIED:20260227T200329Z
UID:10016303-1781634600-1781638200@norfolkevents.uk
SUMMARY:Elizabeth Day - One Of Us
DESCRIPTION:We are delighted to welcome Elizabeth Day\, Sunday Times bestselling author and one of today’s most influential podcasters\, to Norwich Playhouse to discuss her suspenseful and compulsive new novel\, One of Us. \nA thrilling story of betrayal\, old bonds\, and buried scandals\, the novel follows a British establishment family coming face to face with the consequences of privilege and the true cost of power. Described by Stanley Tucci as ‘intelligent\, darkly humorous and brilliantly written\,’ One of Us is a razor-sharp dissection of class and power in contemporary society. \nElizabeth is the author of five novels and four works of non-fiction\, including the bestselling novel Magpie and the hit memoir How to Fail. She is also the creator and host of the chart-topping podcast How to Fail with Elizabeth Day. \nProgrammed by the National Centre for Writing.
URL:https://norfolkevents.uk/event/elizabeth-day-one-of-us/
LOCATION:Norwich Theatre Playhouse\, 42-58 St Georges Street\, Norwich\, Norfolk\, NR3 1AB\, United Kingdom
CATEGORIES:Talks,Theatre
ATTACH;FMTTYPE=image/png:https://norfolkevents.uk/wp-content/uploads/2026/02/Elizabeth-Day.png
END:VEVENT
BEGIN:VEVENT
DTSTART;TZID=Europe/London:20260616T193000
DTEND;TZID=Europe/London:20260616T220000
DTSTAMP:20260421T172248
CREATED:20251031T205621Z
LAST-MODIFIED:20251031T205621Z
UID:10010269-1781638200-1781647200@norfolkevents.uk
SUMMARY:The Spy Who Came In From The Cold
DESCRIPTION:For the first time ever\, a novel by John le Carré — the undisputed master of the modern spy genre whose works include Tinker\, Tailor\, Soldier\, Spy and The Night Manager — is brought to life in a thrilling stage adaptation. \nBased on the worldwide bestseller and named in TIME Magazine’s All-Time Greatest 100 Novels\, The Spy Who Came In From The Cold is a riveting journey through the fog-shrouded terrain of Cold War espionage\, deception\, and moral compromise. \nDisillusioned British intelligence officer Alec Leamas is ready to come in from the cold — until veteran agent George Smiley persuades him to take one final mission against the East German Secret Service. Deep undercover\, he finds his convictions tested and his defences breached by Liz Gold\, a quietly defiant librarian whose compassion threatens to thaw his frostbitten heart. \nFollowing a sold-out run at Chichester Festival Theatre and a hit West End premiere\, this gripping new play written by David Eldridge (Beginning\, Middle) and directed by Jeremy Herrin (A Mirror\, People\, Places & Things) comes to Norwich for 1 week only.
URL:https://norfolkevents.uk/event/the-spy-who-came-in-from-the-cold/2026-06-16/
LOCATION:Norwich Theatre Royal\, Theatre Street\, Norwich\, Norfolk\, NR2 1RL\, United Kingdom
CATEGORIES:Drama,Theatre
ATTACH;FMTTYPE=image/png:https://norfolkevents.uk/wp-content/uploads/2025/10/TSWCIFTC-1280x940-1.png
END:VEVENT
END:VCALENDAR