BEGIN:VCALENDAR
VERSION:2.0
PRODID:-//Norfolk Events - ECPv6.15.20//NONSGML v1.0//EN
CALSCALE:GREGORIAN
METHOD:PUBLISH
X-WR-CALNAME:Norfolk Events
X-ORIGINAL-URL:https://norfolkevents.uk
X-WR-CALDESC:Events for Norfolk Events
REFRESH-INTERVAL;VALUE=DURATION:PT1H
X-Robots-Tag:noindex
X-PUBLISHED-TTL:PT1H
BEGIN:VTIMEZONE
TZID:Europe/London
BEGIN:DAYLIGHT
TZOFFSETFROM:+0000
TZOFFSETTO:+0100
TZNAME:BST
DTSTART:20250330T010000
END:DAYLIGHT
BEGIN:STANDARD
TZOFFSETFROM:+0100
TZOFFSETTO:+0000
TZNAME:GMT
DTSTART:20251026T010000
END:STANDARD
BEGIN:DAYLIGHT
TZOFFSETFROM:+0000
TZOFFSETTO:+0100
TZNAME:BST
DTSTART:20260329T010000
END:DAYLIGHT
BEGIN:STANDARD
TZOFFSETFROM:+0100
TZOFFSETTO:+0000
TZNAME:GMT
DTSTART:20261025T010000
END:STANDARD
BEGIN:DAYLIGHT
TZOFFSETFROM:+0000
TZOFFSETTO:+0100
TZNAME:BST
DTSTART:20270328T010000
END:DAYLIGHT
BEGIN:STANDARD
TZOFFSETFROM:+0100
TZOFFSETTO:+0000
TZNAME:GMT
DTSTART:20271031T010000
END:STANDARD
END:VTIMEZONE
BEGIN:VEVENT
DTSTART;TZID=Europe/London:20260605T193000
DTEND;TZID=Europe/London:20260605T220000
DTSTAMP:20260421T131228
CREATED:20251031T205604Z
LAST-MODIFIED:20251031T205604Z
UID:10010267-1780687800-1780696800@norfolkevents.uk
SUMMARY:Les Ballets Trockadero de Monte Carlo
DESCRIPTION:Spring 2026 sees Dance Consortium presenting its seventh tour of the iconic all-male comedy ballet company Les Ballets Trockadero de Monte Carlo. Fresh from celebrating their 50th anniversary\, the Trocks continue to delight audiences worldwide with their unique brand of sassy classical ballet spoofs performed with choreographic rigour\, flawless technique and impeccable comic timing. \nThe Trocks’ enduring love of classical and romantic ballet has always been at the heart of what they do and their parodies of its conventions come from a place of deep knowledge and respect. For every show\, its elite dancers transform into two personas\, ballerina and danseur\, to perform some of the most iconic and challenging roles from the classical ballet canon. \nFounded in 1974 in the wake of the Stonewall Riots\, The Trocks started life as a late-night act on the makeshift New York stage of an early LGBTQ+ organisation. They have always been trailblazers and inclusivity\, gender fluidity and body positivity\, once subversive now part of the mainstream\, are a given for them. \nJoin us for the post-show Q&A on Friday 5 June with a BSL interpreter.
URL:https://norfolkevents.uk/event/les-ballets-trockadero-de-monte-carlo/2026-06-05/
LOCATION:Norwich Theatre Royal\, Theatre Street\, Norwich\, Norfolk\, NR2 1RL\, United Kingdom
CATEGORIES:Comedy and entertainment,Dance,Theatre
ATTACH;FMTTYPE=image/png:https://norfolkevents.uk/wp-content/uploads/2025/10/Trocks-1280x940-1.png
END:VEVENT
END:VCALENDAR