BEGIN:VCALENDAR
VERSION:2.0
PRODID:-//Norfolk Events - ECPv6.15.20//NONSGML v1.0//EN
CALSCALE:GREGORIAN
METHOD:PUBLISH
X-WR-CALNAME:Norfolk Events
X-ORIGINAL-URL:https://norfolkevents.uk
X-WR-CALDESC:Events for Norfolk Events
REFRESH-INTERVAL;VALUE=DURATION:PT1H
X-Robots-Tag:noindex
X-PUBLISHED-TTL:PT1H
BEGIN:VTIMEZONE
TZID:Europe/London
BEGIN:DAYLIGHT
TZOFFSETFROM:+0000
TZOFFSETTO:+0100
TZNAME:BST
DTSTART:20250330T010000
END:DAYLIGHT
BEGIN:STANDARD
TZOFFSETFROM:+0100
TZOFFSETTO:+0000
TZNAME:GMT
DTSTART:20251026T010000
END:STANDARD
BEGIN:DAYLIGHT
TZOFFSETFROM:+0000
TZOFFSETTO:+0100
TZNAME:BST
DTSTART:20260329T010000
END:DAYLIGHT
BEGIN:STANDARD
TZOFFSETFROM:+0100
TZOFFSETTO:+0000
TZNAME:GMT
DTSTART:20261025T010000
END:STANDARD
BEGIN:DAYLIGHT
TZOFFSETFROM:+0000
TZOFFSETTO:+0100
TZNAME:BST
DTSTART:20270328T010000
END:DAYLIGHT
BEGIN:STANDARD
TZOFFSETFROM:+0100
TZOFFSETTO:+0000
TZNAME:GMT
DTSTART:20271031T010000
END:STANDARD
END:VTIMEZONE
BEGIN:VEVENT
DTSTART;TZID=Europe/London:20260426T170000
DTEND;TZID=Europe/London:20260426T183000
DTSTAMP:20260421T092814
CREATED:20260327T113350Z
LAST-MODIFIED:20260327T113350Z
UID:10016776-1777222800-1777228200@norfolkevents.uk
SUMMARY:Triple Threat Stage School Elite Showcase
DESCRIPTION:Triple Threat Stage School’s Elite Team are thrilled to be returning to Stage Two at Norwich Theatre Royal this year. \nThis outstanding group of nineteen young local performers will light up the stage with their incredible musical theatre talent. Featuring showstopping numbers from & Juliet\, A Chorus Line\, Dear Evan Hansen and many more\, the team brings energy\, passion and professional-level performance to every moment. \nExpect powerful vocals\, dynamic choreography and heartfelt storytelling from a company of rising stars. Join them for an unforgettable afternoon of song\, dance and theatre. A showcase not to be missed.
URL:https://norfolkevents.uk/event/triple-threat-stage-school-elite-showcase/
LOCATION:Norwich Theatre Stage Two\, Chantry Road\, Norwich\, Norfolk\, NR2 1RL\, United Kingdom
CATEGORIES:Dance,Theatre
ATTACH;FMTTYPE=image/png:https://norfolkevents.uk/wp-content/uploads/2026/03/Untitled-design-2026-03-20T152827.248.png
END:VEVENT
END:VCALENDAR