BEGIN:VCALENDAR
VERSION:2.0
PRODID:-//Norfolk Events - ECPv6.15.20//NONSGML v1.0//EN
CALSCALE:GREGORIAN
METHOD:PUBLISH
X-WR-CALNAME:Norfolk Events
X-ORIGINAL-URL:https://norfolkevents.uk
X-WR-CALDESC:Events for Norfolk Events
REFRESH-INTERVAL;VALUE=DURATION:PT1H
X-Robots-Tag:noindex
X-PUBLISHED-TTL:PT1H
BEGIN:VTIMEZONE
TZID:Europe/London
BEGIN:DAYLIGHT
TZOFFSETFROM:+0000
TZOFFSETTO:+0100
TZNAME:BST
DTSTART:20250330T010000
END:DAYLIGHT
BEGIN:STANDARD
TZOFFSETFROM:+0100
TZOFFSETTO:+0000
TZNAME:GMT
DTSTART:20251026T010000
END:STANDARD
BEGIN:DAYLIGHT
TZOFFSETFROM:+0000
TZOFFSETTO:+0100
TZNAME:BST
DTSTART:20260329T010000
END:DAYLIGHT
BEGIN:STANDARD
TZOFFSETFROM:+0100
TZOFFSETTO:+0000
TZNAME:GMT
DTSTART:20261025T010000
END:STANDARD
BEGIN:DAYLIGHT
TZOFFSETFROM:+0000
TZOFFSETTO:+0100
TZNAME:BST
DTSTART:20270328T010000
END:DAYLIGHT
BEGIN:STANDARD
TZOFFSETFROM:+0100
TZOFFSETTO:+0000
TZNAME:GMT
DTSTART:20271031T010000
END:STANDARD
END:VTIMEZONE
BEGIN:VEVENT
DTSTART;TZID=Europe/London:20260404T193000
DTEND;TZID=Europe/London:20260404T220000
DTSTAMP:20260421T092751
CREATED:20251031T204104Z
LAST-MODIFIED:20251031T204104Z
UID:10010239-1775331000-1775340000@norfolkevents.uk
SUMMARY:Voice of My Own
DESCRIPTION:Voice Of My Own tells the inspiring true story of Daniel Jillings\, the Lowestoft D/deaf teenager who campaigned for the British Sign Language GCSE. From the Suffolk coast to the steps of Parliament\, Daniel’s remarkable story is one of courage\, resilience and the power of youth to create change. \nJoin Eastern Angles for this true local story packed full of playful humour\, dazzling visuals and thrilling original music and movement. \nThis brand-new play written by Eloise Pennycott is a universal story of self-discovery and finding your voice in a world full of noise\, originating in Suffolk and happening in the 30th anniversary year of the Disability Discrimination Act. \nBSL and Captions integrated into the show.
URL:https://norfolkevents.uk/event/voice-of-my-own/
LOCATION:Norwich Theatre Stage Two\, Chantry Road\, Norwich\, Norfolk\, NR2 1RL\, United Kingdom
CATEGORIES:Drama,Theatre
ATTACH;FMTTYPE=image/png:https://norfolkevents.uk/wp-content/uploads/2025/10/Voice-of-my-own-1280x940-1.png
END:VEVENT
BEGIN:VEVENT
DTSTART;TZID=Europe/London:20260404T193000
DTEND;TZID=Europe/London:20260404T220000
DTSTAMP:20260421T092751
CREATED:20251031T204124Z
LAST-MODIFIED:20251031T204124Z
UID:10010240-1775331000-1775340000@norfolkevents.uk
SUMMARY:Voice of My Own
DESCRIPTION:Voice Of My Own tells the inspiring true story of Daniel Jillings\, the Lowestoft D/deaf teenager who campaigned for the British Sign Language GCSE. From the Suffolk coast to the steps of Parliament\, Daniel’s remarkable story is one of courage\, resilience and the power of youth to create change. \nJoin Eastern Angles for this true local story packed full of playful humour\, dazzling visuals and thrilling original music and movement. \nThis brand-new play written by Eloise Pennycott is a universal story of self-discovery and finding your voice in a world full of noise\, originating in Suffolk and happening in the 30th anniversary year of the Disability Discrimination Act. \nBSL and Captions integrated into the show.
URL:https://norfolkevents.uk/event/voice-of-my-own-2/
LOCATION:Norwich Theatre Stage Two\, Chantry Road\, Norwich\, Norfolk\, NR2 1RL\, United Kingdom
CATEGORIES:Drama,Theatre
ATTACH;FMTTYPE=image/png:https://norfolkevents.uk/wp-content/uploads/2025/10/Voice-of-my-own-1280x940-2.png
END:VEVENT
BEGIN:VEVENT
DTSTART;TZID=Europe/London:20260404T193000
DTEND;TZID=Europe/London:20260404T220000
DTSTAMP:20260421T092751
CREATED:20251031T204449Z
LAST-MODIFIED:20251031T204449Z
UID:10010251-1775331000-1775340000@norfolkevents.uk
SUMMARY:Knightmare Live
DESCRIPTION:“Enter\, stranger!” After a sell out show last year\, the smash hit comedy show of the cult 90s TV classic is back! With devilish new puzzles and terrifying new monsters\, dare you face the perils of the dungeon? \nSidestep left into adventure as dungeon master Treguard opens the doors once more for the award-winning\, live action\, fantasy gameshow where you might finally get the chance to wear the iconic Helmet of Justice and take on Lord Fear’s army of goblins\, talking walls and tricky word puzzles. \nA family friendly\, hilarious and full hearted homage to the iconic TV show; starring Tom Bell (The Mash Report)\, Paul Flannery (director of Phantom Peak) and a host of brilliant guest comedians\, join us for a special performance back in the true home of Knightmare\, Norwich!
URL:https://norfolkevents.uk/event/knightmare-live/
LOCATION:Norwich Theatre Playhouse\, 42-58 St Georges Street\, Norwich\, Norfolk\, NR3 1AB\, United Kingdom
CATEGORIES:Entertainment,Theatre
ATTACH;FMTTYPE=image/png:https://norfolkevents.uk/wp-content/uploads/2025/10/Knighmare-Live-1280-x-940.png
END:VEVENT
END:VCALENDAR