BEGIN:VCALENDAR
VERSION:2.0
PRODID:-//Norfolk Events - ECPv6.15.20//NONSGML v1.0//EN
CALSCALE:GREGORIAN
METHOD:PUBLISH
X-WR-CALNAME:Norfolk Events
X-ORIGINAL-URL:https://norfolkevents.uk
X-WR-CALDESC:Events for Norfolk Events
REFRESH-INTERVAL;VALUE=DURATION:PT1H
X-Robots-Tag:noindex
X-PUBLISHED-TTL:PT1H
BEGIN:VTIMEZONE
TZID:Europe/London
BEGIN:DAYLIGHT
TZOFFSETFROM:+0000
TZOFFSETTO:+0100
TZNAME:BST
DTSTART:20250330T010000
END:DAYLIGHT
BEGIN:STANDARD
TZOFFSETFROM:+0100
TZOFFSETTO:+0000
TZNAME:GMT
DTSTART:20251026T010000
END:STANDARD
BEGIN:DAYLIGHT
TZOFFSETFROM:+0000
TZOFFSETTO:+0100
TZNAME:BST
DTSTART:20260329T010000
END:DAYLIGHT
BEGIN:STANDARD
TZOFFSETFROM:+0100
TZOFFSETTO:+0000
TZNAME:GMT
DTSTART:20261025T010000
END:STANDARD
BEGIN:DAYLIGHT
TZOFFSETFROM:+0000
TZOFFSETTO:+0100
TZNAME:BST
DTSTART:20270328T010000
END:DAYLIGHT
BEGIN:STANDARD
TZOFFSETFROM:+0100
TZOFFSETTO:+0000
TZNAME:GMT
DTSTART:20271031T010000
END:STANDARD
END:VTIMEZONE
BEGIN:VEVENT
DTSTART;TZID=Europe/London:20260330T143000
DTEND;TZID=Europe/London:20260330T170000
DTSTAMP:20260421T092809
CREATED:20251031T204407Z
LAST-MODIFIED:20251031T204407Z
UID:10010248-1774881000-1774890000@norfolkevents.uk
SUMMARY:Spotlights & Silver Screens: Musicals Through the Decades
DESCRIPTION:Celebrating the musicals that defined generations\, from the 1930s to the 1990s\, Echo Youth Theatre brings you a concert of show-stopping hits from 60 years of stage and screen musicals. Featuring the songs you love and the stories you’ll never forget\, performed by some of Norfolk’s finest young singers and a 15-piece orchestra\, this concert will be a dazzling journey through the decades\, celebrating the musicals that defined generations. Suitable for the whole family. Decades of musicals. One unforgettable night.
URL:https://norfolkevents.uk/event/spotlights-silver-screens-musicals-through-the-decades/2026-03-30/1/
LOCATION:Norwich Theatre Playhouse\, 42-58 St Georges Street\, Norwich\, Norfolk\, NR3 1AB\, United Kingdom
CATEGORIES:Theatre
ATTACH;FMTTYPE=image/png:https://norfolkevents.uk/wp-content/uploads/2025/10/SSS-1280x940-1.png
END:VEVENT
BEGIN:VEVENT
DTSTART;TZID=Europe/London:20260330T193000
DTEND;TZID=Europe/London:20260330T220000
DTSTAMP:20260421T092809
CREATED:20251031T204407Z
LAST-MODIFIED:20251031T204407Z
UID:10010249-1774899000-1774908000@norfolkevents.uk
SUMMARY:Spotlights & Silver Screens: Musicals Through the Decades
DESCRIPTION:Celebrating the musicals that defined generations\, from the 1930s to the 1990s\, Echo Youth Theatre brings you a concert of show-stopping hits from 60 years of stage and screen musicals. Featuring the songs you love and the stories you’ll never forget\, performed by some of Norfolk’s finest young singers and a 15-piece orchestra\, this concert will be a dazzling journey through the decades\, celebrating the musicals that defined generations. Suitable for the whole family. Decades of musicals. One unforgettable night.
URL:https://norfolkevents.uk/event/spotlights-silver-screens-musicals-through-the-decades/2026-03-30/2/
LOCATION:Norwich Theatre Playhouse\, 42-58 St Georges Street\, Norwich\, Norfolk\, NR3 1AB\, United Kingdom
CATEGORIES:Theatre
ATTACH;FMTTYPE=image/png:https://norfolkevents.uk/wp-content/uploads/2025/10/SSS-1280x940-1.png
END:VEVENT
END:VCALENDAR