BEGIN:VCALENDAR
VERSION:2.0
PRODID:-//Norfolk Events - ECPv6.15.20//NONSGML v1.0//EN
CALSCALE:GREGORIAN
METHOD:PUBLISH
X-ORIGINAL-URL:https://norfolkevents.uk
X-WR-CALDESC:Events for Norfolk Events
REFRESH-INTERVAL;VALUE=DURATION:PT1H
X-Robots-Tag:noindex
X-PUBLISHED-TTL:PT1H
BEGIN:VTIMEZONE
TZID:Europe/London
BEGIN:DAYLIGHT
TZOFFSETFROM:+0000
TZOFFSETTO:+0100
TZNAME:BST
DTSTART:20250330T010000
END:DAYLIGHT
BEGIN:STANDARD
TZOFFSETFROM:+0100
TZOFFSETTO:+0000
TZNAME:GMT
DTSTART:20251026T010000
END:STANDARD
BEGIN:DAYLIGHT
TZOFFSETFROM:+0000
TZOFFSETTO:+0100
TZNAME:BST
DTSTART:20260329T010000
END:DAYLIGHT
BEGIN:STANDARD
TZOFFSETFROM:+0100
TZOFFSETTO:+0000
TZNAME:GMT
DTSTART:20261025T010000
END:STANDARD
BEGIN:DAYLIGHT
TZOFFSETFROM:+0000
TZOFFSETTO:+0100
TZNAME:BST
DTSTART:20270328T010000
END:DAYLIGHT
BEGIN:STANDARD
TZOFFSETFROM:+0100
TZOFFSETTO:+0000
TZNAME:GMT
DTSTART:20271031T010000
END:STANDARD
END:VTIMEZONE
BEGIN:VEVENT
DTSTART;TZID=Europe/London:20260321T193000
DTEND;TZID=Europe/London:20260321T203000
DTSTAMP:20260421T211201
CREATED:20251031T204031Z
LAST-MODIFIED:20251031T204031Z
UID:10010238-1774121400-1774125000@norfolkevents.uk
SUMMARY:Lovett
DESCRIPTION:Newly-widowed Mrs Lovett needs to find a way to survive. Using skills learned from a whaler father\, a courtesan mother and a butcher husband\, Eleanor “recalibrates” her life – and her relationship with God. \nAn origin story set before her infamous partnership with Sweeney Todd\, we discover what would later lead her to turn pie-maker. \nYou may think you already know Mrs. Lovett\, but this new play explores what made her: the brutal choices and disappointments of a life in poverty. When the difference is life or death\, morality becomes a moveable feast – and Eleanor is getting hungry…
URL:https://norfolkevents.uk/event/lovett/
LOCATION:Norwich Theatre Stage Two\, Chantry Road\, Norwich\, Norfolk\, NR2 1RL\, United Kingdom
CATEGORIES:Drama,Theatre
ATTACH;FMTTYPE=image/png:https://norfolkevents.uk/wp-content/uploads/2025/10/Lovett-1280x940-1.png
END:VEVENT
END:VCALENDAR