BEGIN:VCALENDAR
VERSION:2.0
PRODID:-//Norfolk Events - ECPv6.15.20//NONSGML v1.0//EN
CALSCALE:GREGORIAN
METHOD:PUBLISH
X-WR-CALNAME:Norfolk Events
X-ORIGINAL-URL:https://norfolkevents.uk
X-WR-CALDESC:Events for Norfolk Events
REFRESH-INTERVAL;VALUE=DURATION:PT1H
X-Robots-Tag:noindex
X-PUBLISHED-TTL:PT1H
BEGIN:VTIMEZONE
TZID:Europe/London
BEGIN:DAYLIGHT
TZOFFSETFROM:+0000
TZOFFSETTO:+0100
TZNAME:BST
DTSTART:20250330T010000
END:DAYLIGHT
BEGIN:STANDARD
TZOFFSETFROM:+0100
TZOFFSETTO:+0000
TZNAME:GMT
DTSTART:20251026T010000
END:STANDARD
BEGIN:DAYLIGHT
TZOFFSETFROM:+0000
TZOFFSETTO:+0100
TZNAME:BST
DTSTART:20260329T010000
END:DAYLIGHT
BEGIN:STANDARD
TZOFFSETFROM:+0100
TZOFFSETTO:+0000
TZNAME:GMT
DTSTART:20261025T010000
END:STANDARD
BEGIN:DAYLIGHT
TZOFFSETFROM:+0000
TZOFFSETTO:+0100
TZNAME:BST
DTSTART:20270328T010000
END:DAYLIGHT
BEGIN:STANDARD
TZOFFSETFROM:+0100
TZOFFSETTO:+0000
TZNAME:GMT
DTSTART:20271031T010000
END:STANDARD
END:VTIMEZONE
BEGIN:VEVENT
DTSTART;TZID=Europe/London:20260315T193000
DTEND;TZID=Europe/London:20260315T203000
DTSTAMP:20260422T050115
CREATED:20251031T203934Z
LAST-MODIFIED:20251031T203934Z
UID:10010236-1773603000-1773606600@norfolkevents.uk
SUMMARY:Alison Spittle
DESCRIPTION:Following an award winning sold-out run at the Edinburgh Fringe\, Alison Spittle is touring “her finest show to date” (The Scotsman). \nA man told Alison to sit down and now she’s doing a whole stand up show about it. After an encounter on a train with a man triggers a series of events that change Alison’s life\, she ponders if it’s easier to change herself than the world around her. This is a big show about making yourself smaller. \nWinner of the Comedian’s Choice Award for Best Show at Edinburgh Fringe 2025. \nWinner of the Best Performer Award at Dublin Fringe 2025. \nOne of British Comedy Guide’s Best Reviewed Shows of Edinburgh Fringe 2025. \nAlison has made appearances on House of Games\, Celebrity Goggle Box and Pointless Celebrities\, and on the popular podcasts Off Menu\, The Gargle and Trusty Hogs. She is the co-host of the new podcast Magazine Party\, and has also co-hosted Wheel of Misfortune and Guilty Feminist. You may have also seen Alison as the support act for Fern Brady\, Rob Delaney and Maria Bamford on tour.
URL:https://norfolkevents.uk/event/alison-spittle/
LOCATION:Norwich Theatre Stage Two\, Chantry Road\, Norwich\, Norfolk\, NR2 1RL\, United Kingdom
CATEGORIES:Comedy and entertainment,Theatre
ATTACH;FMTTYPE=image/png:https://norfolkevents.uk/wp-content/uploads/2025/10/Alison-Spittle-1280x940-1.png
END:VEVENT
END:VCALENDAR