BEGIN:VCALENDAR
VERSION:2.0
PRODID:-//Norfolk Events - ECPv6.15.20//NONSGML v1.0//EN
CALSCALE:GREGORIAN
METHOD:PUBLISH
X-WR-CALNAME:Norfolk Events
X-ORIGINAL-URL:https://norfolkevents.uk
X-WR-CALDESC:Events for Norfolk Events
REFRESH-INTERVAL;VALUE=DURATION:PT1H
X-Robots-Tag:noindex
X-PUBLISHED-TTL:PT1H
BEGIN:VTIMEZONE
TZID:Europe/London
BEGIN:DAYLIGHT
TZOFFSETFROM:+0000
TZOFFSETTO:+0100
TZNAME:BST
DTSTART:20250330T010000
END:DAYLIGHT
BEGIN:STANDARD
TZOFFSETFROM:+0100
TZOFFSETTO:+0000
TZNAME:GMT
DTSTART:20251026T010000
END:STANDARD
BEGIN:DAYLIGHT
TZOFFSETFROM:+0000
TZOFFSETTO:+0100
TZNAME:BST
DTSTART:20260329T010000
END:DAYLIGHT
BEGIN:STANDARD
TZOFFSETFROM:+0100
TZOFFSETTO:+0000
TZNAME:GMT
DTSTART:20261025T010000
END:STANDARD
BEGIN:DAYLIGHT
TZOFFSETFROM:+0000
TZOFFSETTO:+0100
TZNAME:BST
DTSTART:20270328T010000
END:DAYLIGHT
BEGIN:STANDARD
TZOFFSETFROM:+0100
TZOFFSETTO:+0000
TZNAME:GMT
DTSTART:20271031T010000
END:STANDARD
BEGIN:DAYLIGHT
TZOFFSETFROM:+0000
TZOFFSETTO:+0100
TZNAME:BST
DTSTART:20280326T010000
END:DAYLIGHT
BEGIN:STANDARD
TZOFFSETFROM:+0100
TZOFFSETTO:+0000
TZNAME:GMT
DTSTART:20281029T010000
END:STANDARD
END:VTIMEZONE
BEGIN:VEVENT
DTSTART;TZID=Europe/London:20260801T193000
DTEND;TZID=Europe/London:20260801T220000
DTSTAMP:20260424T100851
CREATED:20260213T214955Z
LAST-MODIFIED:20260213T214955Z
UID:10016158-1785612600-1785621600@norfolkevents.uk
SUMMARY:Taylormania
DESCRIPTION:🎤 TAYLORMANIA ✨ Taylor Swift Eras Tribute Concert ✨ \nAn award-winning extravaganza paying tribute to one of the greatest contemporary recording artists of our time — Taylor Swift! 🎶💫 \nStarring Katy Ellis\, a self-confessed Swiftie 💖\, this phenomenal production — complete with an incredible live band 🎸 and energetic dancers 💃 — promises to deliver the most authentic recreation of a Taylor Swift concert you’ll ever experience! \n🌍 This show has already taken Swifties around the world by storm\, featuring all your favorite Taylor hits\, including:\n🎵 Shake It Off\n🎵 Blank Space\n🎵 Love Story\n🎵 You Belong With Me\n🎵 Look What You Made Me Do\n🎵 I Knew You Were Trouble\n…and many\, many more! \n🎟️ Don’t miss this unforgettable night of music\, memories\, and pure Swiftie magic! TAYLORMANIA is coming to a theatre near you! 💃✨🎉 \n🛑 Disclaimer:\nTAYLORMANIA is a fan-sponsored event and is not endorsed by or affiliated with TAS Rights Management\, Taylor Swift\, or their affiliated entities. The event organizers have indemnified all related parties against any claims related to injury\, death\, or harm that may occur to event attendees.\nTickets: £28.50
URL:https://norfolkevents.uk/event/taylormania/
LOCATION:Britannia Pier Theatre\, Britannia Pier\, Great Yarmouth\, NR30 2EH
CATEGORIES:Music,Theatre
ATTACH;FMTTYPE=image/jpeg:https://norfolkevents.uk/wp-content/uploads/2026/02/329.jpg
ORGANIZER;CN="Britannia Pier":MAILTO:info@britannia-pier.co.uk
END:VEVENT
BEGIN:VEVENT
DTSTART;TZID=Europe/London:20260802T140000
DTEND;TZID=Europe/London:20260802T163000
DTSTAMP:20260424T100851
CREATED:20260213T215035Z
LAST-MODIFIED:20260213T215035Z
UID:10016159-1785679200-1785688200@norfolkevents.uk
SUMMARY:Tiny Tim's Family Adventure
DESCRIPTION:8 years ago Tiny Tim decided to go on his own adventure navigating through adult life and posting about his calls on social media. With over 250 million views on YouTube and over 10 million followers on all social media platforms\, I’m sure at some point you have all seen the hilarious videos of the legend that is Tiny Tim’s Adventures. Now it’s your turn to join the man behind the voice on his BIGGEST adventure to date. Come along for an afternoon with Tiny Tim LIVE. ON STAGE. IN PERSON. \nMeet and greet starts at 1PM for a maximum of 30 guests. \nFamily ticket of 4 available- add 2 children seats and 2 adults seats then use code ‘FAMILY’ to save £6 on your booking!\nTickets: £18.00 – £20.00
URL:https://norfolkevents.uk/event/tiny-tims-family-adventure/
LOCATION:Britannia Pier Theatre\, Britannia Pier\, Great Yarmouth\, NR30 2EH
CATEGORIES:Comedy,Family,Theatre
ATTACH;FMTTYPE=image/jpeg:https://norfolkevents.uk/wp-content/uploads/2026/02/354.jpg
ORGANIZER;CN="Britannia Pier":MAILTO:info@britannia-pier.co.uk
END:VEVENT
BEGIN:VEVENT
DTSTART;TZID=Europe/London:20260802T200000
DTEND;TZID=Europe/London:20260802T230000
DTSTAMP:20260424T100851
CREATED:20260213T223014Z
LAST-MODIFIED:20260213T223014Z
UID:10016160-1785700800-1785711600@norfolkevents.uk
SUMMARY:Tiny Tim's Stand-up Adventure
DESCRIPTION:8 years ago Tiny Tim decided to go on his own adventure navigating through adult life and posting about his calls on social media. With over 250 million views on YouTube and over 10 million followers on all social media platforms\, I’m sure at some point you have all seen the hilarious videos of the legend that is Tiny Tim’s Adventures. \nNow it’s your turn to join the man behind the voice on his BIGGEST adventure to date. Come along for a night with Tiny Tim LIVE. ON STAGE. IN PERSON. \nNote: There will be moderate swearing\, adult material and sexual references throughout the performance. Suitable for 16 plus years. Meet and greet option starts at 630PM for a maximum of 30 people\,\nTickets: £25.00
URL:https://norfolkevents.uk/event/tiny-tims-stand-up-adventure/
LOCATION:Britannia Pier Theatre\, Britannia Pier\, Great Yarmouth\, NR30 2EH
CATEGORIES:Comedy,Theatre
ATTACH;FMTTYPE=image/jpeg:https://norfolkevents.uk/wp-content/uploads/2026/02/355.jpg
ORGANIZER;CN="Britannia Pier":MAILTO:info@britannia-pier.co.uk
END:VEVENT
BEGIN:VEVENT
DTSTART;TZID=Europe/London:20260807T193000
DTEND;TZID=Europe/London:20260807T220000
DTSTAMP:20260424T100851
CREATED:20260213T215225Z
LAST-MODIFIED:20260213T215225Z
UID:10016161-1786131000-1786140000@norfolkevents.uk
SUMMARY:Showaddywaddy
DESCRIPTION:‘The Greatest Rock & Roll Band In The World’ is a bold statement but Showaddywaddy has lived up to that title for the last 5 decades! \nFormed in the 1970s in Leicester from several local bands\, they have sold more than 20 million records and have toured all corners of the World extensively. \nTheir live show is dynamic and uplifting featuring all of their biggest hits\, many of which reached number one in the pop charts of Europe. ‘Under The Moon of Love’\, ‘Three Steps to Heaven’\, ‘Hey Rock & Roll’\, ‘When’\, ‘Blue Moon’\, ‘Pretty Little Angel Eyes’ and many\, many more. \nSo come and join the ‘Dancin’ Party’… ‘You’ve Got What It Takes’!\nTickets: £31.50
URL:https://norfolkevents.uk/event/showaddywaddy/
LOCATION:Britannia Pier Theatre\, Britannia Pier\, Great Yarmouth\, NR30 2EH
CATEGORIES:Music,Theatre
ATTACH;FMTTYPE=image/jpeg:https://norfolkevents.uk/wp-content/uploads/2026/02/345.jpg
ORGANIZER;CN="Britannia Pier":MAILTO:info@britannia-pier.co.uk
END:VEVENT
BEGIN:VEVENT
DTSTART;TZID=Europe/London:20260808T193000
DTEND;TZID=Europe/London:20260808T220000
DTSTAMP:20260424T100851
CREATED:20260213T215257Z
LAST-MODIFIED:20260213T215257Z
UID:10016162-1786217400-1786226400@norfolkevents.uk
SUMMARY:Like Combs UK The Ultimate Luke Combs Tribute
DESCRIPTION:Like Combs UK – The Ultimate Luke Combs Tribute \nSaddle up and get ready for a boot-stompin’ good time with Like Combs UK\, the country music sensation that tips its cowboy hat to the chart-topping hits of Luke Combs! With a full live band that’ll have you hollerin’ “yee-haw\,” this tribute act delivers all the heart\, soul\, and Southern charm of a genuine Luke Combs show. \nFrom the rowdy honky-tonk vibes of “Beer Never Broke My Heart” to the heartfelt ballads like “Beautiful Crazy”\, and crowd-pleasers such as “Hurricane” and “When It Rains It Pours”\, Like Combs UK takes you on a journey straight to Nashville. Whether you’re a country diehard or just a fan of great music\, you’ll be two-stepping all night long! \nThis is more than a tribute—it’s a full-throttle celebration of one of country music’s brightest stars. So dust off your cowboy boots\, grab your lip friends\, and let Like Combs UK take you on a wild ride through Luke Combs’ greatest hits. Don’t miss this electrifying live experience—it’s the closest thing to seeing the man himself! \nAll tickets include free early entry into Long John’s for country music DJ after-party. VIP meet and greet tickets arrive 6PM and get photo opportunity with the act and a discount of 20% on all merch purchases which can also be signed by the band\nTickets: £27.50 – £32.50
URL:https://norfolkevents.uk/event/like-combs-uk-the-ultimate-luke-combs-tribute/
LOCATION:Britannia Pier Theatre\, Britannia Pier\, Great Yarmouth\, NR30 2EH
CATEGORIES:Music,Theatre
ATTACH;FMTTYPE=image/jpeg:https://norfolkevents.uk/wp-content/uploads/2026/02/365.jpg
ORGANIZER;CN="Britannia Pier":MAILTO:info@britannia-pier.co.uk
END:VEVENT
BEGIN:VEVENT
DTSTART;TZID=Europe/London:20260809T193000
DTEND;TZID=Europe/London:20260809T220000
DTSTAMP:20260424T100851
CREATED:20260213T215334Z
LAST-MODIFIED:20260213T215334Z
UID:10016163-1786303800-1786312800@norfolkevents.uk
SUMMARY:Song Sung Blue- A Neil Diamond Tribute Show
DESCRIPTION:SONG SUNG BLUE \nJoin us at The Brittania Pier Theatre\, Great Yarmouth on Sunday 9th August for ‘Song Sung Blue’\, a tribute to the legendary career and timeless music of Neil Diamond and an evening which which marks 60 YEARS since Diamond’s first hit single! \nSong Sung Blue is a heartfelt celebration of the music of Neil Diamond packed with all the classics from his incredible career and marking a milestone anniversary – 60 years since Diamond’s first hit single! \nThe show honours the milestone anniversary of six decades of timeless music and with over 130 million records sold\, Song Sung Blue delivers hit after hit\, including Sweet Caroline\, Cracklin’ Rosie\, I’m a Believer\, I Am… I Said\, Forever in Blue Jeans\, Love On The Rocks\, You Don’t Bring Me Flowers\, Song Sung Blue\, Red Red Wine and many many more. \nAccompanied by an exceptional live band and backing singers\, Stephen has been performing professionally for over 20 years. His homage to Neil Diamond captures his vocal range\, guitar style and heartfelt stage presence that have made Diamond a global star. The show is a fast-paced journey through the decades\, jam-packed with classics from his solo work\, hits he penned for some of the world’s biggest names and lesser known songs. \n‘Song Sung Blue’ is described as “a love letter to the music of Neil Diamond”\, recreating the magic of his performances from the 1960s through to the 1980s. Whether you’re a lifelong fan or discovering his music for the first time\, this theatre show is sure to have you singing\, clapping and dancing all night long. \nBOOK EARLY to get the best seats for this special anniversary show !\nTickets: £28.50
URL:https://norfolkevents.uk/event/song-sung-blue-a-neil-diamond-tribute-show/
LOCATION:Britannia Pier Theatre\, Britannia Pier\, Great Yarmouth\, NR30 2EH
CATEGORIES:Music,Theatre
ATTACH;FMTTYPE=image/jpeg:https://norfolkevents.uk/wp-content/uploads/2026/02/362.jpg
ORGANIZER;CN="Britannia Pier":MAILTO:info@britannia-pier.co.uk
END:VEVENT
BEGIN:VEVENT
DTSTART;TZID=Europe/London:20260814T193000
DTEND;TZID=Europe/London:20260814T220000
DTSTAMP:20260424T100851
CREATED:20260213T215423Z
LAST-MODIFIED:20260213T215423Z
UID:10016164-1786735800-1786744800@norfolkevents.uk
SUMMARY:Oh What A Night 2026!
DESCRIPTION:The show all Frankie Valli and the Four Seasons fans have been waiting for is coming to\nGreat Yarmouth on Friday14th August 2026\nOh What A Night! takes you back in time on a musical journey through the incredible career of Frankie Valli & The Four Seasons. Valli’s unmistakable voice dominated the airwaves for more than two decades with classics such as Sherry\, Let’s Hang On\, Big Girls Don’t Cry\, Can’t Take My Eyes Off You\, My Eyes Adored You\, December 63 (Oh What A Night)\, Bye Bye Baby\, Who Loves You and many\, many more. Selling over 100 million records worldwide\, Frankie Valli & The Four Seasons secured their place in the Rock & Roll Hall of Fame in 1990.\nThe cast includes West End performers Nick Corre and Alex Jordan-Mills\, Ian Curran and Jonathan Eio. They bring their amazing on-stage portrayal of the characters and their music.\nOh What A Night! combines infectious personalities\, amazing vocals\, slick harmonies and even slicker dance moves to deliver a show full of energy and nostalgia which always leaves audiences wanting more.\nTickets: £29.50
URL:https://norfolkevents.uk/event/oh-what-a-night-2026/
LOCATION:Britannia Pier Theatre\, Britannia Pier\, Great Yarmouth\, NR30 2EH
CATEGORIES:Music,Theatre
ATTACH;FMTTYPE=image/jpeg:https://norfolkevents.uk/wp-content/uploads/2026/02/346.jpg
ORGANIZER;CN="Britannia Pier":MAILTO:info@britannia-pier.co.uk
END:VEVENT
BEGIN:VEVENT
DTSTART;TZID=Europe/London:20260821T193000
DTEND;TZID=Europe/London:20260821T220000
DTSTAMP:20260424T100851
CREATED:20260131T220107Z
LAST-MODIFIED:20260131T220107Z
UID:10013475-1787340600-1787349600@norfolkevents.uk
SUMMARY:Twelfth Night - Open Air Shakespeare
DESCRIPTION:The Pantaloons return for their 2nd visit of the Summer … “Some are born great\, some achieve greatness\, and some have greatness thrust upon them!” A show for all the family\, a brilliant evening of comedy theatre.
URL:https://norfolkevents.uk/event/twelfth-night-open-air-shakespeare/
LOCATION:Dalegate Market\, Main Road\, Burnham Deepdale\, PE31 8FB
CATEGORIES:Theatre
ATTACH;FMTTYPE=image/jpeg:https://norfolkevents.uk/wp-content/uploads/2026/01/twelth-night-open-air-shakespeare1.jpg
ORGANIZER;CN="Deepdale Music":MAILTO:stay@deepdalecamping.co.uk
END:VEVENT
BEGIN:VEVENT
DTSTART;TZID=Europe/London:20260822T193000
DTEND;TZID=Europe/London:20260822T220000
DTSTAMP:20260424T100851
CREATED:20260213T215725Z
LAST-MODIFIED:20260213T215725Z
UID:10016165-1787427000-1787436000@norfolkevents.uk
SUMMARY:Man In The Mirror A Tribute To Michael Jackson
DESCRIPTION:Join us for a Thriller of an evening\, as we celebrate the legendary music of the KING OF POP. \nThis is the “Man in the Mirror” – The brand new must-see\, electrifying tribute concert to Michael Jackson. \nStarring CJ\, one of the world’s greatest Michael Jackson Tribute Artists and supported by a talented cast of performers and musicians who capture the essence of Michael Jackson’s unique style and charisma like no other\, in this scintillating production that will keep you on the edge of your seats. \nFeaturing all his greatest hits you know and love\, including “Thriller\,” “Billie Jean\,” “Beat It\,” “Smooth Criminal\,” and of course\, “Man in the Mirror.” Complete with dazzling choreography\, stunning visual effects\, light show and authentic costumes. This is the show that pays tribute to Jackson’s musical legacy. \nSo\, whether you’re a lifelong fan or experiencing the magic of Michael Jackson for the first time\, get ready as we take you back in time\, for a night like no other. \nBrand new from Entertainers.\nTickets: £34.50
URL:https://norfolkevents.uk/event/man-in-the-mirror-a-tribute-to-michael-jackson/
LOCATION:Britannia Pier Theatre\, Britannia Pier\, Great Yarmouth\, NR30 2EH
CATEGORIES:Music,Theatre
ATTACH;FMTTYPE=image/jpeg:https://norfolkevents.uk/wp-content/uploads/2026/02/359.jpg
ORGANIZER;CN="Britannia Pier":MAILTO:info@britannia-pier.co.uk
END:VEVENT
BEGIN:VEVENT
DTSTART;TZID=Europe/London:20260823T150000
DTEND;TZID=Europe/London:20260823T173000
DTSTAMP:20260424T100851
CREATED:20260213T215804Z
LAST-MODIFIED:20260213T215804Z
UID:10016166-1787497200-1787506200@norfolkevents.uk
SUMMARY:K Pop All Stars Tribute
DESCRIPTION:Ride the global K-POP wave with K-POP All Stars — the explosive live celebration of the music\, the artists\, and the culture taking over the world. \nFeel the power of stadium-sized anthems\, razor-sharp choreography\, and a cast that delivers every beat with precision and passion. \nFeaturing hits from Blackpink\, NewJeans\, Katseye\, BTS\, Itzy\, Stray Kids\, Twice\, Jung Kook\, and loads more\, the show lights up the stage with breathtaking visuals\, original choreography\, and non-stop energy from start to finish. \nWith light sticks glowing across the crowd and chart-topping tracks filling the room\, K-POP All Stars captures the excitement\, colour\, and emotion of the world’s biggest pop movement — all in one unforgettable show.\nTickets: £20.50 – £35.50
URL:https://norfolkevents.uk/event/k-pop-all-stars-tribute/
LOCATION:Britannia Pier Theatre\, Britannia Pier\, Great Yarmouth\, NR30 2EH
CATEGORIES:Children,Music,Theatre
ATTACH;FMTTYPE=image/jpeg:https://norfolkevents.uk/wp-content/uploads/2026/02/360.jpg
ORGANIZER;CN="Britannia Pier":MAILTO:info@britannia-pier.co.uk
END:VEVENT
BEGIN:VEVENT
DTSTART;TZID=Europe/London:20260828T190000
DTEND;TZID=Europe/London:20260828T210000
DTSTAMP:20260424T100851
CREATED:20260327T114330Z
LAST-MODIFIED:20260327T114330Z
UID:10016781-1787943600-1787950800@norfolkevents.uk
SUMMARY:The Go Between
DESCRIPTION:Under the vast Norfolk skies\, a secret is burning. \nYoung Leo Colston is staying at his friend’s grand country house when he becomes caught up in a dangerous web of desire and deception\, delivering secret letters between two forbidden lovers. As the summer months pass by\, Leo soon finds that even the smallest of actions can have devastating consequences. \nWith original live music\, stunning visuals\, and a powerful sense of place\, Eastern Angles bring new life to L.P. Hartley’s classic novel. This is a story of memory and longing\, set amongst the wide skies and golden fields of the Norfolk countryside. \nDiscover The Go Between and experience a haunting story of lost innocence in this bold reimagining of a classic Norfolk tale.
URL:https://norfolkevents.uk/event/the-go-between/2026-08-28/
LOCATION:Norwich Theatre Stage Two\, Chantry Road\, Norwich\, Norfolk\, NR2 1RL\, United Kingdom
CATEGORIES:Drama,Theatre
ATTACH;FMTTYPE=image/png:https://norfolkevents.uk/wp-content/uploads/2026/03/the-Go-Between.png
END:VEVENT
BEGIN:VEVENT
DTSTART;TZID=Europe/London:20260828T193000
DTEND;TZID=Europe/London:20260828T220000
DTSTAMP:20260424T100851
CREATED:20260213T214609Z
LAST-MODIFIED:20260213T214609Z
UID:10016153-1787945400-1787954400@norfolkevents.uk
SUMMARY:Jim Davidson Last Man Standing...just
DESCRIPTION:In the ever-evolving book of British comedy\, Jim Davidson OBE remains a best-seller\, an unapologetic voice still standing tall while others bow to the tide. Through decades of laughter\, controversy\, and cultural change\, he’s held the line. And now\, in 2026\, he’s back with a brand-new tour ‘Last Man Standing … Just!’ and firing on all cylinders and refusing to be silenced. \nDespite the relentless efforts of a vocal woke minority to pen his final chapter\, Jim’s story is far from over. Shadow-banned\, de-platformed\, and ‘cancelled’ more times than he can count\, Davidson has turned adversity into ammunition\, his live shows becoming safe havens for those who still believe in common sense\, satire\, and the best of British comedy. \nJim’s 2025 UK tour\, The Next Chapter proved that the appetite for unfiltered\, grown-up laughter is alive and well\, with the General receiving standing ovations from Glasgow to Southend from loyal and new fans alike\, many who feel silenced themselves. Jim’s audience loyal packed venues across the UK\, cheering not just the punchlines but the principles behind them \nNow\, as Britain stands at a cultural crossroads\, Davidson returns to do what he does best: say what others are thinking\, with razor-sharp wit and bulletproof timing. It’s time to reset. To push back. To laugh again without fear. \nJim invites you to join him once again for a riotous evening where freedom of speech takes centre stage\, comedy bites back\, and the battle for Britain’s comedic soul rages on. He’s survived the storms\, stood firm in the face of censorship\, and he’s still here! \nOh\, and yes—he’s got another wedding to pay for.\nTickets: £30.50
URL:https://norfolkevents.uk/event/jim-davidson-last-man-standing-just/2026-08-28/
LOCATION:Britannia Pier Theatre\, Britannia Pier\, Great Yarmouth\, NR30 2EH
CATEGORIES:Comedy,Comedy and entertainment,Theatre
ATTACH;FMTTYPE=image/jpeg:https://norfolkevents.uk/wp-content/uploads/2026/02/343.jpg
ORGANIZER;CN="Britannia Pier":MAILTO:info@britannia-pier.co.uk
END:VEVENT
BEGIN:VEVENT
DTSTART;TZID=Europe/London:20260829T190000
DTEND;TZID=Europe/London:20260829T210000
DTSTAMP:20260424T100851
CREATED:20260327T114330Z
LAST-MODIFIED:20260327T114330Z
UID:10016782-1788030000-1788037200@norfolkevents.uk
SUMMARY:The Go Between
DESCRIPTION:Under the vast Norfolk skies\, a secret is burning. \nYoung Leo Colston is staying at his friend’s grand country house when he becomes caught up in a dangerous web of desire and deception\, delivering secret letters between two forbidden lovers. As the summer months pass by\, Leo soon finds that even the smallest of actions can have devastating consequences. \nWith original live music\, stunning visuals\, and a powerful sense of place\, Eastern Angles bring new life to L.P. Hartley’s classic novel. This is a story of memory and longing\, set amongst the wide skies and golden fields of the Norfolk countryside. \nDiscover The Go Between and experience a haunting story of lost innocence in this bold reimagining of a classic Norfolk tale.
URL:https://norfolkevents.uk/event/the-go-between/2026-08-29/
LOCATION:Norwich Theatre Stage Two\, Chantry Road\, Norwich\, Norfolk\, NR2 1RL\, United Kingdom
CATEGORIES:Drama,Theatre
ATTACH;FMTTYPE=image/png:https://norfolkevents.uk/wp-content/uploads/2026/03/the-Go-Between.png
END:VEVENT
BEGIN:VEVENT
DTSTART;TZID=Europe/London:20260829T193000
DTEND;TZID=Europe/London:20260829T220000
DTSTAMP:20260424T100851
CREATED:20260213T215842Z
LAST-MODIFIED:20260213T215842Z
UID:10016167-1788031800-1788040800@norfolkevents.uk
SUMMARY:The Drifters
DESCRIPTION:The Drifters – Live on Tour in the UK \nThe Drifters are back on tour in the UK\, performing all their classic hits including “Saturday Night at the Movies\,” “You’re More Than a Number\,” “Come on Over to My Place\,” “Under the Boardwalk\,” “Kissin’ in the Back Row\,” and many more! \nThe legendary group have been inducted into the Rock & Roll Hall of Fame\, performed for the President of the United States\, and been listed among the Greatest Artists of All Time by Rolling Stone magazine. \nUnder the guidance of Tina Treadwell (daughter of the group’s original founders\, George & Faye Treadwell)\, The Drifters have enjoyed a remarkable resurgence in recent years\, with multiple successful UK tours — including headline shows in major arenas and\, most notably\, their first-ever performance at the world-famous Royal Albert Hall in London\, a milestone in the group’s glittering career. \n“I am thrilled with the success of our recent UK tours\, and we invite you all to join us in continuing to celebrate this incredible and everlasting story of The Drifters\,”said Tina\, speaking about the tour.\nTickets: £29.50
URL:https://norfolkevents.uk/event/the-drifters/
LOCATION:Britannia Pier Theatre\, Britannia Pier\, Great Yarmouth\, NR30 2EH
CATEGORIES:Music,Theatre
ATTACH;FMTTYPE=image/jpeg:https://norfolkevents.uk/wp-content/uploads/2026/02/361.jpg
ORGANIZER;CN="Britannia Pier":MAILTO:info@britannia-pier.co.uk
END:VEVENT
BEGIN:VEVENT
DTSTART;TZID=Europe/London:20260830T080000
DTEND;TZID=Europe/London:20260830T170000
DTSTAMP:20260424T100851
CREATED:20260213T215936Z
LAST-MODIFIED:20260213T220042Z
UID:10016168-1788076800-1788109200@norfolkevents.uk
SUMMARY:Thank You For The Music
DESCRIPTION:THANK YOU FOR THE MUSIC\nThe Ultimate Tribute to ABBA \nCalling all Dancing Queens\, this is your night to say\, Thank you for the Music!\nThis international smash-hit tribute show brings all ABBA’s number one hits to the stage in a production like no other. The hugely popular show\, now in its 21st year\, with a brand-new show for 2025 combines the unmistakable harmonies\, colourful costumes\, and dazzling performances by our all-star cast. \nJoin us for the party of the year\, you can dance\, you can jive\, and have the time of your life as we bring you all the hits\, including Waterloo\, Dancing Queen\, Super Trouper\, Mamma Mia\, Knowing Me\, Knowing You\, Gimme\, Gimme\, Gimme\, The Winner Takes It All and many many more!\nThank you for the Music! For without a song or a dance what are we! Touring the nation. Tickets on sale now! \nThis is a tribute show and is no way affiliated with any original artists/estates/management companies or similar shows. Promoter reserves the right to alter the programme.\nTickets: £34.50
URL:https://norfolkevents.uk/event/thank-you-for-the-music/
LOCATION:Britannia Pier Theatre\, Britannia Pier\, Great Yarmouth\, NR30 2EH
CATEGORIES:Music,Theatre
ATTACH;FMTTYPE=image/jpeg:https://norfolkevents.uk/wp-content/uploads/2026/02/348.jpg
ORGANIZER;CN="Britannia Pier":MAILTO:info@britannia-pier.co.uk
END:VEVENT
BEGIN:VEVENT
DTSTART;TZID=Europe/London:20260830T193000
DTEND;TZID=Europe/London:20260830T220000
DTSTAMP:20260424T100851
CREATED:20260213T215936Z
LAST-MODIFIED:20260213T220042Z
UID:10016169-1788118200-1788127200@norfolkevents.uk
SUMMARY:Thank You For The Music
DESCRIPTION:THANK YOU FOR THE MUSIC\nThe Ultimate Tribute to ABBA \nCalling all Dancing Queens\, this is your night to say\, Thank you for the Music!\nThis international smash-hit tribute show brings all ABBA’s number one hits to the stage in a production like no other. The hugely popular show\, now in its 21st year\, with a brand-new show for 2025 combines the unmistakable harmonies\, colourful costumes\, and dazzling performances by our all-star cast. \nJoin us for the party of the year\, you can dance\, you can jive\, and have the time of your life as we bring you all the hits\, including Waterloo\, Dancing Queen\, Super Trouper\, Mamma Mia\, Knowing Me\, Knowing You\, Gimme\, Gimme\, Gimme\, The Winner Takes It All and many many more!\nThank you for the Music! For without a song or a dance what are we! Touring the nation. Tickets on sale now! \nThis is a tribute show and is no way affiliated with any original artists/estates/management companies or similar shows. Promoter reserves the right to alter the programme.\nTickets: £34.50
URL:https://norfolkevents.uk/event/thank-you-for-the-music/
LOCATION:Britannia Pier Theatre\, Britannia Pier\, Great Yarmouth\, NR30 2EH
CATEGORIES:Music,Theatre
ATTACH;FMTTYPE=image/jpeg:https://norfolkevents.uk/wp-content/uploads/2026/02/348.jpg
ORGANIZER;CN="Britannia Pier":MAILTO:info@britannia-pier.co.uk
END:VEVENT
BEGIN:VEVENT
DTSTART;TZID=Europe/London:20260831T190000
DTEND;TZID=Europe/London:20270101T000000
DTSTAMP:20260424T100851
CREATED:20260213T222805Z
LAST-MODIFIED:20260213T222805Z
UID:10016185-1788202800-1798761600@norfolkevents.uk
SUMMARY:New Years Eve 2026/
DESCRIPTION:Ring in 2027 at The Pier Tavern – New Year’s Eve Party! \nGet ready to welcome 2027 in style at The Pier Tavern! After the incredible success of last year’s New Year’s Eve party with Hotdog Productions\, we’re excited to bring them back to make this year’s celebration even bigger and better. \nJoin us for a night of non-stop fun and nostalgia as we take you on a musical journey through the 80s and 90s\, with all your favourite classics guaranteed to get you on the dance floor. From iconic pop hits to timeless rock anthems\, Hotdog Productions will have you singing along all night. \nAnd that’s not all! Once the 80s vs 90s showdown winds down\, DJ Emmo will keep the party going into the early hours with a mix of hits to keep the energy high until the new year officially arrives. \nDetails:\nDate: New Year’s Eve 2026\nTime: Doors open 7PM\nLocation: The Pier Tavern\nTickets: £10 – grab yours early\, they’re going fast! \nWhether you’re looking to relive the classics\, dance the night away\, or simply enjoy a fantastic evening with friends\, this is the place to be as we count down to 2027. Don’t miss out on the party everyone will be talking about! \n✨ Come for the music\, stay for the memories – let’s make this New Year’s Eve unforgettable!\nTickets: £10.00
URL:https://norfolkevents.uk/event/new-years-eve-2026/
LOCATION:Britannia Pier Theatre\, Britannia Pier\, Great Yarmouth\, NR30 2EH
CATEGORIES:New Year's Eve,Theatre
ATTACH;FMTTYPE=image/jpeg:https://norfolkevents.uk/wp-content/uploads/2026/02/370.jpg
ORGANIZER;CN="Britannia Pier":MAILTO:info@britannia-pier.co.uk
END:VEVENT
END:VCALENDAR