BEGIN:VCALENDAR
VERSION:2.0
PRODID:-//Norfolk Events - ECPv6.15.20//NONSGML v1.0//EN
CALSCALE:GREGORIAN
METHOD:PUBLISH
X-WR-CALNAME:Norfolk Events
X-ORIGINAL-URL:https://norfolkevents.uk
X-WR-CALDESC:Events for Norfolk Events
REFRESH-INTERVAL;VALUE=DURATION:PT1H
X-Robots-Tag:noindex
X-PUBLISHED-TTL:PT1H
BEGIN:VTIMEZONE
TZID:Europe/London
BEGIN:DAYLIGHT
TZOFFSETFROM:+0000
TZOFFSETTO:+0100
TZNAME:BST
DTSTART:20250330T010000
END:DAYLIGHT
BEGIN:STANDARD
TZOFFSETFROM:+0100
TZOFFSETTO:+0000
TZNAME:GMT
DTSTART:20251026T010000
END:STANDARD
BEGIN:DAYLIGHT
TZOFFSETFROM:+0000
TZOFFSETTO:+0100
TZNAME:BST
DTSTART:20260329T010000
END:DAYLIGHT
BEGIN:STANDARD
TZOFFSETFROM:+0100
TZOFFSETTO:+0000
TZNAME:GMT
DTSTART:20261025T010000
END:STANDARD
BEGIN:DAYLIGHT
TZOFFSETFROM:+0000
TZOFFSETTO:+0100
TZNAME:BST
DTSTART:20270328T010000
END:DAYLIGHT
BEGIN:STANDARD
TZOFFSETFROM:+0100
TZOFFSETTO:+0000
TZNAME:GMT
DTSTART:20271031T010000
END:STANDARD
END:VTIMEZONE
BEGIN:VEVENT
DTSTART;TZID=Europe/London:20260605T193000
DTEND;TZID=Europe/London:20260605T220000
DTSTAMP:20260423T104335
CREATED:20251031T205604Z
LAST-MODIFIED:20251031T205604Z
UID:10010267-1780687800-1780696800@norfolkevents.uk
SUMMARY:Les Ballets Trockadero de Monte Carlo
DESCRIPTION:Spring 2026 sees Dance Consortium presenting its seventh tour of the iconic all-male comedy ballet company Les Ballets Trockadero de Monte Carlo. Fresh from celebrating their 50th anniversary\, the Trocks continue to delight audiences worldwide with their unique brand of sassy classical ballet spoofs performed with choreographic rigour\, flawless technique and impeccable comic timing. \nThe Trocks’ enduring love of classical and romantic ballet has always been at the heart of what they do and their parodies of its conventions come from a place of deep knowledge and respect. For every show\, its elite dancers transform into two personas\, ballerina and danseur\, to perform some of the most iconic and challenging roles from the classical ballet canon. \nFounded in 1974 in the wake of the Stonewall Riots\, The Trocks started life as a late-night act on the makeshift New York stage of an early LGBTQ+ organisation. They have always been trailblazers and inclusivity\, gender fluidity and body positivity\, once subversive now part of the mainstream\, are a given for them. \nJoin us for the post-show Q&A on Friday 5 June with a BSL interpreter.
URL:https://norfolkevents.uk/event/les-ballets-trockadero-de-monte-carlo/2026-06-05/
LOCATION:Norwich Theatre Royal\, Theatre Street\, Norwich\, Norfolk\, NR2 1RL\, United Kingdom
CATEGORIES:Comedy and entertainment,Dance,Theatre
ATTACH;FMTTYPE=image/png:https://norfolkevents.uk/wp-content/uploads/2025/10/Trocks-1280x940-1.png
END:VEVENT
BEGIN:VEVENT
DTSTART;TZID=Europe/London:20260606T193000
DTEND;TZID=Europe/London:20260606T220000
DTSTAMP:20260423T104335
CREATED:20251031T205604Z
LAST-MODIFIED:20251031T205604Z
UID:10010268-1780774200-1780783200@norfolkevents.uk
SUMMARY:Les Ballets Trockadero de Monte Carlo
DESCRIPTION:Spring 2026 sees Dance Consortium presenting its seventh tour of the iconic all-male comedy ballet company Les Ballets Trockadero de Monte Carlo. Fresh from celebrating their 50th anniversary\, the Trocks continue to delight audiences worldwide with their unique brand of sassy classical ballet spoofs performed with choreographic rigour\, flawless technique and impeccable comic timing. \nThe Trocks’ enduring love of classical and romantic ballet has always been at the heart of what they do and their parodies of its conventions come from a place of deep knowledge and respect. For every show\, its elite dancers transform into two personas\, ballerina and danseur\, to perform some of the most iconic and challenging roles from the classical ballet canon. \nFounded in 1974 in the wake of the Stonewall Riots\, The Trocks started life as a late-night act on the makeshift New York stage of an early LGBTQ+ organisation. They have always been trailblazers and inclusivity\, gender fluidity and body positivity\, once subversive now part of the mainstream\, are a given for them. \nJoin us for the post-show Q&A on Friday 5 June with a BSL interpreter.
URL:https://norfolkevents.uk/event/les-ballets-trockadero-de-monte-carlo/2026-06-06/
LOCATION:Norwich Theatre Royal\, Theatre Street\, Norwich\, Norfolk\, NR2 1RL\, United Kingdom
CATEGORIES:Comedy and entertainment,Dance,Theatre
ATTACH;FMTTYPE=image/png:https://norfolkevents.uk/wp-content/uploads/2025/10/Trocks-1280x940-1.png
END:VEVENT
BEGIN:VEVENT
DTSTART;TZID=Europe/London:20260606T193000
DTEND;TZID=Europe/London:20260606T220000
DTSTAMP:20260423T104335
CREATED:20260213T214000Z
LAST-MODIFIED:20260213T214000Z
UID:10016146-1780774200-1780783200@norfolkevents.uk
SUMMARY:Free Range- Katie Hopkins UK Stand-up Tour
DESCRIPTION:Come and join your family on the road for another cracking evening out with British funny woman\, Katie Hopkins. Whether you are 18 or 80\, on date night with your hubby\, a Single Pringle Mingle or a bus load of sturdy lesbians\, you belong. Never heard of her? Even better. \nAfter a fully SOLD OUT run in 2025\, KATIE IS BACK with an ALL NEW SHOW for 2026\, Katie will bring her unapologetic humour back to the stage for a night of laugh-out-loud stand-up comedy where you will remember how it feels to belong. \nKatie is giving herself ‘FREE RANGE’ on all the usual targets: useless politicians\, idiot celebrities and the morons in our midst. All your favourites from ‘Batsh*t Boners Britain’ will be in there: Lanyard Linda; Fat Brenda; and\, Ceramic Bob head Rachel Reeves – together with Katie’s new characters for 2026. \nKatie overshares her own humiliating failures for the biggest laughs; including her struggles with the thought police\, Anusol sponsorship and a drooping undercarriage. \n“I’m giving people free range to laugh with me and at me: No rules; no limits; no apologies. Have a night off from pretending to be proper\, and laugh till your face hurts”. \nQuotes:\n“We haven’t laughed that hard since the 70s” Adam\, Rugby \n“I brought my husband. He doesn’t know Katie. He is now her biggest fan\, best date night ever” Rachel\, Perth \n“I laughed till I cried. I cannot remember the last time I laughed like that” Carolyn\, Swansea \n“What a lovely audience\, all ages\, all sorts” Skegness Empire. Theatre\nTickets: £37.50
URL:https://norfolkevents.uk/event/free-range-katie-hopkins-uk-stand-up-tour/
LOCATION:Britannia Pier Theatre\, Britannia Pier\, Great Yarmouth\, NR30 2EH
CATEGORIES:Comedy,Comedy and entertainment,Theatre
ATTACH;FMTTYPE=image/jpeg:https://norfolkevents.uk/wp-content/uploads/2026/02/331.jpg
ORGANIZER;CN="Britannia Pier":MAILTO:info@britannia-pier.co.uk
END:VEVENT
BEGIN:VEVENT
DTSTART;TZID=Europe/London:20260616T183000
DTEND;TZID=Europe/London:20260616T193000
DTSTAMP:20260423T104335
CREATED:20260227T200329Z
LAST-MODIFIED:20260227T200329Z
UID:10016303-1781634600-1781638200@norfolkevents.uk
SUMMARY:Elizabeth Day - One Of Us
DESCRIPTION:We are delighted to welcome Elizabeth Day\, Sunday Times bestselling author and one of today’s most influential podcasters\, to Norwich Playhouse to discuss her suspenseful and compulsive new novel\, One of Us. \nA thrilling story of betrayal\, old bonds\, and buried scandals\, the novel follows a British establishment family coming face to face with the consequences of privilege and the true cost of power. Described by Stanley Tucci as ‘intelligent\, darkly humorous and brilliantly written\,’ One of Us is a razor-sharp dissection of class and power in contemporary society. \nElizabeth is the author of five novels and four works of non-fiction\, including the bestselling novel Magpie and the hit memoir How to Fail. She is also the creator and host of the chart-topping podcast How to Fail with Elizabeth Day. \nProgrammed by the National Centre for Writing.
URL:https://norfolkevents.uk/event/elizabeth-day-one-of-us/
LOCATION:Norwich Theatre Playhouse\, 42-58 St Georges Street\, Norwich\, Norfolk\, NR3 1AB\, United Kingdom
CATEGORIES:Talks,Theatre
ATTACH;FMTTYPE=image/png:https://norfolkevents.uk/wp-content/uploads/2026/02/Elizabeth-Day.png
END:VEVENT
BEGIN:VEVENT
DTSTART;TZID=Europe/London:20260616T193000
DTEND;TZID=Europe/London:20260616T220000
DTSTAMP:20260423T104335
CREATED:20251031T205621Z
LAST-MODIFIED:20251031T205621Z
UID:10010269-1781638200-1781647200@norfolkevents.uk
SUMMARY:The Spy Who Came In From The Cold
DESCRIPTION:For the first time ever\, a novel by John le Carré — the undisputed master of the modern spy genre whose works include Tinker\, Tailor\, Soldier\, Spy and The Night Manager — is brought to life in a thrilling stage adaptation. \nBased on the worldwide bestseller and named in TIME Magazine’s All-Time Greatest 100 Novels\, The Spy Who Came In From The Cold is a riveting journey through the fog-shrouded terrain of Cold War espionage\, deception\, and moral compromise. \nDisillusioned British intelligence officer Alec Leamas is ready to come in from the cold — until veteran agent George Smiley persuades him to take one final mission against the East German Secret Service. Deep undercover\, he finds his convictions tested and his defences breached by Liz Gold\, a quietly defiant librarian whose compassion threatens to thaw his frostbitten heart. \nFollowing a sold-out run at Chichester Festival Theatre and a hit West End premiere\, this gripping new play written by David Eldridge (Beginning\, Middle) and directed by Jeremy Herrin (A Mirror\, People\, Places & Things) comes to Norwich for 1 week only.
URL:https://norfolkevents.uk/event/the-spy-who-came-in-from-the-cold/2026-06-16/
LOCATION:Norwich Theatre Royal\, Theatre Street\, Norwich\, Norfolk\, NR2 1RL\, United Kingdom
CATEGORIES:Drama,Theatre
ATTACH;FMTTYPE=image/png:https://norfolkevents.uk/wp-content/uploads/2025/10/TSWCIFTC-1280x940-1.png
END:VEVENT
BEGIN:VEVENT
DTSTART;TZID=Europe/London:20260617T143000
DTEND;TZID=Europe/London:20260617T170000
DTSTAMP:20260423T104335
CREATED:20251031T205621Z
LAST-MODIFIED:20251031T205621Z
UID:10010270-1781706600-1781715600@norfolkevents.uk
SUMMARY:The Spy Who Came In From The Cold
DESCRIPTION:For the first time ever\, a novel by John le Carré — the undisputed master of the modern spy genre whose works include Tinker\, Tailor\, Soldier\, Spy and The Night Manager — is brought to life in a thrilling stage adaptation. \nBased on the worldwide bestseller and named in TIME Magazine’s All-Time Greatest 100 Novels\, The Spy Who Came In From The Cold is a riveting journey through the fog-shrouded terrain of Cold War espionage\, deception\, and moral compromise. \nDisillusioned British intelligence officer Alec Leamas is ready to come in from the cold — until veteran agent George Smiley persuades him to take one final mission against the East German Secret Service. Deep undercover\, he finds his convictions tested and his defences breached by Liz Gold\, a quietly defiant librarian whose compassion threatens to thaw his frostbitten heart. \nFollowing a sold-out run at Chichester Festival Theatre and a hit West End premiere\, this gripping new play written by David Eldridge (Beginning\, Middle) and directed by Jeremy Herrin (A Mirror\, People\, Places & Things) comes to Norwich for 1 week only.
URL:https://norfolkevents.uk/event/the-spy-who-came-in-from-the-cold/2026-06-17/1/
LOCATION:Norwich Theatre Royal\, Theatre Street\, Norwich\, Norfolk\, NR2 1RL\, United Kingdom
CATEGORIES:Drama,Theatre
ATTACH;FMTTYPE=image/png:https://norfolkevents.uk/wp-content/uploads/2025/10/TSWCIFTC-1280x940-1.png
END:VEVENT
BEGIN:VEVENT
DTSTART;TZID=Europe/London:20260617T193000
DTEND;TZID=Europe/London:20260617T220000
DTSTAMP:20260423T104335
CREATED:20251031T205621Z
LAST-MODIFIED:20251031T205621Z
UID:10010271-1781724600-1781733600@norfolkevents.uk
SUMMARY:The Spy Who Came In From The Cold
DESCRIPTION:For the first time ever\, a novel by John le Carré — the undisputed master of the modern spy genre whose works include Tinker\, Tailor\, Soldier\, Spy and The Night Manager — is brought to life in a thrilling stage adaptation. \nBased on the worldwide bestseller and named in TIME Magazine’s All-Time Greatest 100 Novels\, The Spy Who Came In From The Cold is a riveting journey through the fog-shrouded terrain of Cold War espionage\, deception\, and moral compromise. \nDisillusioned British intelligence officer Alec Leamas is ready to come in from the cold — until veteran agent George Smiley persuades him to take one final mission against the East German Secret Service. Deep undercover\, he finds his convictions tested and his defences breached by Liz Gold\, a quietly defiant librarian whose compassion threatens to thaw his frostbitten heart. \nFollowing a sold-out run at Chichester Festival Theatre and a hit West End premiere\, this gripping new play written by David Eldridge (Beginning\, Middle) and directed by Jeremy Herrin (A Mirror\, People\, Places & Things) comes to Norwich for 1 week only.
URL:https://norfolkevents.uk/event/the-spy-who-came-in-from-the-cold/2026-06-17/2/
LOCATION:Norwich Theatre Royal\, Theatre Street\, Norwich\, Norfolk\, NR2 1RL\, United Kingdom
CATEGORIES:Drama,Theatre
ATTACH;FMTTYPE=image/png:https://norfolkevents.uk/wp-content/uploads/2025/10/TSWCIFTC-1280x940-1.png
END:VEVENT
BEGIN:VEVENT
DTSTART;TZID=Europe/London:20260618T193000
DTEND;TZID=Europe/London:20260618T220000
DTSTAMP:20260423T104335
CREATED:20251031T205621Z
LAST-MODIFIED:20251031T205621Z
UID:10010272-1781811000-1781820000@norfolkevents.uk
SUMMARY:The Spy Who Came In From The Cold
DESCRIPTION:For the first time ever\, a novel by John le Carré — the undisputed master of the modern spy genre whose works include Tinker\, Tailor\, Soldier\, Spy and The Night Manager — is brought to life in a thrilling stage adaptation. \nBased on the worldwide bestseller and named in TIME Magazine’s All-Time Greatest 100 Novels\, The Spy Who Came In From The Cold is a riveting journey through the fog-shrouded terrain of Cold War espionage\, deception\, and moral compromise. \nDisillusioned British intelligence officer Alec Leamas is ready to come in from the cold — until veteran agent George Smiley persuades him to take one final mission against the East German Secret Service. Deep undercover\, he finds his convictions tested and his defences breached by Liz Gold\, a quietly defiant librarian whose compassion threatens to thaw his frostbitten heart. \nFollowing a sold-out run at Chichester Festival Theatre and a hit West End premiere\, this gripping new play written by David Eldridge (Beginning\, Middle) and directed by Jeremy Herrin (A Mirror\, People\, Places & Things) comes to Norwich for 1 week only.
URL:https://norfolkevents.uk/event/the-spy-who-came-in-from-the-cold/2026-06-18/
LOCATION:Norwich Theatre Royal\, Theatre Street\, Norwich\, Norfolk\, NR2 1RL\, United Kingdom
CATEGORIES:Drama,Theatre
ATTACH;FMTTYPE=image/png:https://norfolkevents.uk/wp-content/uploads/2025/10/TSWCIFTC-1280x940-1.png
END:VEVENT
BEGIN:VEVENT
DTSTART;TZID=Europe/London:20260619T193000
DTEND;TZID=Europe/London:20260619T220000
DTSTAMP:20260423T104335
CREATED:20251031T205621Z
LAST-MODIFIED:20251031T205621Z
UID:10010273-1781897400-1781906400@norfolkevents.uk
SUMMARY:The Spy Who Came In From The Cold
DESCRIPTION:For the first time ever\, a novel by John le Carré — the undisputed master of the modern spy genre whose works include Tinker\, Tailor\, Soldier\, Spy and The Night Manager — is brought to life in a thrilling stage adaptation. \nBased on the worldwide bestseller and named in TIME Magazine’s All-Time Greatest 100 Novels\, The Spy Who Came In From The Cold is a riveting journey through the fog-shrouded terrain of Cold War espionage\, deception\, and moral compromise. \nDisillusioned British intelligence officer Alec Leamas is ready to come in from the cold — until veteran agent George Smiley persuades him to take one final mission against the East German Secret Service. Deep undercover\, he finds his convictions tested and his defences breached by Liz Gold\, a quietly defiant librarian whose compassion threatens to thaw his frostbitten heart. \nFollowing a sold-out run at Chichester Festival Theatre and a hit West End premiere\, this gripping new play written by David Eldridge (Beginning\, Middle) and directed by Jeremy Herrin (A Mirror\, People\, Places & Things) comes to Norwich for 1 week only.
URL:https://norfolkevents.uk/event/the-spy-who-came-in-from-the-cold/2026-06-19/
LOCATION:Norwich Theatre Royal\, Theatre Street\, Norwich\, Norfolk\, NR2 1RL\, United Kingdom
CATEGORIES:Drama,Theatre
ATTACH;FMTTYPE=image/png:https://norfolkevents.uk/wp-content/uploads/2025/10/TSWCIFTC-1280x940-1.png
END:VEVENT
BEGIN:VEVENT
DTSTART;TZID=Europe/London:20260619T193000
DTEND;TZID=Europe/London:20260619T220000
DTSTAMP:20260423T104335
CREATED:20260213T214202Z
LAST-MODIFIED:20260213T214202Z
UID:10016147-1781897400-1781906400@norfolkevents.uk
SUMMARY:Phantoms Of The Popera-starring G4
DESCRIPTION:Phantoms of the Popera-starring G4 \nThe ultimate celebration of Musical Theatre. \nFollowing the overwhelming sell-out success of their ‘Phantoms of the Popera’ tour in 2025\, the UK’s No1 vocal harmony quartet and original X Factor stars\, G4 return in 2026 to unleash their unique trademark sound on the greatest showstoppers that musical theatre has to offer. \nJoin Jonathan Ansell\, Michael Conway\, Mike Christie and Duncan Sandilands on a spine-tingling rollercoaster of breathtaking show-tunes\, riding the high and lows of uplifting melodies\, heart-rending ballads and climactic anthems. \nFeaturing classics from Les Mis\, Phantom\, Wicked\, Jersey Boys\, Hamilton\, Jesus Christ Superstar\, Greatest Showman\, Rent\, Miss Saigon\, Book of Mormon\, Lion King\, Aspects of Love\, We Will Rock You\, The Sound of Music\, My Fair Lady\, Rocky Horror Show and many more… \nThis vocally dynamic evening showcases smash-hit songs from the West End and Broadway\, brought to you by four of the world’s finest voices; from stratospherically high tenor to the depths of rich bass\, sharing a night you will truly never forget… \nWhy not treat yourself to a pre-show Meet & Greet with G4 at 6pm\, which includes a welcome drink\, plus the opportunity to meet G4 and pose for photographs and have your items signed by them.\nTickets: £30.00 – £67.50
URL:https://norfolkevents.uk/event/phantoms-of-the-popera-starring-g4/
LOCATION:Britannia Pier Theatre\, Britannia Pier\, Great Yarmouth\, NR30 2EH
CATEGORIES:Music,Musicals,Theatre
ATTACH;FMTTYPE=image/jpeg:https://norfolkevents.uk/wp-content/uploads/2026/02/327.jpg
ORGANIZER;CN="Britannia Pier":MAILTO:info@britannia-pier.co.uk
END:VEVENT
BEGIN:VEVENT
DTSTART;TZID=Europe/London:20260619T200000
DTEND;TZID=Europe/London:20260619T223000
DTSTAMP:20260423T104335
CREATED:20251031T205021Z
LAST-MODIFIED:20251031T205021Z
UID:10010254-1781899200-1781908200@norfolkevents.uk
SUMMARY:Drunk Women Solving Crime
DESCRIPTION:Hit comedy podcast Drunk Women Solving Crime is back on tour for 2026! \nAfter past sell out runs across the UK and the Edinburgh Fringe\, hosts Hannah George and Taylor Glenn are taking to the road to record their award winning show LIVE at venues around the country. \nYou’ll get to see two episodes recorded in every show\, and celebrity guests are invited to help “solve” a crime over a glass or two\, plus audience members are also given the chance to share their own tale for a prize. \nPast guests include: Katherine Ryan\, Romesh Ranganathan\, Rosie Jones and James Acaster.
URL:https://norfolkevents.uk/event/drunk-women-solving-crime/
LOCATION:Norwich Theatre Playhouse\, 42-58 St Georges Street\, Norwich\, Norfolk\, NR3 1AB\, United Kingdom
CATEGORIES:Comedy,Comedy and entertainment,Theatre
ATTACH;FMTTYPE=image/png:https://norfolkevents.uk/wp-content/uploads/2025/10/DWSC-1280-x-940-NE.png
END:VEVENT
BEGIN:VEVENT
DTSTART;TZID=Europe/London:20260620T143000
DTEND;TZID=Europe/London:20260620T170000
DTSTAMP:20260423T104335
CREATED:20251031T205621Z
LAST-MODIFIED:20251031T205621Z
UID:10010274-1781965800-1781974800@norfolkevents.uk
SUMMARY:The Spy Who Came In From The Cold
DESCRIPTION:For the first time ever\, a novel by John le Carré — the undisputed master of the modern spy genre whose works include Tinker\, Tailor\, Soldier\, Spy and The Night Manager — is brought to life in a thrilling stage adaptation. \nBased on the worldwide bestseller and named in TIME Magazine’s All-Time Greatest 100 Novels\, The Spy Who Came In From The Cold is a riveting journey through the fog-shrouded terrain of Cold War espionage\, deception\, and moral compromise. \nDisillusioned British intelligence officer Alec Leamas is ready to come in from the cold — until veteran agent George Smiley persuades him to take one final mission against the East German Secret Service. Deep undercover\, he finds his convictions tested and his defences breached by Liz Gold\, a quietly defiant librarian whose compassion threatens to thaw his frostbitten heart. \nFollowing a sold-out run at Chichester Festival Theatre and a hit West End premiere\, this gripping new play written by David Eldridge (Beginning\, Middle) and directed by Jeremy Herrin (A Mirror\, People\, Places & Things) comes to Norwich for 1 week only.
URL:https://norfolkevents.uk/event/the-spy-who-came-in-from-the-cold/2026-06-20/1/
LOCATION:Norwich Theatre Royal\, Theatre Street\, Norwich\, Norfolk\, NR2 1RL\, United Kingdom
CATEGORIES:Drama,Theatre
ATTACH;FMTTYPE=image/png:https://norfolkevents.uk/wp-content/uploads/2025/10/TSWCIFTC-1280x940-1.png
END:VEVENT
BEGIN:VEVENT
DTSTART;TZID=Europe/London:20260620T190000
DTEND;TZID=Europe/London:20260620T220000
DTSTAMP:20260423T104335
CREATED:20251031T205621Z
LAST-MODIFIED:20251031T205621Z
UID:10010275-1781982000-1781992800@norfolkevents.uk
SUMMARY:The Spy Who Came In From The Cold
DESCRIPTION:For the first time ever\, a novel by John le Carré — the undisputed master of the modern spy genre whose works include Tinker\, Tailor\, Soldier\, Spy and The Night Manager — is brought to life in a thrilling stage adaptation. \nBased on the worldwide bestseller and named in TIME Magazine’s All-Time Greatest 100 Novels\, The Spy Who Came In From The Cold is a riveting journey through the fog-shrouded terrain of Cold War espionage\, deception\, and moral compromise. \nDisillusioned British intelligence officer Alec Leamas is ready to come in from the cold — until veteran agent George Smiley persuades him to take one final mission against the East German Secret Service. Deep undercover\, he finds his convictions tested and his defences breached by Liz Gold\, a quietly defiant librarian whose compassion threatens to thaw his frostbitten heart. \nFollowing a sold-out run at Chichester Festival Theatre and a hit West End premiere\, this gripping new play written by David Eldridge (Beginning\, Middle) and directed by Jeremy Herrin (A Mirror\, People\, Places & Things) comes to Norwich for 1 week only.
URL:https://norfolkevents.uk/event/the-spy-who-came-in-from-the-cold/2026-06-20/2/
LOCATION:Norwich Theatre Royal\, Theatre Street\, Norwich\, Norfolk\, NR2 1RL\, United Kingdom
CATEGORIES:Drama,Theatre
ATTACH;FMTTYPE=image/png:https://norfolkevents.uk/wp-content/uploads/2025/10/TSWCIFTC-1280x940-1.png
END:VEVENT
BEGIN:VEVENT
DTSTART;TZID=Europe/London:20260620T193000
DTEND;TZID=Europe/London:20260620T220000
DTSTAMP:20260423T104335
CREATED:20260213T214305Z
LAST-MODIFIED:20260213T214305Z
UID:10016148-1781983800-1781992800@norfolkevents.uk
SUMMARY:Boyband In The Buff: Starring Gareth Gates
DESCRIPTION:Get ready to scream like it’s 1999! Boyband in the Buff is the ultimate throwback concert – starring pop heartthrob Gareth Gates and a cast of ripped and ridiculously talented performers. With nothing but harmonies\, dance moves\, and a whole lot of skin\, the boys belt out the biggest hits of the ‘90s and ‘00s—from Backstreet Boys to NSYNC\, Blue to Take That—in a show that’s as nostalgic as it is naughty. \nIt’s a celebration of pop\, passion\, and pecs\, where the clothes come off and the heat turns up. This is the ultimate night out for anyone who’s ever swooned over a boyband. \nWarning: Contains tight harmonies and tighter pants. (At least\, for the first few numbers.) Pre Show VIP Meet & Greet tickets to arrive at 6PM\nTickets: £35.00 – £65.00
URL:https://norfolkevents.uk/event/boyband-in-the-buff-starring-gareth-gates/
LOCATION:Britannia Pier Theatre\, Britannia Pier\, Great Yarmouth\, NR30 2EH
CATEGORIES:Music,Theatre
ATTACH;FMTTYPE=image/jpeg:https://norfolkevents.uk/wp-content/uploads/2026/02/352.jpg
ORGANIZER;CN="Britannia Pier":MAILTO:info@britannia-pier.co.uk
END:VEVENT
BEGIN:VEVENT
DTSTART;TZID=Europe/London:20260626T193000
DTEND;TZID=Europe/London:20260626T220000
DTSTAMP:20260423T104335
CREATED:20251031T205548Z
LAST-MODIFIED:20251031T205548Z
UID:10010266-1782502200-1782511200@norfolkevents.uk
SUMMARY:Hal Cruttenden: Can Dish It Out But Can't Take It
DESCRIPTION:Hal is back with a brand-new tour for 2025 with a show that promises to stick it to ‘The Man’\, as long as ‘The Man’ doesn’t stick it back to him. \nWith his trademark hard-hitting ‘take no prisoners’ comedy (this is what Hal told me to write!!!) he will be hilariously pontificating on subjects like middle aged dating\, social media\, the insanity of modern politics and the fact that his daughters love him but don’t respect him. He believes that\, after you’ve seen the show\, you’ll feel exactly the same way. \nHis last tour was extended four times and he’s one of a select number of comics to have done Live At The Apollo three times and the Royal Variety twice\, TV also includes Have I Got News For You\, The Apprentice You’re Fired\, Bake Off Extra Slice and Would I Lie To You.
URL:https://norfolkevents.uk/event/hal-cruttenden-can-dish-it-out-but-cant-take-it-2/
LOCATION:Norwich Theatre Playhouse\, 42-58 St Georges Street\, Norwich\, Norfolk\, NR3 1AB\, United Kingdom
CATEGORIES:Comedy,Comedy and entertainment,Theatre
ATTACH;FMTTYPE=image/png:https://norfolkevents.uk/wp-content/uploads/2025/10/Hal-1280x940-1.png
END:VEVENT
BEGIN:VEVENT
DTSTART;TZID=Europe/London:20260627T200000
DTEND;TZID=Europe/London:20260627T213000
DTSTAMP:20260423T104335
CREATED:20251031T205044Z
LAST-MODIFIED:20251031T205044Z
UID:10010255-1782590400-1782595800@norfolkevents.uk
SUMMARY:Cally Beaton - Namaste Motherf*ckers.
DESCRIPTION:Namaste Motherf*ckers is the new show from Cally Beaton (QI\, Live at the Apollo) – a quick-witted\, unexpected and unapologetic insight into life in midlife. Combining Cally’s comedic and storytelling prowess with extracts from her provocative\, stereotype-busting book of the same name\, the show has at its heart her own story of radical reinvention – taking her from meetings in boardrooms to treading the boards\, thanks to a chance conversation with the late\, great Joan Rivers. \nA funny show about a deadly serious subject\, Namaste Motherf*ckers is a celebration of and for the female of the species. Invisible no more. The show includes a Q&A and meet-and-greet with Cally (who knows\, Jeff the wonder dog may even be there too).
URL:https://norfolkevents.uk/event/cally-beaton-namaste-motherfckers-2/
LOCATION:Norwich Theatre Playhouse\, 42-58 St Georges Street\, Norwich\, Norfolk\, NR3 1AB\, United Kingdom
CATEGORIES:Comedy,Comedy and entertainment,Theatre
ATTACH;FMTTYPE=image/png:https://norfolkevents.uk/wp-content/uploads/2025/10/Cally-Beaton.png
END:VEVENT
END:VCALENDAR