BEGIN:VCALENDAR
VERSION:2.0
PRODID:-//Norfolk Events - ECPv6.15.20//NONSGML v1.0//EN
CALSCALE:GREGORIAN
METHOD:PUBLISH
X-ORIGINAL-URL:https://norfolkevents.uk
X-WR-CALDESC:Events for Norfolk Events
REFRESH-INTERVAL;VALUE=DURATION:PT1H
X-Robots-Tag:noindex
X-PUBLISHED-TTL:PT1H
BEGIN:VTIMEZONE
TZID:Europe/London
BEGIN:DAYLIGHT
TZOFFSETFROM:+0000
TZOFFSETTO:+0100
TZNAME:BST
DTSTART:20250330T010000
END:DAYLIGHT
BEGIN:STANDARD
TZOFFSETFROM:+0100
TZOFFSETTO:+0000
TZNAME:GMT
DTSTART:20251026T010000
END:STANDARD
BEGIN:DAYLIGHT
TZOFFSETFROM:+0000
TZOFFSETTO:+0100
TZNAME:BST
DTSTART:20260329T010000
END:DAYLIGHT
BEGIN:STANDARD
TZOFFSETFROM:+0100
TZOFFSETTO:+0000
TZNAME:GMT
DTSTART:20261025T010000
END:STANDARD
BEGIN:DAYLIGHT
TZOFFSETFROM:+0000
TZOFFSETTO:+0100
TZNAME:BST
DTSTART:20270328T010000
END:DAYLIGHT
BEGIN:STANDARD
TZOFFSETFROM:+0100
TZOFFSETTO:+0000
TZNAME:GMT
DTSTART:20271031T010000
END:STANDARD
END:VTIMEZONE
BEGIN:VEVENT
DTSTART;TZID=Europe/London:20260501T200000
DTEND;TZID=Europe/London:20260501T230000
DTSTAMP:20260421T133508
CREATED:20260213T213413Z
LAST-MODIFIED:20260213T213413Z
UID:10016140-1777665600-1777676400@norfolkevents.uk
SUMMARY:WCB Comedy Special- Headliner Milton Jones
DESCRIPTION:🎭 WCB Comedy: Premier Summer Club Night! 🎭 \nThe one and only Milton Jones headlines — the master of surreal one-liners from Mock the Week\, Live at the Apollo and BBC Radio 4’s The Very World of Milton Jones. A true comedy icon whose razor-sharp puns and absurd genius sell out theatres nationwide. \nHosted by the brilliantly unpredictable Justin Panks\, with legendary comic creation Sol Bernstein (“the world’s oldest Jewish comedian”)\, and Jack Gleadow — Leicester Mercury Comedian of the Year and one of the most exciting new acts on the circuit. \n🔥 Top-tier comedy. Big-name headliner. Electric atmosphere. Tickets will sell fast 🔥\nTickets: £25.00
URL:https://norfolkevents.uk/event/wcb-comedy-special-headliner-milton-jones/
LOCATION:Britannia Pier Theatre\, Britannia Pier\, Great Yarmouth\, NR30 2EH
CATEGORIES:Comedy,Comedy and entertainment,Theatre
ATTACH;FMTTYPE=image/jpeg:https://norfolkevents.uk/wp-content/uploads/2026/02/336.jpg
ORGANIZER;CN="Britannia Pier":MAILTO:info@britannia-pier.co.uk
END:VEVENT
BEGIN:VEVENT
DTSTART;TZID=Europe/London:20260502T193000
DTEND;TZID=Europe/London:20260502T230000
DTSTAMP:20260421T133508
CREATED:20260213T213506Z
LAST-MODIFIED:20260213T213543Z
UID:10016141-1777750200-1777762800@norfolkevents.uk
SUMMARY:The Ultimate Mod Revue
DESCRIPTION:The Ultimate Mod Revue \nA blistering\, high-voltage\, feel-good show.\nBrought to you by the team that brought you Quadrophenia – the album\, LIVE! in 2018. \nFeaturing the very best of sing-along Mod hits with a big sound performed by some of the UK’s finest musicians and singers and backed by a projection of bespoke film reflecting the times and trends of the era which underscores and punctuates the music to powerful effect. \nThis brand new show for 2025 takes you on a journey of the Mod subculture favourites from 60s through to the 90s with huge hits from The Who\, The Jam\, Small Faces\, Ocean Colour Scene\, The Kinks and more. \nThere are plenty of theatre shows devoted to sixties music such as The Beatles Swinging Sixties Buddy Holly etc\, however\, none devoted to the energy-driven Mod genre much beloved by the current theatre-going demographic. The show is a concentrated celebration of some of the world’s most well known hits which get people singing and dancing in the aisles with wild abandon.leaving at the end of the night with that feel-good factor of time and money well spent. \nThis is not the average tribute show ‘going through the motions’ this is a truly engaging and powerful performance guaranteed to enthral an audience. \nWith a vast wealth of material to draw upon the show is set to evolve year-on-year building a strong reputation with venues and communities across the UK and Europe. \nHundreds of five-star reviews from The Goldhawk’s previous tour ’QUADROPHENIA-the album\, LIVE! at FB @theultimatemodrevue “Travelled over 86 miles round trip to see these for my Dad’s birthday and had a great time. \nSuch talent! He said it was one of the best concerts he’s been to.” \nSian Siobhan “Mighty\, moving\, and unstoppable” Sunday Times \n“Absolutely f**cking amazing!” Phil Daniels (star of Quadrophenia film) \n“A stunning night of music recreated by The Goldhawks” Liverpool Sound & Vision \n“The Show is probably the best value for money you will ever get. Outstanding performance by all.” Ian Cumming \n“Saw these boys play Hastings last night\, simply out of this world. Truly stupendous!” Malcolm Robinson\nTickets: £30.00
URL:https://norfolkevents.uk/event/the-ultimate-mod-revue/
LOCATION:Britannia Pier Theatre\, Britannia Pier\, Great Yarmouth\, NR30 2EH
CATEGORIES:Music,Theatre
ATTACH;FMTTYPE=image/jpeg:https://norfolkevents.uk/wp-content/uploads/2026/02/328.jpg
ORGANIZER;CN="Britannia Pier":MAILTO:info@britannia-pier.co.uk
END:VEVENT
BEGIN:VEVENT
DTSTART;TZID=Europe/London:20260506T193000
DTEND;TZID=Europe/London:20260509T220000
DTSTAMP:20260421T133508
CREATED:20260218T222031Z
LAST-MODIFIED:20260218T222031Z
UID:10016270-1778095800-1778364000@norfolkevents.uk
SUMMARY:Kiss me\, Kate
DESCRIPTION:Don’t miss the East Norfolk Operatic Society performance of  ‘Kiss Me\, Kate’  at The Maddermarket Theatre\, Norwich from 6th May 2026 to 9th May 2026.\n.\nKiss Me\, Kate brings together the irreverent humour of four brilliant writers; Sam and Bella Spewack\, Cole Porter\, and William Shakespeare in this high energy classic show which is not to be missed. \nThis amateur production is present by arrangement with Concord Theatricals Limited on behalf of Tams-Witmark LLC www.concordtheatricals.co.uk \nPerformances are at 7.30 pm each evening with a matinee show on 10th May at 2.30 pm. For seat reservations\, please call the Box Office on 01603 620917. Alternatively\, book via the theatre webpage www.maddermarket.co.uk\nAll tickets are priced £25 and a discount of 1O% is available for group bookings of 8 or more persons.
URL:https://norfolkevents.uk/event/kiss-me-kate/2026-05-06/
LOCATION:Norwich Maddermarket Theatre\, St John’s Alley\, NORWICH\, NR2 1DR\, United Kingdom
CATEGORIES:Musicals,Theatre
ATTACH;FMTTYPE=image/jpeg:https://norfolkevents.uk/wp-content/uploads/2026/02/Kiss-me-Kate-banner-PRINT-READY-scaled.jpg
ORGANIZER;CN="East Norfolk Operatic Society":MAILTO:bookings@maddermarket.org
END:VEVENT
BEGIN:VEVENT
DTSTART;TZID=Europe/London:20260507T193000
DTEND;TZID=Europe/London:20260510T220000
DTSTAMP:20260421T133508
CREATED:20260218T222031Z
LAST-MODIFIED:20260218T222031Z
UID:10016271-1778182200-1778450400@norfolkevents.uk
SUMMARY:Kiss me\, Kate
DESCRIPTION:Don’t miss the East Norfolk Operatic Society performance of  ‘Kiss Me\, Kate’  at The Maddermarket Theatre\, Norwich from 6th May 2026 to 9th May 2026.\n.\nKiss Me\, Kate brings together the irreverent humour of four brilliant writers; Sam and Bella Spewack\, Cole Porter\, and William Shakespeare in this high energy classic show which is not to be missed. \nThis amateur production is present by arrangement with Concord Theatricals Limited on behalf of Tams-Witmark LLC www.concordtheatricals.co.uk \nPerformances are at 7.30 pm each evening with a matinee show on 10th May at 2.30 pm. For seat reservations\, please call the Box Office on 01603 620917. Alternatively\, book via the theatre webpage www.maddermarket.co.uk\nAll tickets are priced £25 and a discount of 1O% is available for group bookings of 8 or more persons.
URL:https://norfolkevents.uk/event/kiss-me-kate/2026-05-07/
LOCATION:Norwich Maddermarket Theatre\, St John’s Alley\, NORWICH\, NR2 1DR\, United Kingdom
CATEGORIES:Musicals,Theatre
ATTACH;FMTTYPE=image/jpeg:https://norfolkevents.uk/wp-content/uploads/2026/02/Kiss-me-Kate-banner-PRINT-READY-scaled.jpg
ORGANIZER;CN="East Norfolk Operatic Society":MAILTO:bookings@maddermarket.org
END:VEVENT
BEGIN:VEVENT
DTSTART;TZID=Europe/London:20260508T193000
DTEND;TZID=Europe/London:20260511T220000
DTSTAMP:20260421T133508
CREATED:20260218T222031Z
LAST-MODIFIED:20260218T222031Z
UID:10016272-1778268600-1778536800@norfolkevents.uk
SUMMARY:Kiss me\, Kate
DESCRIPTION:Don’t miss the East Norfolk Operatic Society performance of  ‘Kiss Me\, Kate’  at The Maddermarket Theatre\, Norwich from 6th May 2026 to 9th May 2026.\n.\nKiss Me\, Kate brings together the irreverent humour of four brilliant writers; Sam and Bella Spewack\, Cole Porter\, and William Shakespeare in this high energy classic show which is not to be missed. \nThis amateur production is present by arrangement with Concord Theatricals Limited on behalf of Tams-Witmark LLC www.concordtheatricals.co.uk \nPerformances are at 7.30 pm each evening with a matinee show on 10th May at 2.30 pm. For seat reservations\, please call the Box Office on 01603 620917. Alternatively\, book via the theatre webpage www.maddermarket.co.uk\nAll tickets are priced £25 and a discount of 1O% is available for group bookings of 8 or more persons.
URL:https://norfolkevents.uk/event/kiss-me-kate/2026-05-08/
LOCATION:Norwich Maddermarket Theatre\, St John’s Alley\, NORWICH\, NR2 1DR\, United Kingdom
CATEGORIES:Musicals,Theatre
ATTACH;FMTTYPE=image/jpeg:https://norfolkevents.uk/wp-content/uploads/2026/02/Kiss-me-Kate-banner-PRINT-READY-scaled.jpg
ORGANIZER;CN="East Norfolk Operatic Society":MAILTO:bookings@maddermarket.org
END:VEVENT
BEGIN:VEVENT
DTSTART;TZID=Europe/London:20260509T193000
DTEND;TZID=Europe/London:20260512T220000
DTSTAMP:20260421T133508
CREATED:20260218T222031Z
LAST-MODIFIED:20260218T222031Z
UID:10016273-1778355000-1778623200@norfolkevents.uk
SUMMARY:Kiss me\, Kate
DESCRIPTION:Don’t miss the East Norfolk Operatic Society performance of  ‘Kiss Me\, Kate’  at The Maddermarket Theatre\, Norwich from 6th May 2026 to 9th May 2026.\n.\nKiss Me\, Kate brings together the irreverent humour of four brilliant writers; Sam and Bella Spewack\, Cole Porter\, and William Shakespeare in this high energy classic show which is not to be missed. \nThis amateur production is present by arrangement with Concord Theatricals Limited on behalf of Tams-Witmark LLC www.concordtheatricals.co.uk \nPerformances are at 7.30 pm each evening with a matinee show on 10th May at 2.30 pm. For seat reservations\, please call the Box Office on 01603 620917. Alternatively\, book via the theatre webpage www.maddermarket.co.uk\nAll tickets are priced £25 and a discount of 1O% is available for group bookings of 8 or more persons.
URL:https://norfolkevents.uk/event/kiss-me-kate/2026-05-09/
LOCATION:Norwich Maddermarket Theatre\, St John’s Alley\, NORWICH\, NR2 1DR\, United Kingdom
CATEGORIES:Musicals,Theatre
ATTACH;FMTTYPE=image/jpeg:https://norfolkevents.uk/wp-content/uploads/2026/02/Kiss-me-Kate-banner-PRINT-READY-scaled.jpg
ORGANIZER;CN="East Norfolk Operatic Society":MAILTO:bookings@maddermarket.org
END:VEVENT
BEGIN:VEVENT
DTSTART;TZID=Europe/London:20260512T193000
DTEND;TZID=Europe/London:20260512T210000
DTSTAMP:20260421T133508
CREATED:20260227T195654Z
LAST-MODIFIED:20260227T195654Z
UID:10016300-1778614200-1778619600@norfolkevents.uk
SUMMARY:Courtney Pine - A Modern Day Jazz Story 1986-2026
DESCRIPTION:Celebrating four decades at the forefront of British jazz\, Courtney Pine returns to the stage this year with Out of the Ghetto: A Modern Day Jazz Story — a powerful retrospective tour. \nFrom his landmark debut Journey to the Urge Within to his Mercury-nominated Modern Day Jazz Stories and deeply personal House of Legends project\, Pine has consistently redefined what it means to be a jazz artist in the UK. Blending the spiritual legacy of jazz with the pulse of reggae\, soul\, hip-hop\, and drum & bass\, his musical lens tells the deeply personal story of a generation and a nation finding its voice through sound. \nThis special live show brings together key moments from Pine’s remarkable catalogue\, alongside previously unreleased material reimagined with the fire and freedom that have made his performances legendary. \nBoth a celebration and a reflection\, Out of the Ghetto: A Modern Day Jazz Story honours the resilience\, creativity\, and community that shaped Pine’s journey from London streets to international stages. Expect a night of deep grooves\, soaring saxophone\, and the unmistakable energy of an artist who continues to push jazz forward while staying true to his roots.
URL:https://norfolkevents.uk/event/courtney-pine-a-modern-day-jazz-story-1986-2026/
LOCATION:Norwich Theatre Playhouse\, 42-58 St Georges Street\, Norwich\, Norfolk\, NR3 1AB\, United Kingdom
CATEGORIES:Entertainment,Music,Theatre
ATTACH;FMTTYPE=image/png:https://norfolkevents.uk/wp-content/uploads/2026/02/courtney-pine.png
END:VEVENT
BEGIN:VEVENT
DTSTART;TZID=Europe/London:20260515T193000
DTEND;TZID=Europe/London:20260515T210000
DTSTAMP:20260421T133508
CREATED:20260227T195330Z
LAST-MODIFIED:20260227T195330Z
UID:10016298-1778873400-1778878800@norfolkevents.uk
SUMMARY:Brokentalkers: Bellow
DESCRIPTION:Brokentalkers present Bellow \nBellow tells the extraordinary real-life story of one of Ireland’s foremost accordionists\, Danny O’Mahony\, a man who has dedicated his life to the preservation of traditional Irish music and to the mastery of his craft. \nBellow takes the audience on a raw\, intimate\, deeply personal journey of self-reflection\, passion\, and the pursuit of artistic purpose. Bellow weaves together past and present as Danny revisits pivotal moments in his life\, his first taste of music as a child\, the mentors who shaped him and the unrelenting pursuit of mastery that left room for little else. \nAlongside Danny’s sublime live playing\, Bellow features an original electronic composition by Valgier Siggurdson\, new writing and contemporary dance\, heightening the tension between past and present. \nBellow is a unique and astonishingly beautiful theatre performance exploring what it means to be an artist. \nCredits: \n\nWritten & Created by Feidlim Cannon\, Gary Keegan & Danny O’Mahony\nPerformed by: Danny O’Mahony\, Gary Keegan & Emily Kilkenny Roddy\nMovement Director: Eddie Kay\nSound Design & Composition: Valgeir Sigurðsson\nSet Design: Sabine Dargent\nLighting Design: Sarah Jane Shiels\nCostume Design: Sarah Foley\nDramaturg: Bjarni Jonsson\nMask Design & Construction: Ger Clancy\nCreative Producer: Rachel Bergin\n\nBellow is funded by The Arts Council of Ireland.\nCo-Produced by The Everyman\, Droichead Arts Centre\, Mermaid Arts Centre and Town Hall Theatre Galway.\nSupported by Dublin Theatre Festivals Futures Award. \nTouring is kindly supported by Culture Ireland
URL:https://norfolkevents.uk/event/brokentalkers-bellow/2026-05-15/
LOCATION:Norwich Theatre Playhouse\, 42-58 St Georges Street\, Norwich\, Norfolk\, NR3 1AB\, United Kingdom
CATEGORIES:Drama,Entertainment,Music,Theatre
ATTACH;FMTTYPE=image/png:https://norfolkevents.uk/wp-content/uploads/2026/02/brokentalkers.png
END:VEVENT
BEGIN:VEVENT
DTSTART;TZID=Europe/London:20260516T193000
DTEND;TZID=Europe/London:20260516T210000
DTSTAMP:20260421T133509
CREATED:20260227T195330Z
LAST-MODIFIED:20260227T195330Z
UID:10016299-1778959800-1778965200@norfolkevents.uk
SUMMARY:Brokentalkers: Bellow
DESCRIPTION:Brokentalkers present Bellow \nBellow tells the extraordinary real-life story of one of Ireland’s foremost accordionists\, Danny O’Mahony\, a man who has dedicated his life to the preservation of traditional Irish music and to the mastery of his craft. \nBellow takes the audience on a raw\, intimate\, deeply personal journey of self-reflection\, passion\, and the pursuit of artistic purpose. Bellow weaves together past and present as Danny revisits pivotal moments in his life\, his first taste of music as a child\, the mentors who shaped him and the unrelenting pursuit of mastery that left room for little else. \nAlongside Danny’s sublime live playing\, Bellow features an original electronic composition by Valgier Siggurdson\, new writing and contemporary dance\, heightening the tension between past and present. \nBellow is a unique and astonishingly beautiful theatre performance exploring what it means to be an artist. \nCredits: \n\nWritten & Created by Feidlim Cannon\, Gary Keegan & Danny O’Mahony\nPerformed by: Danny O’Mahony\, Gary Keegan & Emily Kilkenny Roddy\nMovement Director: Eddie Kay\nSound Design & Composition: Valgeir Sigurðsson\nSet Design: Sabine Dargent\nLighting Design: Sarah Jane Shiels\nCostume Design: Sarah Foley\nDramaturg: Bjarni Jonsson\nMask Design & Construction: Ger Clancy\nCreative Producer: Rachel Bergin\n\nBellow is funded by The Arts Council of Ireland.\nCo-Produced by The Everyman\, Droichead Arts Centre\, Mermaid Arts Centre and Town Hall Theatre Galway.\nSupported by Dublin Theatre Festivals Futures Award. \nTouring is kindly supported by Culture Ireland
URL:https://norfolkevents.uk/event/brokentalkers-bellow/2026-05-16/
LOCATION:Norwich Theatre Playhouse\, 42-58 St Georges Street\, Norwich\, Norfolk\, NR3 1AB\, United Kingdom
CATEGORIES:Drama,Entertainment,Music,Theatre
ATTACH;FMTTYPE=image/png:https://norfolkevents.uk/wp-content/uploads/2026/02/brokentalkers.png
END:VEVENT
BEGIN:VEVENT
DTSTART;TZID=Europe/London:20260522T174500
DTEND;TZID=Europe/London:20260522T200000
DTSTAMP:20260421T133509
CREATED:20260213T213637Z
LAST-MODIFIED:20260213T213637Z
UID:10016143-1779471900-1779480000@norfolkevents.uk
SUMMARY:An Evening With Arsenal Legends
DESCRIPTION:Amassing more than 900 appearances in the red and white of The Gunners between them\, three Arsenal legends are coming to town to talk about their action-packed football careers. \nStarring Ray Parlour (Romford Pele) Paul Merson – now a regular face on Sky Sports; midfielder Perry Groves – now a radio presenter will discuss the games\, dressing room/training ground stories\, managers\, fall outs and everything you wanted to know about playing for a successful football club. \nThere will be a chance to pose questions to the stars during the evening. A limited number of VIP tickets are available\, affording the opportunity for a meet and greet with the legendary players and a photograph opportunity before the show and welcome drink. \nStandard tickets doors open 7PM for 730PM start Guidance 14+. Possibility of strong language and stories of a certain nature\, ticket buyer discretion.\nTickets: £37.50 – £82.50
URL:https://norfolkevents.uk/event/an-evening-with-arsenal-legends/
LOCATION:Britannia Pier Theatre\, Britannia Pier\, Great Yarmouth\, NR30 2EH
CATEGORIES:Sports,Theatre
ATTACH;FMTTYPE=image/jpeg:https://norfolkevents.uk/wp-content/uploads/2026/02/334.jpg
ORGANIZER;CN="Britannia Pier":MAILTO:info@britannia-pier.co.uk
END:VEVENT
BEGIN:VEVENT
DTSTART;TZID=Europe/London:20260523T193000
DTEND;TZID=Europe/London:20260523T220000
DTSTAMP:20260421T133509
CREATED:20260213T213737Z
LAST-MODIFIED:20260213T213737Z
UID:10016144-1779564600-1779573600@norfolkevents.uk
SUMMARY:P*ssed Up Panto
DESCRIPTION:The Ultimate Adult Panto is back for it’s 5th Anniversary Tour – and this year it’s the turn of Cinderella to get the P*ssed Up Panto® treatment! \nP*ssed Up Panto® has been causing hilarious havoc around the UK since 2021 with their productions of Aladdin\, Jack and the Beanstalk & Sleeping Beauty – now they’re back with a brand-new show for 2026! \nSelling out theatres up and down the country\, P*ssed Up Panto® has developed the perfect adult panto formula\, causing tears of laughter and soaked-through theatre seats nationwide! \nBut what exactly is P*ssed Up Panto®? Well if you’ve ever wondered what a pantomime cast would get up to if there were no children in the audience…then you’re half way there! Add to that a nail-biting audience vote for the one cast member who must complete a savage drinking challenge throughout the show (as the other performers do their best to keep the story running to its ‘happy ending’!) and you can see why absolutely anything could happen…and it probably will! \nIt’s full of innuendo\, hilarious comedy routines\, parodies of well-known songs and audience participation\, creating a performance that’s hilarious\, cheeky\, saucy and sometimes just a little bit naughty…okay…VERY naughty…! \nStarring a whole host of experienced\, professional pantomime performers\, and one or two professional drinkers\, alongside a dazzling ensemble cast\, stunning scenery\, great music and side-splitting comedy routines this is a night that audiences will remember for the rest of their lives! \nEarly booking is highly recommended as P*ssed Up Panto invariably sells out theatres up and down the country – Don’t miss it! \nPlease Note: This production features strong language\, adult themes and is not suitable for the easily offended.\nTickets: £29.50
URL:https://norfolkevents.uk/event/pssed-up-panto/
LOCATION:Britannia Pier Theatre\, Britannia Pier\, Great Yarmouth\, NR30 2EH
CATEGORIES:Theatre
ATTACH;FMTTYPE=image/jpeg:https://norfolkevents.uk/wp-content/uploads/2026/02/338.jpg
ORGANIZER;CN="Britannia Pier":MAILTO:info@britannia-pier.co.uk
END:VEVENT
BEGIN:VEVENT
DTSTART;VALUE=DATE:20260528
DTEND;VALUE=DATE:20260602
DTSTAMP:20260421T133509
CREATED:20260213T213844Z
LAST-MODIFIED:20260213T213844Z
UID:10016145-1779940800-1780286399@norfolkevents.uk
SUMMARY:The Wizard Of Oz
DESCRIPTION:Before there was Wicked\, there was Oz – the story that started it all. Follow Dorothy on a laugh-filled\, song-packed adventure down the Yellow Brick Road in this magical pantomime twist on the classic tale! With the help of her loveable friends – the Scarecrow\, Tin Man\, and Cowardly Lion – Dorothy battles the Wicked Witch\, meets the fabulous Wizard\, and discovers the true meaning of home. \nBursting with comedy\, catchy songs\, colourful characters\, and plenty of audience participation\, this family-friendly panto delivers enchantment\, excitement\, and endless fun for all ages. \nEstimated Running Time: 2hrs 20mins (inc interval). \n*Please note this is not the musical and does not contain songs from the musical or film and is a pantomime adaptation of the storyline.\nTickets: £12.50 – £16.50
URL:https://norfolkevents.uk/event/the-wizard-of-oz/
LOCATION:Britannia Pier Theatre\, Britannia Pier\, Great Yarmouth\, NR30 2EH
CATEGORIES:Children,Entertainment,Theatre
ATTACH;FMTTYPE=image/jpeg:https://norfolkevents.uk/wp-content/uploads/2026/02/366.jpg
ORGANIZER;CN="Britannia Pier":MAILTO:info@britannia-pier.co.uk
END:VEVENT
END:VCALENDAR