BEGIN:VCALENDAR
VERSION:2.0
PRODID:-//Norfolk Events - ECPv6.15.20//NONSGML v1.0//EN
CALSCALE:GREGORIAN
METHOD:PUBLISH
X-ORIGINAL-URL:https://norfolkevents.uk
X-WR-CALDESC:Events for Norfolk Events
REFRESH-INTERVAL;VALUE=DURATION:PT1H
X-Robots-Tag:noindex
X-PUBLISHED-TTL:PT1H
BEGIN:VTIMEZONE
TZID:Europe/London
BEGIN:DAYLIGHT
TZOFFSETFROM:+0000
TZOFFSETTO:+0100
TZNAME:BST
DTSTART:20250330T010000
END:DAYLIGHT
BEGIN:STANDARD
TZOFFSETFROM:+0100
TZOFFSETTO:+0000
TZNAME:GMT
DTSTART:20251026T010000
END:STANDARD
BEGIN:DAYLIGHT
TZOFFSETFROM:+0000
TZOFFSETTO:+0100
TZNAME:BST
DTSTART:20260329T010000
END:DAYLIGHT
BEGIN:STANDARD
TZOFFSETFROM:+0100
TZOFFSETTO:+0000
TZNAME:GMT
DTSTART:20261025T010000
END:STANDARD
BEGIN:DAYLIGHT
TZOFFSETFROM:+0000
TZOFFSETTO:+0100
TZNAME:BST
DTSTART:20270328T010000
END:DAYLIGHT
BEGIN:STANDARD
TZOFFSETFROM:+0100
TZOFFSETTO:+0000
TZNAME:GMT
DTSTART:20271031T010000
END:STANDARD
END:VTIMEZONE
BEGIN:VEVENT
DTSTART;TZID=Europe/London:20260105T100000
DTEND;TZID=Europe/London:20260327T163000
DTSTAMP:20260422T151545
CREATED:20251229T155849Z
LAST-MODIFIED:20260220T233315Z
UID:10011301-1767607200-1774629000@norfolkevents.uk
SUMMARY:ROARR! Indoor
DESCRIPTION:ROARR! Indoor returns for 2026\, offering families a weather-proof day out packed with adventure. Young explorers can climb\, slide and play their way through a dinosaur-themed indoor experience designed for all ages. \nWhat’s included:\n– Dinomite Indoor Adventure – Norfolk’s largest indoor soft play area\n– Dippy-Ville – a dedicated zone for younger children packed with role-play fun\, mini soft play\, and more\n– Explorers Soft Play (weekends only) – with tabletop games\, interactive play pads\, and more!\n– Secret Animal Garden visits\n– Dinomite Café for refreshments\n– PLUS other ROARR-some attractions! \nDates: 5 January – 27 March\nOpening days: Friday to Monday (excluding February half-term)\nTimes: 10:00am – 4:30pm \nPrice: £15 per person (for guests 90cm and over; included with Annual Pass) \nPerfect for winter days out\, ROARR! Indoor offers big adventures and indoor fun for the whole family.
URL:https://norfolkevents.uk/event/roarr-indoor/
LOCATION:ROARR!\, Lenwade\, Norwich\, NR9 5JE
CATEGORIES:Children,Entertainment,Family
ATTACH;FMTTYPE=image/jpeg:https://norfolkevents.uk/wp-content/uploads/2025/12/250929_Dinomite-3-2.jpg
ORGANIZER;CN="ROARR!":MAILTO:guestservices@roarrda.co.uk
END:VEVENT
BEGIN:VEVENT
DTSTART;TZID=Europe/London:20260126T193000
DTEND;TZID=Europe/London:20260131T220000
DTSTAMP:20260422T151545
CREATED:20250605T185743Z
LAST-MODIFIED:20250605T185743Z
UID:10002910-1769455800-1769896800@norfolkevents.uk
SUMMARY:2:22 A Ghost Story
DESCRIPTION:Following seven West End seasons\, a record-breaking UK and Ireland tour and twelve productions across the globe\, the stage phenomenon 2:22 A Ghost Story returns to Norwich. \nWinner of BEST NEW PLAY at the WhatsOnStage Awards\, this edge-of-your-seat\, supernatural thriller is written by Danny Robins\, creator of the hit BBC podcasts Uncanny and The Battersea Poltergeist\, and has featured a host of acclaimed star performances (including Lily Allen\, Cheryl\, Stacey Dooley\, Tom Felton\, Jake Wood and James Buckley). It’s a brilliantly funny and adrenaline-filled night where secrets emerge and ghosts may or may not appear… What do you believe? And do you dare discover the truth? \n“THERE’S SOMETHING IN OUR HOUSE. I HEAR IT EVERY NIGHT\, AT THE SAME TIME” \nJenny believes her new home is haunted\, but her husband Sam isn’t having any of it. They argue with their first dinner guests\, old friend Lauren and new partner Ben. Can the dead really walk again? Belief and scepticism clash\, but something feels strange and frightening\, and that something is getting closer\, so they’re going to stay up… until 2:22… and then they’ll know. \nCasting to be announced.
URL:https://norfolkevents.uk/event/222-a-ghost-story/
LOCATION:Norwich Theatre Royal\, Theatre Street\, Norwich\, Norfolk\, NR2 1RL\, United Kingdom
CATEGORIES:Drama,Entertainment
ATTACH;FMTTYPE=image/png:https://norfolkevents.uk/wp-content/uploads/2025/06/Untitled-design-32.png
END:VEVENT
BEGIN:VEVENT
DTSTART;TZID=Europe/London:20260129T110000
DTEND;TZID=Europe/London:20260129T150000
DTSTAMP:20260422T151545
CREATED:20251229T160023Z
LAST-MODIFIED:20260116T225018Z
UID:10012995-1769684400-1769698800@norfolkevents.uk
SUMMARY:Toddler Thursdays at ROARR!
DESCRIPTION:Toddler Thursdays are a NEW midweek experience at ROARR! designed especially for pre-school children. Taking place every Thursday during term time from January to April\, these sessions offer age-appropriate play and relaxed family fun. \nWhat’s included:\n– Dinomite Indoor Soft Play\n– DippyVille toddler play area\n– Outdoor play in Dippy’s Land\n– A special Toddler Thursday menu in the Dinomite Café \nWhen:\nEvery Thursday (term time\, Jan–April)\n11:00 am – 3:00 pm \nPricing:\nFrom £10 for one adult and one pre-school child\nFree entry for Annual Pass holders \nToddler Thursdays provide a calm\, engaging environment ideal for younger children to explore\, play and enjoy their first adventures at ROARR!
URL:https://norfolkevents.uk/event/toddler-thursdays-at-roarr/2026-01-29/
LOCATION:ROARR!\, Lenwade\, Norwich\, NR9 5JE
CATEGORIES:Children,Entertainment,Family
ATTACH;FMTTYPE=image/png:https://norfolkevents.uk/wp-content/uploads/2025/12/Untitled-design-12.png
ORGANIZER;CN="ROARR!":MAILTO:marketing@roarr.co.uk
END:VEVENT
END:VCALENDAR