BEGIN:VCALENDAR
VERSION:2.0
PRODID:-//Norfolk Events - ECPv6.15.20//NONSGML v1.0//EN
CALSCALE:GREGORIAN
METHOD:PUBLISH
X-WR-CALNAME:Norfolk Events
X-ORIGINAL-URL:https://norfolkevents.uk
X-WR-CALDESC:Events for Norfolk Events
REFRESH-INTERVAL;VALUE=DURATION:PT1H
X-Robots-Tag:noindex
X-PUBLISHED-TTL:PT1H
BEGIN:VTIMEZONE
TZID:Europe/London
BEGIN:DAYLIGHT
TZOFFSETFROM:+0000
TZOFFSETTO:+0100
TZNAME:BST
DTSTART:20240331T010000
END:DAYLIGHT
BEGIN:STANDARD
TZOFFSETFROM:+0100
TZOFFSETTO:+0000
TZNAME:GMT
DTSTART:20241027T010000
END:STANDARD
BEGIN:DAYLIGHT
TZOFFSETFROM:+0000
TZOFFSETTO:+0100
TZNAME:BST
DTSTART:20250330T010000
END:DAYLIGHT
BEGIN:STANDARD
TZOFFSETFROM:+0100
TZOFFSETTO:+0000
TZNAME:GMT
DTSTART:20251026T010000
END:STANDARD
BEGIN:DAYLIGHT
TZOFFSETFROM:+0000
TZOFFSETTO:+0100
TZNAME:BST
DTSTART:20260329T010000
END:DAYLIGHT
BEGIN:STANDARD
TZOFFSETFROM:+0100
TZOFFSETTO:+0000
TZNAME:GMT
DTSTART:20261025T010000
END:STANDARD
BEGIN:DAYLIGHT
TZOFFSETFROM:+0000
TZOFFSETTO:+0100
TZNAME:BST
DTSTART:20270328T010000
END:DAYLIGHT
BEGIN:STANDARD
TZOFFSETFROM:+0100
TZOFFSETTO:+0000
TZNAME:GMT
DTSTART:20271031T010000
END:STANDARD
END:VTIMEZONE
BEGIN:VEVENT
DTSTART;TZID=Europe/London:20251213T140000
DTEND;TZID=Europe/London:20260104T190000
DTSTAMP:20260422T094332
CREATED:20250604T195030Z
LAST-MODIFIED:20251204T163236Z
UID:10002865-1765634400-1767553200@norfolkevents.uk
SUMMARY:Wizard of Oz - The Pantomime
DESCRIPTION:Fly over the rainbow this Christmas and defy gravity with our exciting pantomime The Wizard of Oz. \nJoin Dorothy and Toto as they go on a magical adventure from Sheringham to the Land of Oz. Along the way she makes new friends with the Scarecrow who longs for a brain\, the Tin Man who really wants a heart and the Cowardly Lion who is desperate to be brave and have some courage. Dorothy needs to find her way home\, but it’s not going to be easy with the Wicked Witch of the West keeping a close eye on her! Will the Great and Powerful Oz and Glinda the Good be able to help? \nFrom the team who brought you last year’s sell out success “Robin Hood”. This spectacular\, colourful story is packed with hilarious jokes\, dazzling dance routines\, toe tapping tunes\, glittering scenery\, cheeky Munchkins\, immersive entertainment and plenty of fun for all the family! \nSo\, tap your heels three times and say “There’s no place like Sheringham Panto!”
URL:https://norfolkevents.uk/event/wizard-of-oz-the-pantomime/
LOCATION:Sheringham Little Theatre\, 2 Station Road\, Sheringham\, NR26 8RE\, United Kingdom
CATEGORIES:Children,Christmas,Comedy,Comedy and entertainment,Entertainment,Family,Musicals,School Holidays,Theatre
ATTACH;FMTTYPE=image/jpeg:https://norfolkevents.uk/wp-content/uploads/2025/06/The-Wizard-of-Oz-Poster-1632x1056px-APR.jpg
END:VEVENT
BEGIN:VEVENT
DTSTART;TZID=Europe/London:20251231T140000
DTEND;TZID=Europe/London:20260101T130000
DTSTAMP:20260422T094332
CREATED:20250818T135027Z
LAST-MODIFIED:20251220T220003Z
UID:10006993-1767189600-1767272400@norfolkevents.uk
SUMMARY:New Year's Eve Murder Mystery
DESCRIPTION:Master criminals are turning up dead on golf courses with golden tees in their eyes\, and when MI6 receives one marked “007\,” M gathers the remaining villains at Barnham Broom on NYE to solve the mystery… \nYour overnight stay includes: \nArrive from 2pm to a Prosecco Afternoon Tea \nFour Course Dinner (view Menu) \n007 Murder mystery – ‘The Man Who Holed In One’ \nParty the night away until 2am with our resident DJ \nBrunch on your departure day. \nLate check out 1pm \nFrom just £249 per person for over night stay\, or from £99 for evening only ticket
URL:https://norfolkevents.uk/event/new-years-eve-murder-mystery/
LOCATION:Barnham Broom\, Barnham Broom\, Honingham Road\, Norwich\, Norfolk\, Norwich\, NR9 4DD\, United Kingdom
CATEGORIES:Comedy and entertainment,Entertainment,Food,New Year's Eve
ATTACH;FMTTYPE=image/png:https://norfolkevents.uk/wp-content/uploads/2025/08/Untitled-59.4-x-42-cm.png
END:VEVENT
BEGIN:VEVENT
DTSTART;TZID=Europe/London:20251231T180000
DTEND;TZID=Europe/London:20260101T010000
DTSTAMP:20260422T094332
CREATED:20250828T201513Z
LAST-MODIFIED:20251220T220135Z
UID:10008640-1767204000-1767229200@norfolkevents.uk
SUMMARY:Sprowston Manor Hotel's New Years Eve Celebrations
DESCRIPTION:Get ready to eat\, drink\, and celebrate in style!\nThis New Year’s Eve\, join us at the stunning Sprowston Manor Hotel for an unforgettable night of sparkle\, laughter\, and celebration as we count down to midnight in true party style.\nRaise a glass to 2025!\nStep into a night of celebration this New Year’s Eve at our historic manor\, as we host a Great British Bash to welcome the new year in style.\nCelebrate with friends\, family\, or someone special and enjoy:\nA sumptuous festive buffet\nDJ & Disco to keep the dance floor alive until the early hours\nCasino tables and a PhotoBooth to capture every moment\nSparkling décor in a truly luxurious setting\nWith limited availability for this exclusive event\, secure your place now for a night you’ll remember long after the clock strikes midnight.
URL:https://norfolkevents.uk/event/sprowston-manor-hotels-new-years-eve-celebrations/
LOCATION:Sprowston Manor Hotel\, Sprowston Manor Hotel\, Wroxham Road\, Norwich\, NR7 8RP
CATEGORIES:Entertainment,New Year's Eve
ATTACH;FMTTYPE=image/png:https://norfolkevents.uk/wp-content/uploads/2025/08/SM-CHRISTMAS-2025-2.png
ORGANIZER;CN="Sprowston Manor Hotel":MAILTO:wedding763@theelievenueselection.com
END:VEVENT
BEGIN:VEVENT
DTSTART;TZID=Europe/London:20251231T190000
DTEND;TZID=Europe/London:20260101T003000
DTSTAMP:20260422T094332
CREATED:20251026T215559Z
LAST-MODIFIED:20251220T220119Z
UID:10010224-1767207600-1767227400@norfolkevents.uk
SUMMARY:New Years Celebration
DESCRIPTION:An evening of live jazz and champagne at Morston Hall Hotel
URL:https://norfolkevents.uk/event/new-years-celebration/
LOCATION:Morston Hall\, Morston hall hotel\, Holt\, Nr257aa
CATEGORIES:Entertainment,New Year's Eve
ATTACH;FMTTYPE=image/jpeg:https://norfolkevents.uk/wp-content/uploads/2025/10/Screenshot_26-10-2025_215245_www.instagram.com_.jpeg
END:VEVENT
END:VCALENDAR