BEGIN:VCALENDAR
VERSION:2.0
PRODID:-//Norfolk Events - ECPv6.15.20//NONSGML v1.0//EN
CALSCALE:GREGORIAN
METHOD:PUBLISH
X-WR-CALNAME:Norfolk Events
X-ORIGINAL-URL:https://norfolkevents.uk
X-WR-CALDESC:Events for Norfolk Events
REFRESH-INTERVAL;VALUE=DURATION:PT1H
X-Robots-Tag:noindex
X-PUBLISHED-TTL:PT1H
BEGIN:VTIMEZONE
TZID:Europe/London
BEGIN:DAYLIGHT
TZOFFSETFROM:+0000
TZOFFSETTO:+0100
TZNAME:BST
DTSTART:20240331T010000
END:DAYLIGHT
BEGIN:STANDARD
TZOFFSETFROM:+0100
TZOFFSETTO:+0000
TZNAME:GMT
DTSTART:20241027T010000
END:STANDARD
BEGIN:DAYLIGHT
TZOFFSETFROM:+0000
TZOFFSETTO:+0100
TZNAME:BST
DTSTART:20250330T010000
END:DAYLIGHT
BEGIN:STANDARD
TZOFFSETFROM:+0100
TZOFFSETTO:+0000
TZNAME:GMT
DTSTART:20251026T010000
END:STANDARD
BEGIN:DAYLIGHT
TZOFFSETFROM:+0000
TZOFFSETTO:+0100
TZNAME:BST
DTSTART:20260329T010000
END:DAYLIGHT
BEGIN:STANDARD
TZOFFSETFROM:+0100
TZOFFSETTO:+0000
TZNAME:GMT
DTSTART:20261025T010000
END:STANDARD
END:VTIMEZONE
BEGIN:VEVENT
DTSTART;TZID=Europe/London:20251129T100000
DTEND;TZID=Europe/London:20251129T170000
DTSTAMP:20260419T200543
CREATED:20251023T190952Z
LAST-MODIFIED:20251023T190952Z
UID:10010220-1764410400-1764435600@norfolkevents.uk
SUMMARY:North Wootton Christmas Fair
DESCRIPTION:🎄 Festive Cheer Returns – Christmas Fair\, Saturday 29th November \nThe countdown to Christmas has begun! ✨\nWe’re thrilled to share that the North Wootton Village Hall Christmas Fair will return on Saturday 29th November\, from 10am to 5pm – and it’s shaping up to be our most magical fair yet. \nNow in its eighth year\, the Christmas Fair has become a much-loved local tradition\, marking the official start of the festive season. The hall will be packed with beautiful stalls selling handcrafted gifts\, decorations\, and local food and drink — perfect for ticking a few names off your Christmas list! \n🎁 Highlights include:\n* Freshly cut Christmas trees available to buy\n* Live music and entertainment from The Jingle Elves\, Kelly Ann Music and Claire Scollay\n* A special visit from Father Christmas’s reindeer 🦌 (free to see!)\n* A festive raffle with prizes donated by local businesses\n* Hot drinks and refreshments to keep you warm while you browse \n🍷 New for 2025! Enjoy mulled wine and a warm mince pie served in our exclusive collectible Glühwein mugs — yours to take home as a festive keepsake (or to start your annual collection!). \nThis year\, we’ve applied for a road closure to help make space for more stalls\, entertainment\, and festive fun than ever before — so expect a truly bustling\, village-wide celebration! \nThe day will conclude with the official switch-on of the Village Hall Christmas lights\, joined this year by The Mayor of King’s Lynn and West Norfolk\, Councillor Andy Bullen. \n🎅 Save the date – Saturday 29th November\, 10am–5pm\nParking will be available at The Woottons Surgery on Priory Lane\, and the hall is accessible via the North Wootton 3 Go To Town bus service. \nAll proceeds go directly towards the upkeep and improvement of North Wootton Village Hall\, helping us keep community events like this going year after year.
URL:https://norfolkevents.uk/event/north-wootton-christmas-fair/
LOCATION:North Wootton Village Hall\, Priory Lane\, North Wootton\, PE30 3PT\, United Kingdom
CATEGORIES:Charity/Fundraising,Christmas,Community,Craft Fairs,Entertainment,Family,Makers Markets
ATTACH;FMTTYPE=image/jpeg:https://norfolkevents.uk/wp-content/uploads/2025/10/19201080-North-Wootton-Village-Hall-Christmas-Fair-2025.jpg
ORGANIZER;CN="North Wootton Village Hall":MAILTO:events@northwoottonvillagehall.org.uk
END:VEVENT
BEGIN:VEVENT
DTSTART;TZID=Europe/London:20251129T140000
DTEND;TZID=Europe/London:20251129T183000
DTSTAMP:20260419T200543
CREATED:20251029T210808Z
LAST-MODIFIED:20251029T210808Z
UID:10010232-1764424800-1764441000@norfolkevents.uk
SUMMARY:Diss Christmas Lights Switch On
DESCRIPTION:Diss Christmas Lights Switch-On 2025 — Join us on Saturday 29th November (2–6:30pm) for a sparkling day of festive fun\, live music\, delicious food\, family activities\, and the magical 6pm lights countdown with Santa and friends — let’s light up Diss together this Christmas!
URL:https://norfolkevents.uk/event/diss-christmas-lights-switch-on/
LOCATION:Diss Marketplace\, Market Place\, Diss\, IP22 4AB
CATEGORIES:Christmas,Entertainment,Family,Food
ATTACH;FMTTYPE=image/jpeg:https://norfolkevents.uk/wp-content/uploads/2025/10/Christmas-Lights-logo.jpg
ORGANIZER;CN="Diss Town Council":MAILTO:towncouncil@diss.gov.uk
END:VEVENT
BEGIN:VEVENT
DTSTART;TZID=Europe/London:20251129T163000
DTEND;TZID=Europe/London:20251129T210000
DTSTAMP:20260419T200543
CREATED:20251103T213525Z
LAST-MODIFIED:20251124T211220Z
UID:10010313-1764433800-1764450000@norfolkevents.uk
SUMMARY:Festive Forest Fables: Cinderella
DESCRIPTION:A magical fairytale like you’ve never seen before! \nWander through an illuminated woodland wonderland filled with glittering lights\, theatrical elements\, and magical surprises inspired by Norwich Theatre’s Cinderella\, where you might just become a part of the story! \nAlong the way\, you’ll meet familiar characters\, cheeky performers\, and larger-than-life props\, as Festive Forest Fables tells its own sparkling version of the fairytale. \nWill the glass slipper fit? Will true love triumph? And will Buttons ever stop talking? There’s only one way to find out… oh\, yes\, there is! \nPerfect for children aged 3+ and grown-ups alike. \nWhat to expect \nAn immersive Cinderella walkthrough adventure\nPhoto opportunities\nAccess to the Illuminated Forest\nExtend the magic \nVisit Father Christmas in his grotto (additional charge)\nExplore the festive Christmas Market at Sparkle\nFree entry to children under 90cm in height. \nPlease allow up to an hour for this experience. \nRunning on selected dates from 4.30pm to 9pm. Sparkle at ROARR! will close at 10pm. \nThis dazzling event is brought to you by Norwich Theatre and ROARR! in a new magical collaboration. \nGet your tickets now before they vanish at midnight!
URL:https://norfolkevents.uk/event/festive-forest-fables-cinderella/2025-11-29/
LOCATION:ROARR!\, Lenwade\, Norwich\, NR9 5JE
CATEGORIES:Christmas,Entertainment,Family
ATTACH;FMTTYPE=image/png:https://norfolkevents.uk/wp-content/uploads/2025/11/FFF-1280x940-1.png
END:VEVENT
BEGIN:VEVENT
DTSTART;TZID=Europe/London:20251129T190000
DTEND;TZID=Europe/London:20251130T003000
DTSTAMP:20260419T200543
CREATED:20250612T192404Z
LAST-MODIFIED:20250612T192404Z
UID:10004208-1764442800-1764462600@norfolkevents.uk
SUMMARY:A Christmas Night At The Theatre
DESCRIPTION:Now in its fourth glittering year\, Norwich Theatre proudly invites you to a night of festive elegance and unforgettable celebration. Step into a world of winter magic as we transform the theatre into your ultimate Christmas party destination. \nCelebrate the season with an evening designed to dazzle – from the first sip of your welcome cocktail to the last dance under the disco lights. Whether you’re planning a festive night out with colleagues or a special evening with friends\, this is your perfect way to kick off Christmas 2025. \nIncluded in your festive offering \n• Red carpet arrival with a keepsake group photo\n• Prosecco cocktail on reception\n• Festive sounds on arrival courtesy of a live saxophonist\n• A sumptuous three course Christmas menu\n• An allocation of wine served to your table\n• Festive surprises waiting at your table\n• Entertainment delivered right to your seat\n• DJ\, dancefloor and magical moments throughout the night
URL:https://norfolkevents.uk/event/a-christmas-night-at-the-theatre/2025-11-29/
LOCATION:Norwich Theatre Royal\, Theatre Street\, Norwich\, Norfolk\, NR2 1RL\, United Kingdom
CATEGORIES:Entertainment
ATTACH;FMTTYPE=image/jpeg:https://norfolkevents.uk/wp-content/uploads/2025/06/CATT-1280x940-2.jpg
END:VEVENT
END:VCALENDAR