BEGIN:VCALENDAR
VERSION:2.0
PRODID:-//Norfolk Events - ECPv6.15.20//NONSGML v1.0//EN
CALSCALE:GREGORIAN
METHOD:PUBLISH
X-ORIGINAL-URL:https://norfolkevents.uk
X-WR-CALDESC:Events for Norfolk Events
REFRESH-INTERVAL;VALUE=DURATION:PT1H
X-Robots-Tag:noindex
X-PUBLISHED-TTL:PT1H
BEGIN:VTIMEZONE
TZID:Europe/London
BEGIN:DAYLIGHT
TZOFFSETFROM:+0000
TZOFFSETTO:+0100
TZNAME:BST
DTSTART:20240331T010000
END:DAYLIGHT
BEGIN:STANDARD
TZOFFSETFROM:+0100
TZOFFSETTO:+0000
TZNAME:GMT
DTSTART:20241027T010000
END:STANDARD
BEGIN:DAYLIGHT
TZOFFSETFROM:+0000
TZOFFSETTO:+0100
TZNAME:BST
DTSTART:20250330T010000
END:DAYLIGHT
BEGIN:STANDARD
TZOFFSETFROM:+0100
TZOFFSETTO:+0000
TZNAME:GMT
DTSTART:20251026T010000
END:STANDARD
BEGIN:DAYLIGHT
TZOFFSETFROM:+0000
TZOFFSETTO:+0100
TZNAME:BST
DTSTART:20260329T010000
END:DAYLIGHT
BEGIN:STANDARD
TZOFFSETFROM:+0100
TZOFFSETTO:+0000
TZNAME:GMT
DTSTART:20261025T010000
END:STANDARD
END:VTIMEZONE
BEGIN:VEVENT
DTSTART;TZID=Europe/London:20251128T163000
DTEND;TZID=Europe/London:20251128T210000
DTSTAMP:20260419T220158
CREATED:20251103T213525Z
LAST-MODIFIED:20251124T211220Z
UID:10010312-1764347400-1764363600@norfolkevents.uk
SUMMARY:Festive Forest Fables: Cinderella
DESCRIPTION:A magical fairytale like you’ve never seen before! \nWander through an illuminated woodland wonderland filled with glittering lights\, theatrical elements\, and magical surprises inspired by Norwich Theatre’s Cinderella\, where you might just become a part of the story! \nAlong the way\, you’ll meet familiar characters\, cheeky performers\, and larger-than-life props\, as Festive Forest Fables tells its own sparkling version of the fairytale. \nWill the glass slipper fit? Will true love triumph? And will Buttons ever stop talking? There’s only one way to find out… oh\, yes\, there is! \nPerfect for children aged 3+ and grown-ups alike. \nWhat to expect \nAn immersive Cinderella walkthrough adventure\nPhoto opportunities\nAccess to the Illuminated Forest\nExtend the magic \nVisit Father Christmas in his grotto (additional charge)\nExplore the festive Christmas Market at Sparkle\nFree entry to children under 90cm in height. \nPlease allow up to an hour for this experience. \nRunning on selected dates from 4.30pm to 9pm. Sparkle at ROARR! will close at 10pm. \nThis dazzling event is brought to you by Norwich Theatre and ROARR! in a new magical collaboration. \nGet your tickets now before they vanish at midnight!
URL:https://norfolkevents.uk/event/festive-forest-fables-cinderella/2025-11-28/
LOCATION:ROARR!\, Lenwade\, Norwich\, NR9 5JE
CATEGORIES:Christmas,Entertainment,Family
ATTACH;FMTTYPE=image/png:https://norfolkevents.uk/wp-content/uploads/2025/11/FFF-1280x940-1.png
END:VEVENT
BEGIN:VEVENT
DTSTART;TZID=Europe/London:20251128T190000
DTEND;TZID=Europe/London:20251129T003000
DTSTAMP:20260419T220158
CREATED:20250612T192404Z
LAST-MODIFIED:20250612T192404Z
UID:10004198-1764356400-1764376200@norfolkevents.uk
SUMMARY:A Christmas Night At The Theatre
DESCRIPTION:Now in its fourth glittering year\, Norwich Theatre proudly invites you to a night of festive elegance and unforgettable celebration. Step into a world of winter magic as we transform the theatre into your ultimate Christmas party destination. \nCelebrate the season with an evening designed to dazzle – from the first sip of your welcome cocktail to the last dance under the disco lights. Whether you’re planning a festive night out with colleagues or a special evening with friends\, this is your perfect way to kick off Christmas 2025. \nIncluded in your festive offering \n• Red carpet arrival with a keepsake group photo\n• Prosecco cocktail on reception\n• Festive sounds on arrival courtesy of a live saxophonist\n• A sumptuous three course Christmas menu\n• An allocation of wine served to your table\n• Festive surprises waiting at your table\n• Entertainment delivered right to your seat\n• DJ\, dancefloor and magical moments throughout the night
URL:https://norfolkevents.uk/event/a-christmas-night-at-the-theatre/2025-11-28/
LOCATION:Norwich Theatre Royal\, Theatre Street\, Norwich\, Norfolk\, NR2 1RL\, United Kingdom
CATEGORIES:Entertainment
ATTACH;FMTTYPE=image/jpeg:https://norfolkevents.uk/wp-content/uploads/2025/06/CATT-1280x940-2.jpg
END:VEVENT
END:VCALENDAR