BEGIN:VCALENDAR
VERSION:2.0
PRODID:-//Norfolk Events - ECPv6.15.20//NONSGML v1.0//EN
CALSCALE:GREGORIAN
METHOD:PUBLISH
X-ORIGINAL-URL:https://norfolkevents.uk
X-WR-CALDESC:Events for Norfolk Events
REFRESH-INTERVAL;VALUE=DURATION:PT1H
X-Robots-Tag:noindex
X-PUBLISHED-TTL:PT1H
BEGIN:VTIMEZONE
TZID:Europe/London
BEGIN:DAYLIGHT
TZOFFSETFROM:+0000
TZOFFSETTO:+0100
TZNAME:BST
DTSTART:20240331T010000
END:DAYLIGHT
BEGIN:STANDARD
TZOFFSETFROM:+0100
TZOFFSETTO:+0000
TZNAME:GMT
DTSTART:20241027T010000
END:STANDARD
BEGIN:DAYLIGHT
TZOFFSETFROM:+0000
TZOFFSETTO:+0100
TZNAME:BST
DTSTART:20250330T010000
END:DAYLIGHT
BEGIN:STANDARD
TZOFFSETFROM:+0100
TZOFFSETTO:+0000
TZNAME:GMT
DTSTART:20251026T010000
END:STANDARD
BEGIN:DAYLIGHT
TZOFFSETFROM:+0000
TZOFFSETTO:+0100
TZNAME:BST
DTSTART:20260329T010000
END:DAYLIGHT
BEGIN:STANDARD
TZOFFSETFROM:+0100
TZOFFSETTO:+0000
TZNAME:GMT
DTSTART:20261025T010000
END:STANDARD
END:VTIMEZONE
BEGIN:VEVENT
DTSTART;TZID=Europe/London:20251111T193000
DTEND;TZID=Europe/London:20251111T220000
DTSTAMP:20260421T001550
CREATED:20250612T190743Z
LAST-MODIFIED:20250612T190743Z
UID:10004174-1762889400-1762898400@norfolkevents.uk
SUMMARY:Kevin Quantum: Unbelievable Magic for Non-Believers
DESCRIPTION:Sceptical? Good. We’re here to blow your mind right open. In the first-ever magic show made for people who don’t believe in magic\, Kevin dares you to see the impossible\, transforming your scepticism to belief\, even using science to deceive you… in the way only a former Physics PhD could. \nWith over a decade of Edinburgh Fringe sell-outs\, performances around Europe and tours of Australia\, Kevin embarks on his second UK tour with an entrancing collection of astounding magic\, stunning sleight-of-hand and beautiful (yet deadly) stunts in a show – inspired by science but targeted at humans. \nScottish Comedy Award nominee; trained by Penn & Teller. Expect big gasps and raw\, unfiltered magic from a world-class showman. \nThink you know what’s real? Think again.
URL:https://norfolkevents.uk/event/kevin-quantum-unbelievable-magic-for-non-believers/
LOCATION:Norwich Theatre Playhouse\, 42-58 St Georges Street\, Norwich\, Norfolk\, NR3 1AB\, United Kingdom
CATEGORIES:Entertainment
ATTACH;FMTTYPE=image/png:https://norfolkevents.uk/wp-content/uploads/2025/06/KQ-NE.png
END:VEVENT
END:VCALENDAR